PDS_VERSION_ID = PDS3
/* FILE DATA ELEMENTS */
RECORD_TYPE = UNDEFINED
/* POINTERS TO DATA OBJECTS */
^IMAGE = ("H5406_0001_GR4.TIF")
/* IDENTIFICATION DATA ELEMENTS */
DATA_SET_ID = "MEX-M-HRSC-4-REFDR-MAPPROJECT-EXT2-V4.0"
DATA_SET_NAME = "MARS EXPRESS HRSC MAP PROJECTED REFDR EXTENSION2 V4.0"
DETECTOR_ID = MEX_HRSC_GREEN
EVENT_TYPE = "MARS-LOCAL-STEREO-Vo-Gl-Pf"
INSTRUMENT_HOST_ID = MEX
INSTRUMENT_HOST_NAME = "MARS EXPRESS"
INSTRUMENT_ID = HRSC
INSTRUMENT_NAME = "HIGH RESOLUTION STEREO CAMERA"
MISSION_NAME = "MARS EXPRESS"
MISSION_PHASE_NAME = ME_Phase_11
PROCESSING_LEVEL_ID = 4
PRODUCT_CREATION_TIME = 2023-02-02T05:41:08.000Z
PRODUCT_ID = "H5406_0001_GR4.TIF"
RELEASE_ID = 0002
REVISION_ID = 0000
/* QUALITY DATA ELEMENTS */
DATA_QUALITY_ID = 1
DATA_QUALITY_DESC = "Data calculated based on original SPICE kernels"
/* TIME DATA ELEMENTS */
SPACECRAFT_CLOCK_START_COUNT = "1/0153902640.08251"
SPACECRAFT_CLOCK_STOP_COUNT = "1/0153902821.24630"
START_TIME = 2008-03-18T06:44:33.000Z
STOP_TIME = 2008-03-18T06:46:10.309Z
/* ORBITAL DATA ELEMENTS */
ASCENDING_NODE_LONGITUDE = 115.76
MAXIMUM_RESOLUTION = 0.1278
FOOTPRINT_POINT_LATITUDE = (36.2126,36.2078,36.2029,36.1984, 36.1933,36.1877,36.1831,36.1827,36.1695 ,35.937,35.7048,35.4727,35.2408,34.9511 ,34.7195,34.4882,34.2572,34.0262, 33.9081,33.7898,33.6714,33.553,33.4348, 33.3167,33.1396,33.0216,32.9036,32.7268 ,32.6063,32.4855,32.3044,32.1233, 32.0026,31.8821,31.7013,31.5207,31.3361 ,31.2128,31.0894,30.9662,30.843,30.7199 ,30.5969,30.4126,30.2881,30.1623, 30.0994,30.0647,30.0695,30.0718,30.0743 ,30.0774,30.0797,30.0806,30.0816, 30.0817,30.0838,30.2099,30.3986,30.5219 ,30.6452,30.7687,30.8923,31.0164, 31.1404,31.3265,31.4506,31.5733,31.6943 ,31.8153,31.9361,32.0559,32.1764, 32.2968,32.4175,32.5991,32.7204,32.8384 ,32.9562,33.1333,33.2516,33.4293, 33.5478,33.6664,33.785,33.9037,34.0808, 34.3123,34.5439,34.7758,35.0078,35.24, 35.4724,35.5886,35.7049,35.8212,35.9376 ,36.1123,36.1705,36.2126)
FOOTPRINT_POINT_LONGITUDE = (148.869,148.48,148.169,147.919,147.668 ,147.417,147.228,147.213,147.173, 147.179,147.184,147.189,147.194,147.199 ,147.203,147.208,147.212,147.216, 147.218,147.22,147.222,147.224,147.226, 147.228,147.231,147.232,147.234,147.237 ,147.239,147.24,147.243,147.245,147.247 ,147.248,147.25,147.252,147.254,147.255 ,147.256,147.257,147.258,147.259,147.26 ,147.262,147.263,147.264,147.264, 147.264,147.563,147.73,147.929,148.245, 148.561,148.761,149.01,149.026,149.037, 149.035,149.031,149.028,149.025,149.023 ,149.019,149.016,149.012,149.007, 149.004,149.0,148.997,148.994,148.991, 148.99,148.989,148.987,148.985,148.981, 148.978,148.976,148.974,148.97,148.967, 148.963,148.96,148.957,148.954,148.95, 148.946,148.94,148.933,148.927,148.921, 148.914,148.908,148.904,148.901,148.898 ,148.894,148.889,148.887,148.869)
ORBIT_NUMBER = 5406
ORBITAL_ECCENTRICITY = 0.57
ORBITAL_INCLINATION = 86.74
ORBITAL_SEMIMAJOR_AXIS = 8668.24
PERIAPSIS_ALTITUDE = 347.16
PERIAPSIS_ARGUMENT_ANGLE = 127.26
PERIAPSIS_TIME = 2008-03-18T06:40:23.000Z
SPACECRAFT_ORIENTATION = (0.0,-1.0,0.0)
^MEX_ORIENTATION_DESC = "MEX_ORIENTATION_DESC.TXT"
SPACECRAFT_POINTING_MODE = ACROSSTRACK
^MEX_POINTING_DESC = "MEX_POINTING_DESC.TXT"
RIGHT_ASCENSION = -1e+32
DECLINATION = -1e+32
OFFSET_ANGLE = -0.2
SPACECRAFT_SOLAR_DISTANCE = 2.46932e+08
TARGET_NAME = MARS
/* CAMERA DATA ELEMENTS */
DETECTOR_TEMPERATURE = 18.9822
FOCAL_PLANE_TEMPERATURE = 8.3794
INST_CMPRS_NAME = "DISCRETE COSINE TRANSFORMATION (DCT)"
INST_CMPRS_RATIO = 17.4099
INST_CMPRS_QUALITY = 0
INST_CMPRS_QUANTZ_TBL_ID = 0
INSTRUMENT_TEMPERATURE = 12.4574
LENS_TEMPERATURE = 8.7872
MACROPIXEL_SIZE = 8
MISSING_FRAMES = 0
PIXEL_SUBSAMPLING_FLAG = N
SIGNAL_CHAIN_ID = 2
/* RADIOMETRIC DATA ELEMENTS */
BANDWIDTH = 88.0
CENTER_FILTER_WAVELENGTH = 538.0
RADIANCE_OFFSET = 2.05873
RADIANCE_SCALING_FACTOR = 0.00491427
REFLECTANCE_SCALING_FACTOR = 0.000257991
MEX:REFLECTANCE_OFFSET = 0.10808
/* IMAGE OBJECT DEFINITIONS */
OBJECT = IMAGE
  INTERCHANGE_FORMAT = BINARY
  LINES = 3630
  LINE_SAMPLES = 945
  SAMPLE_TYPE = UNSIGNED_INTEGER
  SAMPLE_BITS = 8
  BANDS = 1
  BAND_STORAGE_TYPE = BAND_SEQUENTIAL
  MAXIMUM = 255
  MEAN = 123.428
  MINIMUM = 1
  STANDARD_DEVIATION = 27.3612
END_OBJECT = IMAGE
/* MAP OBJECT DEFINITIONS */
OBJECT = IMAGE_MAP_PROJECTION
  ^DATA_SET_MAP_PROJECTION_CATALOG= "DSMAP.CAT"
  A_AXIS_RADIUS = 3396.0
  B_AXIS_RADIUS = 3396.0
  C_AXIS_RADIUS = 3396.0
  CENTER_LATITUDE = 0.0
  CENTER_LONGITUDE = 148.0
  COORDINATE_SYSTEM_NAME = PLANETOGRAPHIC
  COORDINATE_SYSTEM_TYPE = "BODY-FIXED ROTATING"
  EASTERNMOST_LONGITUDE = 149.037
  FIRST_STANDARD_PARALLEL = "N/A"
  LINE_FIRST_PIXEL = 1
  LINE_LAST_PIXEL = 3630
  LINE_PROJECTION_OFFSET = 21457.6875
  MAP_PROJECTION_ROTATION = 0.0
  MAP_PROJECTION_TYPE = SINUSOIDAL
  MAP_RESOLUTION = 592.713803866667
  MAP_SCALE = 0.1
  MAXIMUM_LATITUDE = 36.2126
  MINIMUM_LATITUDE = 30.0647
  POSITIVE_LONGITUDE_DIRECTION = EAST
  REFERENCE_LATITUDE = "N/A"
  REFERENCE_LONGITUDE = "N/A"
  SAMPLE_FIRST_PIXEL = 1
  SAMPLE_LAST_PIXEL = 945
  SAMPLE_PROJECTION_OFFSET = 407.4375
  SECOND_STANDARD_PARALLEL = "N/A"
  WESTERNMOST_LONGITUDE = 147.173
END_OBJECT = IMAGE_MAP_PROJECTION
END
