PDS_VERSION_ID = PDS3
/* FILE DATA ELEMENTS */
RECORD_TYPE = UNDEFINED
/* POINTERS TO DATA OBJECTS */
^IMAGE = ("H5404_0000_S24.TIF")
/* IDENTIFICATION DATA ELEMENTS */
DATA_SET_ID = "MEX-M-HRSC-4-REFDR-MAPPROJECT-EXT2-V4.0"
DATA_SET_NAME = "MARS EXPRESS HRSC MAP PROJECTED REFDR EXTENSION2 V4.0"
DETECTOR_ID = MEX_HRSC_S2
EVENT_TYPE = "MARS-REGIONAL-MAPPING-Im-Pf-Mw"
INSTRUMENT_HOST_ID = MEX
INSTRUMENT_HOST_NAME = "MARS EXPRESS"
INSTRUMENT_ID = HRSC
INSTRUMENT_NAME = "HIGH RESOLUTION STEREO CAMERA"
MISSION_NAME = "MARS EXPRESS"
MISSION_PHASE_NAME = ME_Phase_11
PROCESSING_LEVEL_ID = 4
PRODUCT_CREATION_TIME = 2023-02-02T05:41:08.000Z
PRODUCT_ID = "H5404_0000_S24.TIF"
RELEASE_ID = 0002
REVISION_ID = 0000
/* QUALITY DATA ELEMENTS */
DATA_QUALITY_ID = 1
DATA_QUALITY_DESC = "Data calculated based on original SPICE kernels"
/* TIME DATA ELEMENTS */
SPACECRAFT_CLOCK_START_COUNT = "1/0153852869.07299"
SPACECRAFT_CLOCK_STOP_COUNT = "1/0153853190.55667"
START_TIME = 2008-03-17T16:55:48.478Z
STOP_TIME = 2008-03-17T16:59:52.629Z
/* ORBITAL DATA ELEMENTS */
ASCENDING_NODE_LONGITUDE = 115.81
MAXIMUM_RESOLUTION = 0.0299
FOOTPRINT_POINT_LATITUDE = (68.0988,68.0582,68.0114,67.9475, 67.9457,68.0705,67.5284,66.9852,66.6227 ,66.0785,65.7151,65.1701,64.8064, 64.4423,64.0917,63.7866,63.329,63.0234, 62.5655,62.2601,61.9543,61.4964,61.1911 ,60.7328,60.2747,59.9693,59.5111, 59.2059,58.9003,58.5952,58.29,57.8324, 57.5274,57.2222,56.9177,56.613,56.3088, 56.0046,55.7004,55.3964,54.9405,54.4848 ,54.1816,53.7271,53.4237,53.121,52.6668 ,52.3642,52.2141,52.198,52.2071,52.2201 ,52.2297,52.2405,52.2408,52.2413, 52.5444,52.8482,53.1527,53.4557,53.7603 ,54.0643,54.3694,54.6742,55.1319, 55.4372,55.8957,56.2015,56.6603,56.9667 ,57.273,57.5799,57.8866,58.1933,58.5002 ,58.9604,59.4212,59.8824,60.3441, 60.8057,61.1136,61.4213,61.729,62.0369, 62.4988,62.9604,63.4225,63.884,64.1925, 64.7279,65.2792,65.6467,66.0143,66.3816 ,66.7489,67.2996,67.6666,68.0337,68.217 ,68.0988)
FOOTPRINT_POINT_LONGITUDE = (345.54,344.461,343.378,342.084,342.05, 341.811,342.076,342.328,342.488,342.718 ,342.865,343.076,343.211,343.342, 343.463,343.565,343.714,343.81,343.948, 344.038,344.125,344.251,344.332,344.45, 344.563,344.636,344.743,344.811,344.878 ,344.943,345.007,345.099,345.158, 345.217,345.273,345.328,345.382,345.434 ,345.485,345.535,345.607,345.677, 345.722,345.787,345.83,345.871,345.932, 345.971,345.989,345.991,346.37,346.905, 347.377,348.002,348.021,348.028,348.003 ,347.978,347.951,347.925,347.898,347.87 ,347.841,347.812,347.768,347.737,347.69 ,347.658,347.609,347.575,347.54,347.505 ,347.468,347.431,347.393,347.335, 347.274,347.212,347.147,347.079,347.033 ,346.986,346.937,346.887,346.81,346.73, 346.647,346.561,346.502,346.395,346.279 ,346.199,346.116,346.03,345.941,345.802 ,345.706,345.606,345.554,345.54)
ORBIT_NUMBER = 5404
ORBITAL_ECCENTRICITY = 0.57
ORBITAL_INCLINATION = 86.75
ORBITAL_SEMIMAJOR_AXIS = 8666.69
PERIAPSIS_ALTITUDE = 346.45
PERIAPSIS_ARGUMENT_ANGLE = 127.59
PERIAPSIS_TIME = 2008-03-17T16:59:19.000Z
SPACECRAFT_ORIENTATION = (0.0,-1.0,0.0)
^MEX_ORIENTATION_DESC = "MEX_ORIENTATION_DESC.TXT"
SPACECRAFT_POINTING_MODE = ACROSSTRACK
^MEX_POINTING_DESC = "MEX_POINTING_DESC.TXT"
RIGHT_ASCENSION = -1e+32
DECLINATION = -1e+32
OFFSET_ANGLE = -0.35
SPACECRAFT_SOLAR_DISTANCE = 2.46885e+08
TARGET_NAME = MARS
/* CAMERA DATA ELEMENTS */
DETECTOR_TEMPERATURE = 18.3705
FOCAL_PLANE_TEMPERATURE = 7.9716
INST_CMPRS_NAME = "DISCRETE COSINE TRANSFORMATION (DCT)"
INST_CMPRS_RATIO = 14.9968
INST_CMPRS_QUALITY = 0
INST_CMPRS_QUANTZ_TBL_ID = 0
INSTRUMENT_TEMPERATURE = 11.0301
LENS_TEMPERATURE = 7.9716
MACROPIXEL_SIZE = 2
MISSING_FRAMES = 0
PIXEL_SUBSAMPLING_FLAG = N
SIGNAL_CHAIN_ID = 1
/* RADIOMETRIC DATA ELEMENTS */
BANDWIDTH = 178.0
CENTER_FILTER_WAVELENGTH = 679.0
RADIANCE_OFFSET = 3.57069
RADIANCE_SCALING_FACTOR = 0.0228109
REFLECTANCE_SCALING_FACTOR = 0.00073631
MEX:REFLECTANCE_OFFSET = 0.115258
/* IMAGE OBJECT DEFINITIONS */
OBJECT = IMAGE
  INTERCHANGE_FORMAT = BINARY
  LINES = 38129
  LINE_SAMPLES = 6677
  SAMPLE_TYPE = UNSIGNED_INTEGER
  SAMPLE_BITS = 8
  BANDS = 1
  BAND_STORAGE_TYPE = BAND_SEQUENTIAL
  MAXIMUM = 255
  MEAN = 67.5721
  MINIMUM = 1
  STANDARD_DEVIATION = 39.303
END_OBJECT = IMAGE
/* MAP OBJECT DEFINITIONS */
OBJECT = IMAGE_MAP_PROJECTION
  ^DATA_SET_MAP_PROJECTION_CATALOG= "DSMAP.CAT"
  A_AXIS_RADIUS = 3396.0
  B_AXIS_RADIUS = 3396.0
  C_AXIS_RADIUS = 3396.0
  CENTER_LATITUDE = 0.0
  CENTER_LONGITUDE = 346.0
  COORDINATE_SYSTEM_NAME = PLANETOGRAPHIC
  COORDINATE_SYSTEM_TYPE = "BODY-FIXED ROTATING"
  EASTERNMOST_LONGITUDE = 348.028
  FIRST_STANDARD_PARALLEL = "N/A"
  LINE_FIRST_PIXEL = 1
  LINE_LAST_PIXEL = 38129
  LINE_PROJECTION_OFFSET = 161758.25
  MAP_PROJECTION_ROTATION = 0.0
  MAP_PROJECTION_TYPE = SINUSOIDAL
  MAP_RESOLUTION = 2370.85521546667
  MAP_SCALE = 0.025
  MAXIMUM_LATITUDE = 68.217
  MINIMUM_LATITUDE = 52.198
  POSITIVE_LONGITUDE_DIRECTION = EAST
  REFERENCE_LATITUDE = "N/A"
  REFERENCE_LONGITUDE = "N/A"
  SAMPLE_FIRST_PIXEL = 1
  SAMPLE_LAST_PIXEL = 6677
  SAMPLE_PROJECTION_OFFSET = 3743.75
  SECOND_STANDARD_PARALLEL = "N/A"
  WESTERNMOST_LONGITUDE = 341.811
END_OBJECT = IMAGE_MAP_PROJECTION
END
