PDS_VERSION_ID = PDS3
/* FILE DATA ELEMENTS */
RECORD_TYPE = UNDEFINED
/* POINTERS TO DATA OBJECTS */
^IMAGE = ("H5404_0000_RE4.TIF")
/* IDENTIFICATION DATA ELEMENTS */
DATA_SET_ID = "MEX-M-HRSC-4-REFDR-MAPPROJECT-EXT2-V4.0"
DATA_SET_NAME = "MARS EXPRESS HRSC MAP PROJECTED REFDR EXTENSION2 V4.0"
DETECTOR_ID = MEX_HRSC_RED
EVENT_TYPE = "MARS-REGIONAL-MAPPING-Im-Pf-Mw"
INSTRUMENT_HOST_ID = MEX
INSTRUMENT_HOST_NAME = "MARS EXPRESS"
INSTRUMENT_ID = HRSC
INSTRUMENT_NAME = "HIGH RESOLUTION STEREO CAMERA"
MISSION_NAME = "MARS EXPRESS"
MISSION_PHASE_NAME = ME_Phase_11
PROCESSING_LEVEL_ID = 4
PRODUCT_CREATION_TIME = 2023-02-02T05:41:08.000Z
PRODUCT_ID = "H5404_0000_RE4.TIF"
RELEASE_ID = 0002
REVISION_ID = 0000
/* QUALITY DATA ELEMENTS */
DATA_QUALITY_ID = 1
DATA_QUALITY_DESC = "Data calculated based on original SPICE kernels"
/* TIME DATA ELEMENTS */
SPACECRAFT_CLOCK_START_COUNT = "1/0153852869.07299"
SPACECRAFT_CLOCK_STOP_COUNT = "1/0153853190.55667"
START_TIME = 2008-03-17T16:55:42.538Z
STOP_TIME = 2008-03-17T16:59:47.223Z
/* ORBITAL DATA ELEMENTS */
ASCENDING_NODE_LONGITUDE = 115.81
MAXIMUM_RESOLUTION = 0.0588
FOOTPRINT_POINT_LATITUDE = (68.1138,68.0732,68.0266,67.956,67.9542 ,68.0553,67.6983,67.3406,66.9828, 66.6244,66.2657,65.9067,65.5474,65.1878 ,64.828,64.4677,64.1077,63.7526,63.4506 ,63.1481,62.6945,62.392,61.9378,61.484, 61.0298,60.727,60.4242,60.1212,59.8182, 59.5153,59.2123,58.9092,58.6063,58.3034 ,58.0004,57.5462,57.2431,56.9406, 56.6378,56.3355,55.8821,55.4285,54.9752 ,54.6731,54.3712,53.7682,53.1652, 52.7135,52.4117,52.2618,52.1888,52.2097 ,52.2253,52.2372,52.2375,52.2384, 52.6915,52.9941,53.4474,53.7504,54.2048 ,54.5078,54.811,55.1144,55.418,55.722, 56.0259,56.3299,56.7858,57.0903,57.5471 ,57.8517,58.1562,58.4609,58.9178, 59.3751,59.8326,60.1377,60.5955,60.9009 ,61.2062,61.5111,61.8162,62.274,62.5791 ,62.8838,63.1892,63.4942,63.799,64.143, 64.5074,64.8713,65.2349,65.7804,66.3255 ,66.8703,67.4147,67.9587,68.14,68.1138)
FOOTPRINT_POINT_LONGITUDE = (345.537,344.498,343.454,342.077, 342.044,341.82,341.996,342.167,342.331, 342.49,342.643,342.791,342.935,343.073, 343.207,343.336,343.461,343.581,343.679 ,343.775,343.914,344.004,344.134, 344.259,344.379,344.456,344.532,344.605 ,344.677,344.747,344.815,344.882, 344.947,345.01,345.071,345.161,345.219, 345.275,345.33,345.384,345.461,345.536, 345.609,345.656,345.701,345.789,345.873 ,345.933,345.973,345.991,346.0,346.741, 347.401,347.999,348.017,348.023,347.986 ,347.96,347.921,347.894,347.852,347.824 ,347.795,347.765,347.735,347.704, 347.673,347.641,347.591,347.557,347.505 ,347.469,347.433,347.395,347.337, 347.278,347.216,347.173,347.108,347.063 ,347.017,346.97,346.921,346.847,346.795 ,346.743,346.689,346.633,346.577, 346.511,346.439,346.365,346.288,346.169 ,346.044,345.912,345.774,345.628, 345.578,345.537)
ORBIT_NUMBER = 5404
ORBITAL_ECCENTRICITY = 0.57
ORBITAL_INCLINATION = 86.75
ORBITAL_SEMIMAJOR_AXIS = 8666.69
PERIAPSIS_ALTITUDE = 346.45
PERIAPSIS_ARGUMENT_ANGLE = 127.59
PERIAPSIS_TIME = 2008-03-17T16:59:19.000Z
SPACECRAFT_ORIENTATION = (0.0,-1.0,0.0)
^MEX_ORIENTATION_DESC = "MEX_ORIENTATION_DESC.TXT"
SPACECRAFT_POINTING_MODE = ACROSSTRACK
^MEX_POINTING_DESC = "MEX_POINTING_DESC.TXT"
RIGHT_ASCENSION = -1e+32
DECLINATION = -1e+32
OFFSET_ANGLE = -0.35
SPACECRAFT_SOLAR_DISTANCE = 2.46885e+08
TARGET_NAME = MARS
/* CAMERA DATA ELEMENTS */
DETECTOR_TEMPERATURE = 18.3705
FOCAL_PLANE_TEMPERATURE = 7.9716
INST_CMPRS_NAME = "DISCRETE COSINE TRANSFORMATION (DCT)"
INST_CMPRS_RATIO = 30.9312
INST_CMPRS_QUALITY = 0
INST_CMPRS_QUANTZ_TBL_ID = 0
INSTRUMENT_TEMPERATURE = 11.0301
LENS_TEMPERATURE = 7.9716
MACROPIXEL_SIZE = 4
MISSING_FRAMES = 0
PIXEL_SUBSAMPLING_FLAG = N
SIGNAL_CHAIN_ID = 2
/* RADIOMETRIC DATA ELEMENTS */
BANDWIDTH = 48.0
CENTER_FILTER_WAVELENGTH = 748.0
RADIANCE_OFFSET = 0.907872
RADIANCE_SCALING_FACTOR = 0.00591261
REFLECTANCE_SCALING_FACTOR = 0.000822423
MEX:REFLECTANCE_OFFSET = 0.126282
/* IMAGE OBJECT DEFINITIONS */
OBJECT = IMAGE
  INTERCHANGE_FORMAT = BINARY
  LINES = 19065
  LINE_SAMPLES = 3339
  SAMPLE_TYPE = UNSIGNED_INTEGER
  SAMPLE_BITS = 8
  BANDS = 1
  BAND_STORAGE_TYPE = BAND_SEQUENTIAL
  MAXIMUM = 255
  MEAN = 72.8576
  MINIMUM = 1
  STANDARD_DEVIATION = 39.9464
END_OBJECT = IMAGE
/* MAP OBJECT DEFINITIONS */
OBJECT = IMAGE_MAP_PROJECTION
  ^DATA_SET_MAP_PROJECTION_CATALOG= "DSMAP.CAT"
  A_AXIS_RADIUS = 3396.0
  B_AXIS_RADIUS = 3396.0
  C_AXIS_RADIUS = 3396.0
  CENTER_LATITUDE = 0.0
  CENTER_LONGITUDE = 346.0
  COORDINATE_SYSTEM_NAME = PLANETOGRAPHIC
  COORDINATE_SYSTEM_TYPE = "BODY-FIXED ROTATING"
  EASTERNMOST_LONGITUDE = 348.023
  FIRST_STANDARD_PARALLEL = "N/A"
  LINE_FIRST_PIXEL = 1
  LINE_LAST_PIXEL = 19065
  LINE_PROJECTION_OFFSET = 80878.875
  MAP_PROJECTION_ROTATION = 0.0
  MAP_PROJECTION_TYPE = SINUSOIDAL
  MAP_RESOLUTION = 1185.42760773333
  MAP_SCALE = 0.05
  MAXIMUM_LATITUDE = 68.14
  MINIMUM_LATITUDE = 52.1888
  POSITIVE_LONGITUDE_DIRECTION = EAST
  REFERENCE_LATITUDE = "N/A"
  REFERENCE_LONGITUDE = "N/A"
  SAMPLE_FIRST_PIXEL = 1
  SAMPLE_LAST_PIXEL = 3339
  SAMPLE_PROJECTION_OFFSET = 1871.625
  SECOND_STANDARD_PARALLEL = "N/A"
  WESTERNMOST_LONGITUDE = 341.82
END_OBJECT = IMAGE_MAP_PROJECTION
END
