PDS_VERSION_ID = PDS3
/* FILE DATA ELEMENTS */
RECORD_TYPE = UNDEFINED
/* POINTERS TO DATA OBJECTS */
^IMAGE = ("H5401_0000_S14.TIF")
/* IDENTIFICATION DATA ELEMENTS */
DATA_SET_ID = "MEX-M-HRSC-4-REFDR-MAPPROJECT-EXT2-V4.0"
DATA_SET_NAME = "MARS EXPRESS HRSC MAP PROJECTED REFDR EXTENSION2 V4.0"
DETECTOR_ID = MEX_HRSC_S1
EVENT_TYPE = "MARS-REGIONAL-MAPPING-Te-Gl-Pf"
INSTRUMENT_HOST_ID = MEX
INSTRUMENT_HOST_NAME = "MARS EXPRESS"
INSTRUMENT_ID = HRSC
INSTRUMENT_NAME = "HIGH RESOLUTION STEREO CAMERA"
MISSION_NAME = "MARS EXPRESS"
MISSION_PHASE_NAME = ME_Phase_11
PROCESSING_LEVEL_ID = 4
PRODUCT_CREATION_TIME = 2023-02-02T05:41:08.000Z
PRODUCT_ID = "H5401_0000_S14.TIF"
RELEASE_ID = 0002
REVISION_ID = 0000
/* QUALITY DATA ELEMENTS */
DATA_QUALITY_ID = 1
DATA_QUALITY_DESC = "Data calculated based on original SPICE kernels"
/* TIME DATA ELEMENTS */
SPACECRAFT_CLOCK_START_COUNT = "1/0153779179.08420"
SPACECRAFT_CLOCK_STOP_COUNT = "1/0153779377.09117"
START_TIME = 2008-03-16T20:26:22.903Z
STOP_TIME = 2008-03-16T20:28:35.912Z
/* ORBITAL DATA ELEMENTS */
ASCENDING_NODE_LONGITUDE = 115.87
MAXIMUM_RESOLUTION = 0.0294
FOOTPRINT_POINT_LATITUDE = (55.6812,55.6672,55.6521,55.636,55.6187 ,55.6003,55.5731,55.5718,55.4669, 55.0457,54.7925,54.5389,54.2854,53.9469 ,53.7774,53.523,53.3532,53.1832,53.0133 ,52.8432,52.673,52.5027,52.3323,52.1617 ,51.9911,51.82,51.6496,51.4787,51.3076, 51.1364,50.9652,50.7939,50.6224,50.4509 ,50.2792,50.0218,49.6788,49.4218, 49.2486,48.9077,48.6522,48.4824,48.3104 ,48.1346,47.7949,47.6211,47.3656, 47.1942,47.0217,46.936,46.9317,46.9539, 46.9754,46.9942,47.0097,47.0104,47.011, 47.1844,47.3568,47.6105,47.9525,48.2164 ,48.4743,48.6495,48.9917,49.2517, 49.5945,49.9363,50.1079,50.2802,50.4528 ,50.7106,50.8826,51.0547,51.2267, 51.3985,51.5702,51.7419,51.9135,52.085, 52.2563,52.4276,52.5987,52.7694,52.9405 ,53.1115,53.2823,53.4529,53.6235, 53.7941,53.9646,54.1348,54.305,54.4751, 54.6451,54.8149,55.1543,55.4933,55.5779 ,55.6812)
FOOTPRINT_POINT_LONGITUDE = (288.035,287.71,287.384,287.057,286.73, 286.402,285.949,285.928,285.861,285.929 ,285.969,286.008,286.047,286.097, 286.121,286.157,286.181,286.204,286.228 ,286.25,286.273,286.295,286.317,286.339 ,286.36,286.381,286.402,286.422,286.443 ,286.463,286.482,286.502,286.521,286.54 ,286.558,286.586,286.622,286.649, 286.666,286.701,286.728,286.745,286.762 ,286.776,286.81,286.824,286.848,286.864 ,286.878,286.886,286.886,287.303, 287.769,288.217,288.645,288.662,288.668 ,288.659,288.65,288.638,288.62,288.605, 288.59,288.58,288.56,288.545,288.525, 288.504,288.494,288.483,288.471,288.455 ,288.443,288.432,288.42,288.408,288.396 ,288.384,288.372,288.36,288.347,288.335 ,288.322,288.31,288.297,288.283,288.27, 288.257,288.243,288.23,288.216,288.202, 288.188,288.174,288.159,288.145,288.115 ,288.085,288.078,288.035)
ORBIT_NUMBER = 5401
ORBITAL_ECCENTRICITY = 0.57
ORBITAL_INCLINATION = 86.74
ORBITAL_SEMIMAJOR_AXIS = 8670.64
PERIAPSIS_ALTITUDE = 345.99
PERIAPSIS_ARGUMENT_ANGLE = 128.14
PERIAPSIS_TIME = 2008-03-16T20:27:53.000Z
SPACECRAFT_ORIENTATION = (0.0,-1.0,0.0)
^MEX_ORIENTATION_DESC = "MEX_ORIENTATION_DESC.TXT"
SPACECRAFT_POINTING_MODE = ACROSSTRACK
^MEX_POINTING_DESC = "MEX_POINTING_DESC.TXT"
RIGHT_ASCENSION = -1e+32
DECLINATION = -1e+32
OFFSET_ANGLE = -0.25
SPACECRAFT_SOLAR_DISTANCE = 2.46815e+08
TARGET_NAME = MARS
/* CAMERA DATA ELEMENTS */
DETECTOR_TEMPERATURE = 16.9432
FOCAL_PLANE_TEMPERATURE = 8.3794
INST_CMPRS_NAME = "DISCRETE COSINE TRANSFORMATION (DCT)"
INST_CMPRS_RATIO = 11.1193
INST_CMPRS_QUALITY = 0
INST_CMPRS_QUANTZ_TBL_ID = 0
INSTRUMENT_TEMPERATURE = 11.0301
LENS_TEMPERATURE = 8.5833
MACROPIXEL_SIZE = 2
MISSING_FRAMES = 0
PIXEL_SUBSAMPLING_FLAG = N
SIGNAL_CHAIN_ID = 1
/* RADIOMETRIC DATA ELEMENTS */
BANDWIDTH = 180.0
CENTER_FILTER_WAVELENGTH = 677.0
RADIANCE_OFFSET = 3.40231
RADIANCE_SCALING_FACTOR = 0.0227605
REFLECTANCE_SCALING_FACTOR = 0.000723379
MEX:REFLECTANCE_OFFSET = 0.108133
/* IMAGE OBJECT DEFINITIONS */
OBJECT = IMAGE
  INTERCHANGE_FORMAT = BINARY
  LINES = 20465
  LINE_SAMPLES = 4221
  SAMPLE_TYPE = UNSIGNED_INTEGER
  SAMPLE_BITS = 8
  BANDS = 1
  BAND_STORAGE_TYPE = BAND_SEQUENTIAL
  MAXIMUM = 255
  MEAN = 138.034
  MINIMUM = 1
  STANDARD_DEVIATION = 31.8215
END_OBJECT = IMAGE
/* MAP OBJECT DEFINITIONS */
OBJECT = IMAGE_MAP_PROJECTION
  ^DATA_SET_MAP_PROJECTION_CATALOG= "DSMAP.CAT"
  A_AXIS_RADIUS = 3396.0
  B_AXIS_RADIUS = 3396.0
  C_AXIS_RADIUS = 3396.0
  CENTER_LATITUDE = 0.0
  CENTER_LONGITUDE = 287.0
  COORDINATE_SYSTEM_NAME = PLANETOGRAPHIC
  COORDINATE_SYSTEM_TYPE = "BODY-FIXED ROTATING"
  EASTERNMOST_LONGITUDE = 288.668
  FIRST_STANDARD_PARALLEL = "N/A"
  LINE_FIRST_PIXEL = 1
  LINE_LAST_PIXEL = 20465
  LINE_PROJECTION_OFFSET = 131784.25
  MAP_PROJECTION_ROTATION = 0.0
  MAP_PROJECTION_TYPE = SINUSOIDAL
  MAP_RESOLUTION = 2370.85521546667
  MAP_SCALE = 0.025
  MAXIMUM_LATITUDE = 55.6812
  MINIMUM_LATITUDE = 46.9317
  POSITIVE_LONGITUDE_DIRECTION = EAST
  REFERENCE_LATITUDE = "N/A"
  REFERENCE_LONGITUDE = "N/A"
  SAMPLE_FIRST_PIXEL = 1
  SAMPLE_LAST_PIXEL = 4221
  SAMPLE_PROJECTION_OFFSET = 1518.25
  SECOND_STANDARD_PARALLEL = "N/A"
  WESTERNMOST_LONGITUDE = 285.861
END_OBJECT = IMAGE_MAP_PROJECTION
END
