PDS_VERSION_ID = PDS3
/* FILE DATA ELEMENTS */
RECORD_TYPE = UNDEFINED
/* POINTERS TO DATA OBJECTS */
^IMAGE = ("H5400_0000_ND4.TIF")
/* IDENTIFICATION DATA ELEMENTS */
DATA_SET_ID = "MEX-M-HRSC-4-REFDR-MAPPROJECT-EXT2-V4.0"
DATA_SET_NAME = "MARS EXPRESS HRSC MAP PROJECTED REFDR EXTENSION2 V4.0"
DETECTOR_ID = MEX_HRSC_NADIR
EVENT_TYPE = "MARS-LOCAL-MAPPING-Im-Gl-Pf"
INSTRUMENT_HOST_ID = MEX
INSTRUMENT_HOST_NAME = "MARS EXPRESS"
INSTRUMENT_ID = HRSC
INSTRUMENT_NAME = "HIGH RESOLUTION STEREO CAMERA"
MISSION_NAME = "MARS EXPRESS"
MISSION_PHASE_NAME = ME_Phase_11
PROCESSING_LEVEL_ID = 4
PRODUCT_CREATION_TIME = 2023-02-02T05:41:08.000Z
PRODUCT_ID = "H5400_0000_ND4.TIF"
RELEASE_ID = 0002
REVISION_ID = 0000
/* QUALITY DATA ELEMENTS */
DATA_QUALITY_ID = 1
DATA_QUALITY_DESC = "Data calculated based on original SPICE kernels"
/* TIME DATA ELEMENTS */
SPACECRAFT_CLOCK_START_COUNT = "1/0153754565.07288"
SPACECRAFT_CLOCK_STOP_COUNT = "1/0153754782.31633"
START_TIME = 2008-03-16T13:36:40.365Z
STOP_TIME = 2008-03-16T13:39:11.366Z
/* ORBITAL DATA ELEMENTS */
ASCENDING_NODE_LONGITUDE = 115.88
MAXIMUM_RESOLUTION = 0.0139
FOOTPRINT_POINT_LATITUDE = (54.0746,54.0612,54.0484,54.0241, 54.0093,54.0085,54.0079,53.8126,53.6172 ,53.4218,53.2264,53.031,52.7377,52.5422 ,52.249,52.0534,51.8578,51.6623,51.4667 ,51.2711,51.0755,50.7821,50.5864, 50.3908,50.1952,49.9996,49.804,49.6084, 49.4128,49.1194,48.826,48.6305,48.4349, 48.2394,48.0439,47.8485,47.653,47.4576, 47.0669,46.7739,46.481,46.0906,45.7978, 45.4078,45.0178,44.7255,44.336,44.2386, 44.2254,44.2358,44.2492,44.2578,44.2651 ,44.2653,44.2657,44.7537,45.0466, 45.4374,45.6329,45.8286,46.0243,46.2199 ,46.4156,46.6113,46.8071,47.003,47.2967 ,47.5906,47.7866,47.9825,48.1785, 48.3745,48.5709,48.8652,49.0613,49.2574 ,49.4535,49.6497,49.8462,50.1406, 50.3368,50.5331,50.7293,50.9253,51.1214 ,51.3176,51.5139,51.8081,52.0043, 52.2005,52.495,52.6912,52.8874,53.1818, 53.378,53.5742,53.7703,53.9664,54.0645, 54.0746)
FOOTPRINT_POINT_LONGITUDE = (28.9343,28.4403,28.0267,27.3409, 26.9696,26.9501,26.9031,26.9274,26.9508 ,26.9745,26.9977,27.0207,27.054,27.0761 ,27.1085,27.1294,27.1506,27.1706, 27.1894,27.2061,27.2243,27.2536,27.2727 ,27.2902,27.3066,27.324,27.3402,27.3575 ,27.3757,27.4009,27.4279,27.4443, 27.4596,27.4744,27.4892,27.5037,27.5178 ,27.5318,27.5592,27.5804,27.6006, 27.6235,27.6437,27.6656,27.6892,27.7041 ,27.724,27.7292,27.7299,28.0911,28.6239 ,29.0389,29.455,29.4724,29.4809,29.4622 ,29.4499,29.4334,29.4262,29.4221, 29.4148,29.4061,29.3985,29.3894,29.3821 ,29.3753,29.3616,29.3492,29.3402, 29.3311,29.3215,29.3122,29.3084,29.2993 ,29.2883,29.2782,29.2659,29.2583, 29.2528,29.2392,29.2302,29.2208,29.2085 ,29.1934,29.1786,29.1666,29.156,29.1361 ,29.1232,29.1125,29.0969,29.0853, 29.0733,29.056,29.0439,29.0316,29.0191, 29.0063,28.9999,28.9343)
ORBIT_NUMBER = 5400
ORBITAL_ECCENTRICITY = 0.57
ORBITAL_INCLINATION = 86.74
ORBITAL_SEMIMAJOR_AXIS = 8671.75
PERIAPSIS_ALTITUDE = 346.14
PERIAPSIS_ARGUMENT_ANGLE = 128.31
PERIAPSIS_TIME = 2008-03-16T13:37:18.000Z
SPACECRAFT_ORIENTATION = (0.0,-1.0,0.0)
^MEX_ORIENTATION_DESC = "MEX_ORIENTATION_DESC.TXT"
SPACECRAFT_POINTING_MODE = ACROSSTRACK
^MEX_POINTING_DESC = "MEX_POINTING_DESC.TXT"
RIGHT_ASCENSION = -1e+32
DECLINATION = -1e+32
OFFSET_ANGLE = 0.15
SPACECRAFT_SOLAR_DISTANCE = 2.46791e+08
TARGET_NAME = MARS
/* CAMERA DATA ELEMENTS */
DETECTOR_TEMPERATURE = 18.1666
FOCAL_PLANE_TEMPERATURE = 7.9716
INST_CMPRS_NAME = "DISCRETE COSINE TRANSFORMATION (DCT)"
INST_CMPRS_RATIO = 6.24616
INST_CMPRS_QUALITY = 0
INST_CMPRS_QUANTZ_TBL_ID = 0
INSTRUMENT_TEMPERATURE = 11.234
LENS_TEMPERATURE = 8.7872
MACROPIXEL_SIZE = 1
MISSING_FRAMES = 0
PIXEL_SUBSAMPLING_FLAG = N
SIGNAL_CHAIN_ID = 0
/* RADIOMETRIC DATA ELEMENTS */
BANDWIDTH = 177.0
CENTER_FILTER_WAVELENGTH = 677.5
RADIANCE_OFFSET = 2.87086
RADIANCE_SCALING_FACTOR = 0.0258116
REFLECTANCE_SCALING_FACTOR = 0.000835137
MEX:REFLECTANCE_OFFSET = 0.0928867
/* IMAGE OBJECT DEFINITIONS */
OBJECT = IMAGE
  INTERCHANGE_FORMAT = BINARY
  LINES = 46717
  LINE_SAMPLES = 8085
  SAMPLE_TYPE = UNSIGNED_INTEGER
  SAMPLE_BITS = 8
  BANDS = 1
  BAND_STORAGE_TYPE = BAND_SEQUENTIAL
  MAXIMUM = 255
  MEAN = 143.213
  MINIMUM = 1
  STANDARD_DEVIATION = 36.3048
END_OBJECT = IMAGE
/* MAP OBJECT DEFINITIONS */
OBJECT = IMAGE_MAP_PROJECTION
  ^DATA_SET_MAP_PROJECTION_CATALOG= "DSMAP.CAT"
  A_AXIS_RADIUS = 3396.0
  B_AXIS_RADIUS = 3396.0
  C_AXIS_RADIUS = 3396.0
  CENTER_LATITUDE = 0.0
  CENTER_LONGITUDE = 28.0
  COORDINATE_SYSTEM_NAME = PLANETOGRAPHIC
  COORDINATE_SYSTEM_TYPE = "BODY-FIXED ROTATING"
  EASTERNMOST_LONGITUDE = 29.4809
  FIRST_STANDARD_PARALLEL = "N/A"
  LINE_FIRST_PIXEL = 1
  LINE_LAST_PIXEL = 46717
  LINE_PROJECTION_OFFSET = 256429.0
  MAP_PROJECTION_ROTATION = 0.0
  MAP_PROJECTION_TYPE = SINUSOIDAL
  MAP_RESOLUTION = 4741.71043093333
  MAP_SCALE = 0.0125
  MAXIMUM_LATITUDE = 54.0746
  MINIMUM_LATITUDE = 44.2254
  POSITIVE_LONGITUDE_DIRECTION = EAST
  REFERENCE_LATITUDE = "N/A"
  REFERENCE_LONGITUDE = "N/A"
  SAMPLE_FIRST_PIXEL = 1
  SAMPLE_LAST_PIXEL = 8085
  SAMPLE_PROJECTION_OFFSET = 3051.0
  SECOND_STANDARD_PARALLEL = "N/A"
  WESTERNMOST_LONGITUDE = 26.9031
END_OBJECT = IMAGE_MAP_PROJECTION
END
