PDS_VERSION_ID = PDS3
/* FILE DATA ELEMENTS */
RECORD_TYPE = UNDEFINED
/* POINTERS TO DATA OBJECTS */
^IMAGE = ("H5386_0000_BL4.TIF")
/* IDENTIFICATION DATA ELEMENTS */
DATA_SET_ID = "MEX-M-HRSC-4-REFDR-MAPPROJECT-EXT2-V4.0"
DATA_SET_NAME = "MARS EXPRESS HRSC MAP PROJECTED REFDR EXTENSION2 V4.0"
DETECTOR_ID = MEX_HRSC_BLUE
EVENT_TYPE = "MARS-REGIONAL-MAPPING-Im-Pf-Mw"
INSTRUMENT_HOST_ID = MEX
INSTRUMENT_HOST_NAME = "MARS EXPRESS"
INSTRUMENT_ID = HRSC
INSTRUMENT_NAME = "HIGH RESOLUTION STEREO CAMERA"
MISSION_NAME = "MARS EXPRESS"
MISSION_PHASE_NAME = ME_Phase_11
PROCESSING_LEVEL_ID = 4
PRODUCT_CREATION_TIME = 2023-02-02T05:41:08.000Z
PRODUCT_ID = "H5386_0000_BL4.TIF"
RELEASE_ID = 0002
REVISION_ID = 0000
/* QUALITY DATA ELEMENTS */
DATA_QUALITY_ID = 1
DATA_QUALITY_DESC = "Data calculated based on original SPICE kernels"
/* TIME DATA ELEMENTS */
SPACECRAFT_CLOCK_START_COUNT = "1/0153409627.08372"
SPACECRAFT_CLOCK_STOP_COUNT = "1/0153409898.17158"
START_TIME = 2008-03-12T13:47:50.691Z
STOP_TIME = 2008-03-12T13:51:13.428Z
/* ORBITAL DATA ELEMENTS */
ASCENDING_NODE_LONGITUDE = 116.17
MAXIMUM_RESOLUTION = 0.0558
FOOTPRINT_POINT_LATITUDE = (58.3571,58.3317,58.3023,58.2576, 58.2564,58.2703,57.7506,57.2303,56.5792 ,56.3185,56.0577,55.7968,55.5358, 55.1441,54.8828,54.6214,54.36,54.0985, 53.706,53.4443,53.1825,52.9207,52.6588, 52.3968,52.1348,51.8727,51.4796,51.2174 ,50.9551,50.693,50.4309,50.1686,49.7755 ,49.5132,49.251,48.9888,48.7266,48.4644 ,48.2023,47.9402,47.6781,47.4161, 47.1541,46.892,46.6301,46.3682,46.1064, 45.8447,45.3214,45.1906,45.1684,45.1899 ,45.2031,45.2158,45.2161,45.217,45.4794 ,45.8731,46.1356,46.5296,46.7923, 47.0551,47.3179,47.7124,47.9753,48.2383 ,48.5014,48.8961,49.1593,49.4225, 49.6856,49.9488,50.2121,50.607,50.8703, 51.1334,51.3967,51.7916,52.0548,52.318, 52.7127,53.1074,53.5021,53.8966,54.1596 ,54.5539,54.9482,55.2109,55.6047, 55.8672,56.1297,56.392,56.6543,57.0474, 57.4406,57.7026,57.9643,58.2259,58.3567 ,58.3571)
FOOTPRINT_POINT_LONGITUDE = (348.252,347.567,346.876,345.956, 345.934,345.803,345.915,346.024,346.152 ,346.202,346.251,346.298,346.345, 346.414,346.458,346.502,346.544,346.586 ,346.648,346.687,346.726,346.764, 346.802,346.838,346.875,346.91,346.961, 346.995,347.029,347.061,347.092,347.123 ,347.167,347.196,347.225,347.253, 347.281,347.308,347.334,347.36,347.385, 347.41,347.434,347.458,347.482,347.504, 347.527,347.548,347.591,347.601,347.603 ,348.28,348.769,349.333,349.349,349.355 ,349.34,349.319,349.304,349.281,349.266 ,349.25,349.234,349.21,349.193,349.176, 349.159,349.133,349.115,349.097,349.079 ,349.06,349.041,349.012,348.992,348.972 ,348.952,348.921,348.9,348.878,348.845, 348.811,348.776,348.74,348.716,348.679, 348.641,348.615,348.575,348.548,348.52, 348.492,348.463,348.419,348.374,348.343 ,348.312,348.28,348.264,348.252)
ORBIT_NUMBER = 5386
ORBITAL_ECCENTRICITY = 0.57
ORBITAL_INCLINATION = 86.75
ORBITAL_SEMIMAJOR_AXIS = 8671.88
PERIAPSIS_ALTITUDE = 344.64
PERIAPSIS_ARGUMENT_ANGLE = 130.75
PERIAPSIS_TIME = 2008-03-12T13:50:07.000Z
SPACECRAFT_ORIENTATION = (0.0,-1.0,0.0)
^MEX_ORIENTATION_DESC = "MEX_ORIENTATION_DESC.TXT"
SPACECRAFT_POINTING_MODE = ACROSSTRACK
^MEX_POINTING_DESC = "MEX_POINTING_DESC.TXT"
RIGHT_ASCENSION = -1e+32
DECLINATION = -1e+32
OFFSET_ANGLE = -0.5
SPACECRAFT_SOLAR_DISTANCE = 2.46447e+08
TARGET_NAME = MARS
/* CAMERA DATA ELEMENTS */
DETECTOR_TEMPERATURE = 17.9627
FOCAL_PLANE_TEMPERATURE = 8.5833
INST_CMPRS_NAME = "DISCRETE COSINE TRANSFORMATION (DCT)"
INST_CMPRS_RATIO = 11.7463
INST_CMPRS_QUALITY = 0
INST_CMPRS_QUANTZ_TBL_ID = 0
INSTRUMENT_TEMPERATURE = 11.234
LENS_TEMPERATURE = 8.9911
MACROPIXEL_SIZE = 4
MISSING_FRAMES = 0
PIXEL_SUBSAMPLING_FLAG = N
SIGNAL_CHAIN_ID = 2
/* RADIOMETRIC DATA ELEMENTS */
BANDWIDTH = 76.0
CENTER_FILTER_WAVELENGTH = 444.0
RADIANCE_OFFSET = 0.52729
RADIANCE_SCALING_FACTOR = 0.00121853
REFLECTANCE_SCALING_FACTOR = 7.60392e-05
MEX:REFLECTANCE_OFFSET = 0.0329043
/* IMAGE OBJECT DEFINITIONS */
OBJECT = IMAGE
  INTERCHANGE_FORMAT = BINARY
  LINES = 15669
  LINE_SAMPLES = 2512
  SAMPLE_TYPE = UNSIGNED_INTEGER
  SAMPLE_BITS = 8
  BANDS = 1
  BAND_STORAGE_TYPE = BAND_SEQUENTIAL
  MAXIMUM = 255
  MEAN = 112.53
  MINIMUM = 1
  STANDARD_DEVIATION = 30.4733
END_OBJECT = IMAGE
/* MAP OBJECT DEFINITIONS */
OBJECT = IMAGE_MAP_PROJECTION
  ^DATA_SET_MAP_PROJECTION_CATALOG= "DSMAP.CAT"
  A_AXIS_RADIUS = 3396.0
  B_AXIS_RADIUS = 3396.0
  C_AXIS_RADIUS = 3396.0
  CENTER_LATITUDE = 0.0
  CENTER_LONGITUDE = 348.0
  COORDINATE_SYSTEM_NAME = PLANETOGRAPHIC
  COORDINATE_SYSTEM_TYPE = "BODY-FIXED ROTATING"
  EASTERNMOST_LONGITUDE = 349.355
  FIRST_STANDARD_PARALLEL = "N/A"
  LINE_FIRST_PIXEL = 1
  LINE_LAST_PIXEL = 15669
  LINE_PROJECTION_OFFSET = 69200.875
  MAP_PROJECTION_ROTATION = 0.0
  MAP_PROJECTION_TYPE = SINUSOIDAL
  MAP_RESOLUTION = 1185.42760773333
  MAP_SCALE = 0.05
  MAXIMUM_LATITUDE = 58.3571
  MINIMUM_LATITUDE = 45.1684
  POSITIVE_LONGITUDE_DIRECTION = EAST
  REFERENCE_LATITUDE = "N/A"
  REFERENCE_LONGITUDE = "N/A"
  SAMPLE_FIRST_PIXEL = 1
  SAMPLE_LAST_PIXEL = 2512
  SAMPLE_PROJECTION_OFFSET = 1379.625
  SECOND_STANDARD_PARALLEL = "N/A"
  WESTERNMOST_LONGITUDE = 345.803
END_OBJECT = IMAGE_MAP_PROJECTION
END
