PDS_VERSION_ID = PDS3
/* FILE DATA ELEMENTS */
RECORD_TYPE = UNDEFINED
/* POINTERS TO DATA OBJECTS */
^IMAGE = ("H5385_0000_ND4.TIF")
/* IDENTIFICATION DATA ELEMENTS */
DATA_SET_ID = "MEX-M-HRSC-4-REFDR-MAPPROJECT-EXT2-V4.0"
DATA_SET_NAME = "MARS EXPRESS HRSC MAP PROJECTED REFDR EXTENSION2 V4.0"
DETECTOR_ID = MEX_HRSC_NADIR
EVENT_TYPE = "MARS-REGIONAL-MAPPING-Te-Im-Pf"
INSTRUMENT_HOST_ID = MEX
INSTRUMENT_HOST_NAME = "MARS EXPRESS"
INSTRUMENT_ID = HRSC
INSTRUMENT_NAME = "HIGH RESOLUTION STEREO CAMERA"
MISSION_NAME = "MARS EXPRESS"
MISSION_PHASE_NAME = ME_Phase_11
PROCESSING_LEVEL_ID = 4
PRODUCT_CREATION_TIME = 2023-02-02T05:41:08.000Z
PRODUCT_ID = "H5385_0000_ND4.TIF"
RELEASE_ID = 0002
REVISION_ID = 0000
/* QUALITY DATA ELEMENTS */
DATA_QUALITY_ID = 1
DATA_QUALITY_DESC = "Data calculated based on original SPICE kernels"
/* TIME DATA ELEMENTS */
SPACECRAFT_CLOCK_START_COUNT = "1/0153384898.09042"
SPACECRAFT_CLOCK_STOP_COUNT = "1/0153385209.42167"
START_TIME = 2008-03-12T06:55:40.416Z
STOP_TIME = 2008-03-12T06:59:40.406Z
/* ORBITAL DATA ELEMENTS */
ASCENDING_NODE_LONGITUDE = 116.19
MAXIMUM_RESOLUTION = 0.0139
FOOTPRINT_POINT_LATITUDE = (64.3842,64.3292,64.2921,64.2537, 64.2521,64.2492,63.9088,63.5679,63.2264 ,62.8845,62.5421,62.1992,61.8559, 61.5121,61.1679,60.8233,60.4782,60.1328 ,59.7869,59.2745,58.6933,58.1112, 57.5281,56.9442,56.3595,55.7741,55.188, 54.6013,54.3077,54.014,53.7202,53.4262, 53.1321,52.8379,52.5436,52.2492,51.9547 ,51.6602,51.3655,51.0708,50.776,50.4811 ,50.1862,49.8913,49.5963,49.3013, 49.0062,48.8587,48.8479,48.8641,48.8795 ,48.8999,48.9003,48.9007,49.3446, 49.6406,49.9365,50.2324,50.5283,50.8242 ,51.12,51.4158,51.7115,52.0071,52.3027, 52.5983,52.8937,53.1891,53.4844,53.7796 ,54.0747,54.3697,54.6646,54.9594,55.254 ,55.5485,55.8429,56.1372,56.4313,57.019 ,57.6062,58.1926,58.7783,59.3632, 59.7028,60.0512,60.3992,60.747,61.0944, 61.4415,61.7882,62.1346,62.4806,62.8262 ,63.1714,63.5163,63.8608,64.2048, 64.3766,64.3842)
FOOTPRINT_POINT_LONGITUDE = (88.7596,87.3038,86.4907,85.7401, 85.7101,85.6271,85.7332,85.8362,85.9358 ,86.0327,86.1267,86.2181,86.3066, 86.3927,86.4766,86.558,86.6365,86.7124, 86.7867,86.8928,87.0077,87.1172,87.2215 ,87.3211,87.4159,87.5064,87.5926, 87.6749,87.7145,87.7533,87.7911,87.828, 87.8641,87.8992,87.9334,87.9669,87.9996 ,88.0316,88.0627,88.0931,88.1228, 88.1518,88.1799,88.2076,88.2345,88.2608 ,88.2864,88.299,88.2999,88.771,89.2798, 90.1196,90.1379,90.1469,90.1259,90.1115 ,90.097,90.0821,90.067,90.0516,90.036, 90.02,90.004,89.9873,89.9705,89.9532, 89.9358,89.9179,89.8996,89.8811,89.8621 ,89.8428,89.823,89.8028,89.7823,89.7613 ,89.7399,89.7179,89.6954,89.6493, 89.6012,89.5517,89.4984,89.4445,89.4117 ,89.377,89.341,89.3047,89.2676,89.2292, 89.1898,89.1492,89.1074,89.0643,89.0201 ,88.9746,88.9282,88.8802,88.8557, 88.7596)
ORBIT_NUMBER = 5385
ORBITAL_ECCENTRICITY = 0.57
ORBITAL_INCLINATION = 86.75
ORBITAL_SEMIMAJOR_AXIS = 8679.52
PERIAPSIS_ALTITUDE = 343.54
PERIAPSIS_ARGUMENT_ANGLE = 130.93
PERIAPSIS_TIME = 2008-03-12T06:59:38.000Z
SPACECRAFT_ORIENTATION = (0.0,-1.0,0.0)
^MEX_ORIENTATION_DESC = "MEX_ORIENTATION_DESC.TXT"
SPACECRAFT_POINTING_MODE = ACROSSTRACK
^MEX_POINTING_DESC = "MEX_POINTING_DESC.TXT"
RIGHT_ASCENSION = -1e+32
DECLINATION = -1e+32
OFFSET_ANGLE = 0.1
SPACECRAFT_SOLAR_DISTANCE = 2.46422e+08
TARGET_NAME = MARS
/* CAMERA DATA ELEMENTS */
DETECTOR_TEMPERATURE = 18.1666
FOCAL_PLANE_TEMPERATURE = 8.5833
INST_CMPRS_NAME = "DISCRETE COSINE TRANSFORMATION (DCT)"
INST_CMPRS_RATIO = 7.9318
INST_CMPRS_QUALITY = 0
INST_CMPRS_QUANTZ_TBL_ID = 0
INSTRUMENT_TEMPERATURE = 11.0301
LENS_TEMPERATURE = 8.7872
MACROPIXEL_SIZE = 1
MISSING_FRAMES = 0
PIXEL_SUBSAMPLING_FLAG = N
SIGNAL_CHAIN_ID = 0
/* RADIOMETRIC DATA ELEMENTS */
BANDWIDTH = 177.0
CENTER_FILTER_WAVELENGTH = 677.5
RADIANCE_OFFSET = 2.11202
RADIANCE_SCALING_FACTOR = 0.0151845
REFLECTANCE_SCALING_FACTOR = 0.000489826
MEX:REFLECTANCE_OFFSET = 0.0681304
/* IMAGE OBJECT DEFINITIONS */
OBJECT = IMAGE
  INTERCHANGE_FORMAT = BINARY
  LINES = 73692
  LINE_SAMPLES = 10524
  SAMPLE_TYPE = UNSIGNED_INTEGER
  SAMPLE_BITS = 8
  BANDS = 1
  BAND_STORAGE_TYPE = BAND_SEQUENTIAL
  MAXIMUM = 255
  MEAN = 103.556
  MINIMUM = 1
  STANDARD_DEVIATION = 30.9631
END_OBJECT = IMAGE
/* MAP OBJECT DEFINITIONS */
OBJECT = IMAGE_MAP_PROJECTION
  ^DATA_SET_MAP_PROJECTION_CATALOG= "DSMAP.CAT"
  A_AXIS_RADIUS = 3396.0
  B_AXIS_RADIUS = 3396.0
  C_AXIS_RADIUS = 3396.0
  CENTER_LATITUDE = 0.0
  CENTER_LONGITUDE = 89.0
  COORDINATE_SYSTEM_NAME = PLANETOGRAPHIC
  COORDINATE_SYSTEM_TYPE = "BODY-FIXED ROTATING"
  EASTERNMOST_LONGITUDE = 90.1469
  FIRST_STANDARD_PARALLEL = "N/A"
  LINE_FIRST_PIXEL = 1
  LINE_LAST_PIXEL = 73692
  LINE_PROJECTION_OFFSET = 305314.0
  MAP_PROJECTION_ROTATION = 0.0
  MAP_PROJECTION_TYPE = SINUSOIDAL
  MAP_RESOLUTION = 4741.71043093333
  MAP_SCALE = 0.0125
  MAXIMUM_LATITUDE = 64.38420000000001
  MINIMUM_LATITUDE = 48.8479
  POSITIVE_LONGITUDE_DIRECTION = EAST
  REFERENCE_LATITUDE = "N/A"
  REFERENCE_LONGITUDE = "N/A"
  SAMPLE_FIRST_PIXEL = 1
  SAMPLE_LAST_PIXEL = 10524
  SAMPLE_PROJECTION_OFFSET = 6948.0
  SECOND_STANDARD_PARALLEL = "N/A"
  WESTERNMOST_LONGITUDE = 85.6271
END_OBJECT = IMAGE_MAP_PROJECTION
END
