PDS_VERSION_ID = PDS3
/* FILE DATA ELEMENTS */
RECORD_TYPE = UNDEFINED
/* POINTERS TO DATA OBJECTS */
^IMAGE = ("H5377_0000_GR4.TIF")
/* IDENTIFICATION DATA ELEMENTS */
DATA_SET_ID = "MEX-M-HRSC-4-REFDR-MAPPROJECT-EXT2-V4.0"
DATA_SET_NAME = "MARS EXPRESS HRSC MAP PROJECTED REFDR EXTENSION2 V4.0"
DETECTOR_ID = MEX_HRSC_GREEN
EVENT_TYPE = "MARS-REGIONAL-MAPPING-Im-Pf"
INSTRUMENT_HOST_ID = MEX
INSTRUMENT_HOST_NAME = "MARS EXPRESS"
INSTRUMENT_ID = HRSC
INSTRUMENT_NAME = "HIGH RESOLUTION STEREO CAMERA"
MISSION_NAME = "MARS EXPRESS"
MISSION_PHASE_NAME = ME_Phase_11
PROCESSING_LEVEL_ID = 4
PRODUCT_CREATION_TIME = 2023-02-02T05:41:08.000Z
PRODUCT_ID = "H5377_0000_GR4.TIF"
RELEASE_ID = 0002
REVISION_ID = 0000
/* QUALITY DATA ELEMENTS */
DATA_QUALITY_ID = 1
DATA_QUALITY_DESC = "Data calculated based on original SPICE kernels"
/* TIME DATA ELEMENTS */
SPACECRAFT_CLOCK_START_COUNT = "1/0153187787.08425"
SPACECRAFT_CLOCK_STOP_COUNT = "1/0153188117.63814"
START_TIME = 2008-03-10T00:10:26.876Z
STOP_TIME = 2008-03-10T00:14:43.142Z
/* ORBITAL DATA ELEMENTS */
ASCENDING_NODE_LONGITUDE = 116.35
MAXIMUM_RESOLUTION = 0.0562
FOOTPRINT_POINT_LATITUDE = (66.85,66.7857,66.729,66.6819,66.6799, 66.6532,66.1206,65.7667,65.237,64.8903, 64.5429,64.0218,63.6819,63.3414,63.0003 ,62.6586,62.3161,61.9732,61.6298, 61.2859,60.9414,60.5963,60.2507,59.9046 ,59.5581,59.211,58.8636,58.5157,58.1673 ,57.8184,57.4781,56.892,56.3048,55.7166 ,55.1274,54.5373,53.9463,53.6505, 53.3545,53.0582,52.7618,52.4653,52.1685 ,51.8716,51.5745,51.1286,50.6824, 50.5335,50.4737,50.5052,50.5334,50.5338 ,50.5348,50.8336,51.2814,51.5797, 52.0271,52.3251,52.623,53.0696,53.3671, 53.6645,53.9617,54.2588,54.5557,54.8524 ,55.149,55.4453,55.8893,56.3326,56.9233 ,57.5129,57.8441,58.1952,58.5459, 58.8964,59.2463,59.5959,59.9451,60.2939 ,60.6422,60.9901,61.3376,61.6847, 62.0312,62.3773,62.723,63.0681,63.4128, 63.7569,64.1006,64.4498,64.8016,65.1529 ,65.5038,65.8631,66.2217,66.5798, 66.7601,66.85)
FOOTPRINT_POINT_LONGITUDE = (168.639,167.042,165.894,165.051, 165.018,164.922,165.139,165.277,165.475 ,165.599,165.719,165.893,166.001, 166.106,166.209,166.308,166.404,166.497 ,166.588,166.677,166.763,166.846, 166.927,167.006,167.083,167.157,167.23, 167.3,167.369,167.435,167.498,167.603, 167.703,167.798,167.889,167.976,168.059 ,168.099,168.138,168.176,168.213,168.25 ,168.285,168.32,168.354,168.403,168.451 ,168.466,168.472,169.348,170.37,170.388 ,170.394,170.378,170.353,170.337, 170.311,170.294,170.276,170.248,170.23, 170.21,170.191,170.171,170.15,170.129, 170.108,170.086,170.053,170.019,169.972 ,169.923,169.894,169.863,169.831, 169.798,169.765,169.73,169.695,169.658, 169.621,169.583,169.544,169.503,169.462 ,169.419,169.376,169.331,169.284, 169.237,169.188,169.137,169.084,169.029 ,168.972,168.913,168.851,168.787, 168.755,168.639)
ORBIT_NUMBER = 5377
ORBITAL_ECCENTRICITY = 0.57
ORBITAL_INCLINATION = 86.74
ORBITAL_SEMIMAJOR_AXIS = 8673.35
PERIAPSIS_ALTITUDE = 344.08
PERIAPSIS_ARGUMENT_ANGLE = 132.36
PERIAPSIS_TIME = 2008-03-10T00:15:34.000Z
SPACECRAFT_ORIENTATION = (0.0,-1.0,0.0)
^MEX_ORIENTATION_DESC = "MEX_ORIENTATION_DESC.TXT"
SPACECRAFT_POINTING_MODE = NADIR
^MEX_POINTING_DESC = "MEX_POINTING_DESC.TXT"
RIGHT_ASCENSION = -1e+32
DECLINATION = -1e+32
OFFSET_ANGLE = -1e+32
SPACECRAFT_SOLAR_DISTANCE = 2.46215e+08
TARGET_NAME = MARS
/* CAMERA DATA ELEMENTS */
DETECTOR_TEMPERATURE = 17.7588
FOCAL_PLANE_TEMPERATURE = 8.1755
INST_CMPRS_NAME = "DISCRETE COSINE TRANSFORMATION (DCT)"
INST_CMPRS_RATIO = 22.1559
INST_CMPRS_QUALITY = 0
INST_CMPRS_QUANTZ_TBL_ID = 0
INSTRUMENT_TEMPERATURE = 11.0301
LENS_TEMPERATURE = 8.7872
MACROPIXEL_SIZE = 4
MISSING_FRAMES = 0
PIXEL_SUBSAMPLING_FLAG = N
SIGNAL_CHAIN_ID = 2
/* RADIOMETRIC DATA ELEMENTS */
BANDWIDTH = 88.0
CENTER_FILTER_WAVELENGTH = 538.0
RADIANCE_OFFSET = 1.22051
RADIANCE_SCALING_FACTOR = 0.00341878
REFLECTANCE_SCALING_FACTOR = 0.000178438
MEX:REFLECTANCE_OFFSET = 0.0637024
/* IMAGE OBJECT DEFINITIONS */
OBJECT = IMAGE
  INTERCHANGE_FORMAT = BINARY
  LINES = 19417
  LINE_SAMPLES = 2971
  SAMPLE_TYPE = UNSIGNED_INTEGER
  SAMPLE_BITS = 8
  BANDS = 1
  BAND_STORAGE_TYPE = BAND_SEQUENTIAL
  MAXIMUM = 255
  MEAN = 103.712
  MINIMUM = 1
  STANDARD_DEVIATION = 50.5125
END_OBJECT = IMAGE
/* MAP OBJECT DEFINITIONS */
OBJECT = IMAGE_MAP_PROJECTION
  ^DATA_SET_MAP_PROJECTION_CATALOG= "DSMAP.CAT"
  A_AXIS_RADIUS = 3396.0
  B_AXIS_RADIUS = 3396.0
  C_AXIS_RADIUS = 3396.0
  CENTER_LATITUDE = 0.0
  CENTER_LONGITUDE = 169.0
  COORDINATE_SYSTEM_NAME = PLANETOGRAPHIC
  COORDINATE_SYSTEM_TYPE = "BODY-FIXED ROTATING"
  EASTERNMOST_LONGITUDE = 170.394
  FIRST_STANDARD_PARALLEL = "N/A"
  LINE_FIRST_PIXEL = 1
  LINE_LAST_PIXEL = 19417
  LINE_PROJECTION_OFFSET = 79244.875
  MAP_PROJECTION_ROTATION = 0.0
  MAP_PROJECTION_TYPE = SINUSOIDAL
  MAP_RESOLUTION = 1185.42760773333
  MAP_SCALE = 0.05
  MAXIMUM_LATITUDE = 66.84999999999999
  MINIMUM_LATITUDE = 50.4737
  POSITIVE_LONGITUDE_DIRECTION = EAST
  REFERENCE_LATITUDE = "N/A"
  REFERENCE_LONGITUDE = "N/A"
  SAMPLE_FIRST_PIXEL = 1
  SAMPLE_LAST_PIXEL = 2971
  SAMPLE_PROJECTION_OFFSET = 1919.625
  SECOND_STANDARD_PARALLEL = "N/A"
  WESTERNMOST_LONGITUDE = 164.922
END_OBJECT = IMAGE_MAP_PROJECTION
END
