PDS_VERSION_ID = PDS3
/* FILE DATA ELEMENTS */
RECORD_TYPE = UNDEFINED
/* POINTERS TO DATA OBJECTS */
^IMAGE = ("H5374_0000_GR4.TIF")
/* IDENTIFICATION DATA ELEMENTS */
DATA_SET_ID = "MEX-M-HRSC-4-REFDR-MAPPROJECT-EXT2-V4.0"
DATA_SET_NAME = "MARS EXPRESS HRSC MAP PROJECTED REFDR EXTENSION2 V4.0"
DETECTOR_ID = MEX_HRSC_GREEN
EVENT_TYPE = "MARS-REGIONAL-MAPPING-Te-Pf-Mw"
INSTRUMENT_HOST_ID = MEX
INSTRUMENT_HOST_NAME = "MARS EXPRESS"
INSTRUMENT_ID = HRSC
INSTRUMENT_NAME = "HIGH RESOLUTION STEREO CAMERA"
MISSION_NAME = "MARS EXPRESS"
MISSION_PHASE_NAME = ME_Phase_11
PROCESSING_LEVEL_ID = 4
PRODUCT_CREATION_TIME = 2023-02-02T05:41:08.000Z
PRODUCT_ID = "H5374_0000_GR4.TIF"
RELEASE_ID = 0002
REVISION_ID = 0000
/* QUALITY DATA ELEMENTS */
DATA_QUALITY_ID = 1
DATA_QUALITY_DESC = "Data calculated based on original SPICE kernels"
/* TIME DATA ELEMENTS */
SPACECRAFT_CLOCK_START_COUNT = "1/0153113933.07296"
SPACECRAFT_CLOCK_STOP_COUNT = "1/0153114242.48683"
START_TIME = 2008-03-09T03:39:30.268Z
STOP_TIME = 2008-03-09T03:43:28.388Z
/* ORBITAL DATA ELEMENTS */
ASCENDING_NODE_LONGITUDE = 116.41
MAXIMUM_RESOLUTION = 0.0556
FOOTPRINT_POINT_LATITUDE = (63.854,63.8021,63.7566,63.7188,63.7172 ,63.6932,63.2032,62.8761,62.5483, 62.2201,61.8913,61.562,61.2322,60.9019, 60.571,60.2397,59.908,59.5758,59.2431, 58.9099,58.5763,58.2424,57.908,57.5732, 57.0858,56.5229,55.9591,55.6701,55.1048 ,54.5387,53.9717,53.4039,53.1197, 52.8354,52.4017,52.1169,51.8319,51.5468 ,51.2615,50.9761,50.6906,50.4049, 50.1192,49.8332,49.5472,49.2611,48.9749 ,48.6885,48.5454,48.5368,48.5685, 48.5899,48.5903,48.5913,49.0222,49.3094 ,49.5965,49.8835,50.1705,50.4573,50.744 ,51.0306,51.3171,51.6034,51.8897, 52.1758,52.4618,52.8973,53.1829,53.4684 ,53.7536,54.0388,54.3237,54.6085, 55.1775,55.7457,56.0363,56.6033,57.1694 ,57.6583,57.9953,58.3318,58.668,59.0039 ,59.3394,59.6745,60.0092,60.3435, 60.6774,61.011,61.3441,61.6767,62.009, 62.3408,62.6721,63.003,63.3334,63.6634, 63.8283,63.854)
FOOTPRINT_POINT_LONGITUDE = (109.352,107.996,107.02,106.303,106.275 ,106.194,106.345,106.442,106.537, 106.629,106.718,106.805,106.89,106.972, 107.052,107.13,107.206,107.28,107.352, 107.422,107.49,107.556,107.621,107.684, 107.772,107.87,107.963,108.01,108.097, 108.18,108.26,108.337,108.374,108.41, 108.464,108.498,108.531,108.564,108.596 ,108.627,108.657,108.687,108.716, 108.745,108.773,108.8,108.827,108.853, 108.865,108.866,109.82,110.674,110.691, 110.696,110.676,110.662,110.648,110.634 ,110.619,110.604,110.589,110.574, 110.558,110.542,110.526,110.509,110.492 ,110.466,110.448,110.43,110.411,110.392 ,110.373,110.354,110.313,110.272,110.25 ,110.205,110.159,110.118,110.088, 110.058,110.028,109.996,109.964,109.931 ,109.897,109.862,109.826,109.79,109.752 ,109.714,109.674,109.634,109.592, 109.549,109.506,109.461,109.438, 109.352)
ORBIT_NUMBER = 5374
ORBITAL_ECCENTRICITY = 0.571
ORBITAL_INCLINATION = 86.74
ORBITAL_SEMIMAJOR_AXIS = 8683.32
PERIAPSIS_ALTITUDE = 342.78
PERIAPSIS_ARGUMENT_ANGLE = 132.87
PERIAPSIS_TIME = 2008-03-09T03:43:57.000Z
SPACECRAFT_ORIENTATION = (0.0,-1.0,0.0)
^MEX_ORIENTATION_DESC = "MEX_ORIENTATION_DESC.TXT"
SPACECRAFT_POINTING_MODE = NADIR
^MEX_POINTING_DESC = "MEX_POINTING_DESC.TXT"
RIGHT_ASCENSION = -1e+32
DECLINATION = -1e+32
OFFSET_ANGLE = -1e+32
SPACECRAFT_SOLAR_DISTANCE = 2.46135e+08
TARGET_NAME = MARS
/* CAMERA DATA ELEMENTS */
DETECTOR_TEMPERATURE = 18.1666
FOCAL_PLANE_TEMPERATURE = 7.9716
INST_CMPRS_NAME = "DISCRETE COSINE TRANSFORMATION (DCT)"
INST_CMPRS_RATIO = 22.9923
INST_CMPRS_QUALITY = 0
INST_CMPRS_QUANTZ_TBL_ID = 0
INSTRUMENT_TEMPERATURE = 11.0301
LENS_TEMPERATURE = 8.3794
MACROPIXEL_SIZE = 4
PIXEL_SUBSAMPLING_FLAG = N
SIGNAL_CHAIN_ID = 2
/* RADIOMETRIC DATA ELEMENTS */
BANDWIDTH = 88.0
CENTER_FILTER_WAVELENGTH = 538.0
RADIANCE_OFFSET = 1.22051
RADIANCE_SCALING_FACTOR = 0.00314528
REFLECTANCE_SCALING_FACTOR = 0.000164057
MEX:REFLECTANCE_OFFSET = 0.0636614
/* IMAGE OBJECT DEFINITIONS */
OBJECT = IMAGE
  INTERCHANGE_FORMAT = BINARY
  LINES = 18145
  LINE_SAMPLES = 2808
  SAMPLE_TYPE = UNSIGNED_INTEGER
  SAMPLE_BITS = 8
  BANDS = 1
  BAND_STORAGE_TYPE = BAND_SEQUENTIAL
  MAXIMUM = 255
  MEAN = 126.752
  MINIMUM = 1
  STANDARD_DEVIATION = 48.0245
END_OBJECT = IMAGE
/* MAP OBJECT DEFINITIONS */
OBJECT = IMAGE_MAP_PROJECTION
  ^DATA_SET_MAP_PROJECTION_CATALOG= "DSMAP.CAT"
  A_AXIS_RADIUS = 3396.0
  B_AXIS_RADIUS = 3396.0
  C_AXIS_RADIUS = 3396.0
  CENTER_LATITUDE = 0.0
  CENTER_LONGITUDE = 109.0
  COORDINATE_SYSTEM_NAME = PLANETOGRAPHIC
  COORDINATE_SYSTEM_TYPE = "BODY-FIXED ROTATING"
  EASTERNMOST_LONGITUDE = 110.696
  FIRST_STANDARD_PARALLEL = "N/A"
  LINE_FIRST_PIXEL = 1
  LINE_LAST_PIXEL = 18145
  LINE_PROJECTION_OFFSET = 75684.375
  MAP_PROJECTION_ROTATION = 0.0
  MAP_PROJECTION_TYPE = SINUSOIDAL
  MAP_RESOLUTION = 1185.42760773333
  MAP_SCALE = 0.05
  MAXIMUM_LATITUDE = 63.854
  MINIMUM_LATITUDE = 48.5368
  POSITIVE_LONGITUDE_DIRECTION = EAST
  REFERENCE_LATITUDE = "N/A"
  REFERENCE_LONGITUDE = "N/A"
  SAMPLE_FIRST_PIXEL = 1
  SAMPLE_LAST_PIXEL = 2808
  SAMPLE_PROJECTION_OFFSET = 1477.875
  SECOND_STANDARD_PARALLEL = "N/A"
  WESTERNMOST_LONGITUDE = 106.194
END_OBJECT = IMAGE_MAP_PROJECTION
END
