PDS_VERSION_ID = PDS3
/* FILE DATA ELEMENTS */
RECORD_TYPE = UNDEFINED
/* POINTERS TO DATA OBJECTS */
^IMAGE = ("H5371_0000_IR4.TIF")
/* IDENTIFICATION DATA ELEMENTS */
DATA_SET_ID = "MEX-M-HRSC-4-REFDR-MAPPROJECT-EXT2-V4.0"
DATA_SET_NAME = "MARS EXPRESS HRSC MAP PROJECTED REFDR EXTENSION2 V4.0"
DETECTOR_ID = MEX_HRSC_IR
EVENT_TYPE = "MARS-REGIONAL-MAPPING-Gl-Pf-Mw"
INSTRUMENT_HOST_ID = MEX
INSTRUMENT_HOST_NAME = "MARS EXPRESS"
INSTRUMENT_ID = HRSC
INSTRUMENT_NAME = "HIGH RESOLUTION STEREO CAMERA"
MISSION_NAME = "MARS EXPRESS"
MISSION_PHASE_NAME = ME_Phase_11
PROCESSING_LEVEL_ID = 4
PRODUCT_CREATION_TIME = 2023-02-02T05:41:08.000Z
PRODUCT_ID = "H5371_0000_IR4.TIF"
RELEASE_ID = 0002
REVISION_ID = 0000
/* QUALITY DATA ELEMENTS */
DATA_QUALITY_ID = 1
DATA_QUALITY_DESC = "Data calculated based on original SPICE kernels"
/* TIME DATA ELEMENTS */
SPACECRAFT_CLOCK_START_COUNT = "1/0153040196.08240"
SPACECRAFT_CLOCK_STOP_COUNT = "1/0153040407.23320"
START_TIME = 2008-03-08T07:10:05.767Z
STOP_TIME = 2008-03-08T07:12:32.420Z
/* ORBITAL DATA ELEMENTS */
ASCENDING_NODE_LONGITUDE = 116.47
MAXIMUM_RESOLUTION = 0.0574
FOOTPRINT_POINT_LATITUDE = (53.781,53.7521,53.7191,53.6694,53.6682 ,53.5831,53.2169,52.9421,52.5752, 52.2075,51.8393,51.655,51.4709,51.2864, 51.1013,50.9166,50.6394,50.3608,50.1754 ,49.9901,49.8051,49.4366,49.2484, 48.8809,48.6897,48.5022,48.3155,48.1287 ,47.8484,47.6616,47.4744,47.2872, 47.0066,46.7255,46.5377,46.3499,46.1623 ,45.9756,45.693,45.5048,45.3202,45.0358 ,44.8465,44.6581,44.3762,44.2818, 44.2079,44.2346,44.2487,44.2617,44.2878 ,44.2884,44.2894,44.4777,44.6674, 44.8572,45.0461,45.2344,45.4242,45.7078 ,45.8987,46.0867,46.2745,46.4625, 46.7439,46.9305,47.1189,47.3076,47.5888 ,47.7762,47.9632,48.1497,48.3372, 48.5246,48.712,48.8993,49.0856,49.2725, 49.4594,49.6461,49.8325,50.0193,50.299, 50.4854,50.6714,50.8573,51.0433,51.229, 51.4145,51.6921,51.8776,52.0627,52.3403 ,52.5251,52.71,52.8946,53.2637,53.5396, 53.6315,53.781)
FOOTPRINT_POINT_LONGITUDE = (49.8963,49.2865,48.6717,47.857,47.8374 ,47.7623,47.8178,47.8587,47.9119, 47.9636,48.014,48.0387,48.0633,48.0874, 48.1108,48.1342,48.169,48.2022,48.2243, 48.2463,48.2683,48.313,48.3319,48.3763, 48.3922,48.4109,48.4301,48.449,48.477, 48.4954,48.5134,48.5312,48.5577,48.5835 ,48.6002,48.6167,48.6332,48.6502, 48.6734,48.6888,48.7069,48.728,48.742, 48.7566,48.7787,48.7856,48.791,49.2833, 49.5829,49.8815,50.4581,50.4736,50.4788 ,50.4705,50.4619,50.4532,50.4445, 50.4358,50.4268,50.4132,50.4036,50.3945 ,50.3853,50.376,50.3619,50.3526,50.3428 ,50.3328,50.3179,50.3079,50.2978, 50.2877,50.2772,50.2666,50.2559,50.2451 ,50.2344,50.2233,50.2122,50.2009, 50.1896,50.178,50.1604,50.1485,50.1366, 50.1245,50.1122,50.0999,50.0874,50.0685 ,50.0556,50.0426,50.0229,50.0095, 49.9959,49.9823,49.9544,49.9332,49.9261 ,49.8963)
ORBIT_NUMBER = 5371
ORBITAL_ECCENTRICITY = 0.571
ORBITAL_INCLINATION = 86.75
ORBITAL_SEMIMAJOR_AXIS = 8681.98
PERIAPSIS_ALTITUDE = 342.86
PERIAPSIS_ARGUMENT_ANGLE = 133.42
PERIAPSIS_TIME = 2008-03-08T07:12:24.000Z
SPACECRAFT_ORIENTATION = (0.0,-1.0,0.0)
^MEX_ORIENTATION_DESC = "MEX_ORIENTATION_DESC.TXT"
SPACECRAFT_POINTING_MODE = ACROSSTRACK
^MEX_POINTING_DESC = "MEX_POINTING_DESC.TXT"
RIGHT_ASCENSION = -1e+32
DECLINATION = -1e+32
OFFSET_ANGLE = -0.4
SPACECRAFT_SOLAR_DISTANCE = 2.46055e+08
TARGET_NAME = MARS
/* CAMERA DATA ELEMENTS */
DETECTOR_TEMPERATURE = 17.351
FOCAL_PLANE_TEMPERATURE = 8.5833
INST_CMPRS_NAME = "DISCRETE COSINE TRANSFORMATION (DCT)"
INST_CMPRS_RATIO = 13.6691
INST_CMPRS_QUALITY = 0
INST_CMPRS_QUANTZ_TBL_ID = 0
INSTRUMENT_TEMPERATURE = 11.234
LENS_TEMPERATURE = 8.7872
MACROPIXEL_SIZE = 4
MISSING_FRAMES = 0
PIXEL_SUBSAMPLING_FLAG = N
SIGNAL_CHAIN_ID = 2
/* RADIOMETRIC DATA ELEMENTS */
BANDWIDTH = 81.0
CENTER_FILTER_WAVELENGTH = 955.5
RADIANCE_OFFSET = 0.833587
RADIANCE_SCALING_FACTOR = 0.00744212
REFLECTANCE_SCALING_FACTOR = 0.000972047
MEX:REFLECTANCE_OFFSET = 0.108878
/* IMAGE OBJECT DEFINITIONS */
OBJECT = IMAGE
  INTERCHANGE_FORMAT = BINARY
  LINES = 11227
  LINE_SAMPLES = 2121
  SAMPLE_TYPE = UNSIGNED_INTEGER
  SAMPLE_BITS = 8
  BANDS = 1
  BAND_STORAGE_TYPE = BAND_SEQUENTIAL
  MAXIMUM = 255
  MEAN = 135.379
  MINIMUM = 1
  STANDARD_DEVIATION = 27.5193
END_OBJECT = IMAGE
/* MAP OBJECT DEFINITIONS */
OBJECT = IMAGE_MAP_PROJECTION
  ^DATA_SET_MAP_PROJECTION_CATALOG= "DSMAP.CAT"
  A_AXIS_RADIUS = 3396.0
  B_AXIS_RADIUS = 3396.0
  C_AXIS_RADIUS = 3396.0
  CENTER_LATITUDE = 0.0
  CENTER_LONGITUDE = 49.0
  COORDINATE_SYSTEM_NAME = PLANETOGRAPHIC
  COORDINATE_SYSTEM_TYPE = "BODY-FIXED ROTATING"
  EASTERNMOST_LONGITUDE = 50.4788
  FIRST_STANDARD_PARALLEL = "N/A"
  LINE_FIRST_PIXEL = 1
  LINE_LAST_PIXEL = 11227
  LINE_PROJECTION_OFFSET = 63667.125
  MAP_PROJECTION_ROTATION = 0.0
  MAP_PROJECTION_TYPE = SINUSOIDAL
  MAP_RESOLUTION = 1185.42760773333
  MAP_SCALE = 0.05
  MAXIMUM_LATITUDE = 53.781
  MINIMUM_LATITUDE = 44.2079
  POSITIVE_LONGITUDE_DIRECTION = EAST
  REFERENCE_LATITUDE = "N/A"
  REFERENCE_LONGITUDE = "N/A"
  SAMPLE_FIRST_PIXEL = 1
  SAMPLE_LAST_PIXEL = 2121
  SAMPLE_PROJECTION_OFFSET = 863.875
  SECOND_STANDARD_PARALLEL = "N/A"
  WESTERNMOST_LONGITUDE = 47.7623
END_OBJECT = IMAGE_MAP_PROJECTION
END
