PDS_VERSION_ID = PDS3
/* FILE DATA ELEMENTS */
RECORD_TYPE = UNDEFINED
/* POINTERS TO DATA OBJECTS */
^IMAGE = ("H5369_0000_S24.TIF")
/* IDENTIFICATION DATA ELEMENTS */
DATA_SET_ID = "MEX-M-HRSC-4-REFDR-MAPPROJECT-EXT2-V4.0"
DATA_SET_NAME = "MARS EXPRESS HRSC MAP PROJECTED REFDR EXTENSION2 V4.0"
DETECTOR_ID = MEX_HRSC_S2
EVENT_TYPE = "MARS-LOCAL-STEREO-Vo-Te"
INSTRUMENT_HOST_ID = MEX
INSTRUMENT_HOST_NAME = "MARS EXPRESS"
INSTRUMENT_ID = HRSC
INSTRUMENT_NAME = "HIGH RESOLUTION STEREO CAMERA"
MISSION_NAME = "MARS EXPRESS"
MISSION_PHASE_NAME = ME_Phase_11
PROCESSING_LEVEL_ID = 4
PRODUCT_CREATION_TIME = 2023-02-02T05:41:08.000Z
PRODUCT_ID = "H5369_0000_S24.TIF"
RELEASE_ID = 0002
REVISION_ID = 0000
/* QUALITY DATA ELEMENTS */
DATA_QUALITY_ID = 1
DATA_QUALITY_DESC = "Data calculated based on original SPICE kernels"
/* TIME DATA ELEMENTS */
SPACECRAFT_CLOCK_START_COUNT = "1/0152991027.08421"
SPACECRAFT_CLOCK_STOP_COUNT = "1/0152991259.42756"
START_TIME = 2008-03-07T17:31:32.778Z
STOP_TIME = 2008-03-07T17:34:21.398Z
/* ORBITAL DATA ELEMENTS */
ASCENDING_NODE_LONGITUDE = 116.52
MAXIMUM_RESOLUTION = 0.0144
FOOTPRINT_POINT_LATITUDE = (47.4221,47.3998,47.3814,47.3659, 47.3653,47.422,47.202,46.9804,46.6495, 46.3184,46.098,45.7672,45.5455,45.3271, 45.1049,44.8861,44.5596,44.3423,44.1256 ,43.9084,43.6917,43.3667,43.149,42.9321 ,42.7152,42.3903,42.174,41.9576,41.7419 ,41.5259,41.3107,41.0956,40.8817, 40.6681,40.3481,40.1343,39.8135,39.5991 ,39.3858,39.173,38.9609,38.643,38.4312, 38.2202,37.9039,37.4838,37.1694,36.7514 ,36.6475,36.6289,36.6375,36.6444,36.653 ,36.6637,36.6641,36.6645,36.9802, 37.1903,37.5061,37.8214,38.1371,38.3479 ,38.6654,38.8771,39.0892,39.3014,39.515 ,39.8346,40.1559,40.3701,40.5849, 40.7999,41.0163,41.2319,41.4482,41.7726 ,41.9887,42.2052,42.5302,42.7469, 42.9637,43.2891,43.5058,43.7228,43.9398 ,44.1572,44.4839,44.7021,44.9204, 45.2499,45.4698,45.6924,46.0241,46.3557 ,46.5765,46.7984,47.0192,47.352,47.4619 ,47.4221)
FOOTPRINT_POINT_LONGITUDE = (251.345,250.608,250.064,249.641, 249.624,249.595,249.611,249.628,249.651 ,249.675,249.69,249.712,249.727,249.74, 249.755,249.768,249.786,249.799,249.81, 249.822,249.833,249.85,249.861,249.872, 249.882,249.897,249.907,249.917,249.926 ,249.936,249.945,249.953,249.961, 249.969,249.981,249.989,250.0,250.007, 250.014,250.021,250.027,250.037,250.043 ,250.049,250.057,250.067,250.074, 250.083,250.085,250.085,250.46,250.725, 251.101,251.653,251.669,251.677,251.67, 251.665,251.657,251.649,251.64,251.635, 251.627,251.621,251.615,251.61,251.605, 251.596,251.588,251.583,251.577,251.572 ,251.567,251.561,251.556,251.548, 251.542,251.536,251.528,251.521,251.515 ,251.506,251.499,251.492,251.486, 251.479,251.468,251.462,251.455,251.445 ,251.438,251.433,251.424,251.414, 251.407,251.4,251.393,251.383,251.379, 251.345)
ORBIT_NUMBER = 5369
ORBITAL_ECCENTRICITY = 0.571
ORBITAL_INCLINATION = 86.74
ORBITAL_SEMIMAJOR_AXIS = 8684.6
PERIAPSIS_ALTITUDE = 342.21
PERIAPSIS_ARGUMENT_ANGLE = 133.73
PERIAPSIS_TIME = 2008-03-07T17:31:21.000Z
SPACECRAFT_ORIENTATION = (0.0,-1.0,0.0)
^MEX_ORIENTATION_DESC = "MEX_ORIENTATION_DESC.TXT"
SPACECRAFT_POINTING_MODE = ACROSSTRACK
^MEX_POINTING_DESC = "MEX_POINTING_DESC.TXT"
RIGHT_ASCENSION = -1e+32
DECLINATION = -1e+32
OFFSET_ANGLE = 0.2
SPACECRAFT_SOLAR_DISTANCE = 2.46e+08
TARGET_NAME = MARS
/* CAMERA DATA ELEMENTS */
DETECTOR_TEMPERATURE = 18.3705
FOCAL_PLANE_TEMPERATURE = 8.3794
INST_CMPRS_NAME = "DISCRETE COSINE TRANSFORMATION (DCT)"
INST_CMPRS_RATIO = 7.06082
INST_CMPRS_QUALITY = 0
INST_CMPRS_QUANTZ_TBL_ID = 0
INSTRUMENT_TEMPERATURE = 11.234
LENS_TEMPERATURE = 8.7872
MACROPIXEL_SIZE = 1
MISSING_FRAMES = 0
PIXEL_SUBSAMPLING_FLAG = N
SIGNAL_CHAIN_ID = 1
/* RADIOMETRIC DATA ELEMENTS */
BANDWIDTH = 178.0
CENTER_FILTER_WAVELENGTH = 679.0
RADIANCE_OFFSET = 5.82652
RADIANCE_SCALING_FACTOR = 0.0239916
REFLECTANCE_SCALING_FACTOR = 0.000768882
MEX:REFLECTANCE_OFFSET = 0.186728
/* IMAGE OBJECT DEFINITIONS */
OBJECT = IMAGE
  INTERCHANGE_FORMAT = BINARY
  LINES = 51266
  LINE_SAMPLES = 6951
  SAMPLE_TYPE = UNSIGNED_INTEGER
  SAMPLE_BITS = 8
  BANDS = 1
  BAND_STORAGE_TYPE = BAND_SEQUENTIAL
  MAXIMUM = 255
  MEAN = 157.385
  MINIMUM = 1
  STANDARD_DEVIATION = 15.186
END_OBJECT = IMAGE
/* MAP OBJECT DEFINITIONS */
OBJECT = IMAGE_MAP_PROJECTION
  ^DATA_SET_MAP_PROJECTION_CATALOG= "DSMAP.CAT"
  A_AXIS_RADIUS = 3396.0
  B_AXIS_RADIUS = 3396.0
  C_AXIS_RADIUS = 3396.0
  CENTER_LATITUDE = 0.0
  CENTER_LONGITUDE = 251.0
  COORDINATE_SYSTEM_NAME = PLANETOGRAPHIC
  COORDINATE_SYSTEM_TYPE = "BODY-FIXED ROTATING"
  EASTERNMOST_LONGITUDE = 251.677
  FIRST_STANDARD_PARALLEL = "N/A"
  LINE_FIRST_PIXEL = 1
  LINE_LAST_PIXEL = 51266
  LINE_PROJECTION_OFFSET = 225214.0
  MAP_PROJECTION_ROTATION = 0.0
  MAP_PROJECTION_TYPE = SINUSOIDAL
  MAP_RESOLUTION = 4741.71043093333
  MAP_SCALE = 0.0125
  MAXIMUM_LATITUDE = 47.4619
  MINIMUM_LATITUDE = 36.6289
  POSITIVE_LONGITUDE_DIRECTION = EAST
  REFERENCE_LATITUDE = "N/A"
  REFERENCE_LONGITUDE = "N/A"
  SAMPLE_FIRST_PIXEL = 1
  SAMPLE_LAST_PIXEL = 6951
  SAMPLE_PROJECTION_OFFSET = 4499.0
  SECOND_STANDARD_PARALLEL = "N/A"
  WESTERNMOST_LONGITUDE = 249.595
END_OBJECT = IMAGE_MAP_PROJECTION
END
