PDS_VERSION_ID = PDS3
/* FILE DATA ELEMENTS */
RECORD_TYPE = UNDEFINED
/* POINTERS TO DATA OBJECTS */
^IMAGE = ("H5368_0000_BL4.TIF")
/* IDENTIFICATION DATA ELEMENTS */
DATA_SET_ID = "MEX-M-HRSC-4-REFDR-MAPPROJECT-EXT2-V4.0"
DATA_SET_NAME = "MARS EXPRESS HRSC MAP PROJECTED REFDR EXTENSION2 V4.0"
DETECTOR_ID = MEX_HRSC_BLUE
EVENT_TYPE = "MARS-REGIONAL-MAPPING-Im-Fl-La"
INSTRUMENT_HOST_ID = MEX
INSTRUMENT_HOST_NAME = "MARS EXPRESS"
INSTRUMENT_ID = HRSC
INSTRUMENT_NAME = "HIGH RESOLUTION STEREO CAMERA"
MISSION_NAME = "MARS EXPRESS"
MISSION_PHASE_NAME = ME_Phase_11
PROCESSING_LEVEL_ID = 4
PRODUCT_CREATION_TIME = 2023-02-02T05:41:08.000Z
PRODUCT_ID = "H5368_0000_BL4.TIF"
RELEASE_ID = 0002
REVISION_ID = 0000
/* QUALITY DATA ELEMENTS */
DATA_QUALITY_ID = 1
DATA_QUALITY_DESC = "Data calculated based on original SPICE kernels"
/* TIME DATA ELEMENTS */
SPACECRAFT_CLOCK_START_COUNT = "1/0152966606.09083"
SPACECRAFT_CLOCK_STOP_COUNT = "1/0152967053.25033"
START_TIME = 2008-03-07T10:44:08.624Z
STOP_TIME = 2008-03-07T10:49:59.100Z
/* ORBITAL DATA ELEMENTS */
ASCENDING_NODE_LONGITUDE = 116.54
MAXIMUM_RESOLUTION = 0.0603
FOOTPRINT_POINT_LATITUDE = (33.4697,33.4591,33.4516,33.4513, 33.4613,33.0742,32.6877,32.302,31.9167, 31.5319,31.1478,30.7644,29.9986,29.2364 ,28.6656,27.9073,27.3281,26.9408, 26.5542,26.159,25.7635,25.3688,24.9656, 24.3625,23.7468,23.3369,22.7108,22.2931 ,21.8673,21.4417,21.0102,20.5769,20.138 ,19.6976,19.2537,18.8062,18.3498, 17.8918,17.4292,16.9623,16.2541,15.7778 ,15.2939,14.5613,14.0719,13.5859, 13.0998,12.6174,12.3766,12.3542,12.3484 ,12.339,12.3297,12.3294,12.3306,12.8136 ,13.2986,13.7858,14.2748,14.7656, 15.4974,15.9797,16.4574,16.9282,17.6289 ,18.0915,18.5463,19.2234,19.6726, 20.1137,20.5533,20.9889,21.4216,21.8489 ,22.276,22.6934,23.3189,23.7301,24.3463 ,24.7497,25.154,25.7515,26.1471,26.5429 ,26.9305,27.3186,27.8985,28.6584, 29.4207,30.1858,30.5692,30.9531,31.3377 ,31.7227,32.1085,32.4948,32.8813, 33.2685,33.4623,33.4697)
FOOTPRINT_POINT_LONGITUDE = (351.389,350.349,349.876,349.862, 349.832,349.839,349.846,349.852,349.858 ,349.863,349.868,349.872,349.88,349.883 ,349.887,349.889,349.891,349.891,349.89 ,349.89,349.889,349.888,349.887,349.881 ,349.879,349.874,349.868,349.863, 349.858,349.852,349.846,349.84,349.833, 349.825,349.812,349.803,349.795,349.788 ,349.778,349.767,349.75,349.737,349.724 ,349.702,349.689,349.672,349.659, 349.642,349.634,349.633,350.22,351.021, 351.704,351.723,351.73,351.723,351.717, 351.711,351.705,351.698,351.689,351.683 ,351.676,351.67,351.662,351.657,351.649 ,351.64,351.636,351.63,351.623,351.619, 351.613,351.609,351.603,351.595,351.583 ,351.577,351.568,351.562,351.557, 351.548,351.541,351.534,351.528,351.522 ,351.512,351.499,351.485,351.471, 351.464,351.457,351.449,351.442,351.434 ,351.427,351.418,351.41,351.406, 351.389)
ORBIT_NUMBER = 5368
ORBITAL_ECCENTRICITY = 0.57
ORBITAL_INCLINATION = 86.74
ORBITAL_SEMIMAJOR_AXIS = 8677.24
PERIAPSIS_ALTITUDE = 342.82
PERIAPSIS_ARGUMENT_ANGLE = 133.91
PERIAPSIS_TIME = 2008-03-07T10:40:49.000Z
SPACECRAFT_ORIENTATION = (0.0,-1.0,0.0)
^MEX_ORIENTATION_DESC = "MEX_ORIENTATION_DESC.TXT"
SPACECRAFT_POINTING_MODE = ACROSSTRACK
^MEX_POINTING_DESC = "MEX_POINTING_DESC.TXT"
RIGHT_ASCENSION = -1e+32
DECLINATION = -1e+32
OFFSET_ANGLE = -0.12
SPACECRAFT_SOLAR_DISTANCE = 2.45973e+08
TARGET_NAME = MARS
/* CAMERA DATA ELEMENTS */
DETECTOR_TEMPERATURE = 18.1666
FOCAL_PLANE_TEMPERATURE = 7.9716
INST_CMPRS_NAME = "DISCRETE COSINE TRANSFORMATION (DCT)"
INST_CMPRS_RATIO = 21.1065
INST_CMPRS_QUALITY = 0
INST_CMPRS_QUANTZ_TBL_ID = 0
INSTRUMENT_TEMPERATURE = 11.234
LENS_TEMPERATURE = 8.1755
MACROPIXEL_SIZE = 4
MISSING_FRAMES = 0
PIXEL_SUBSAMPLING_FLAG = N
SIGNAL_CHAIN_ID = 2
/* RADIOMETRIC DATA ELEMENTS */
BANDWIDTH = 76.0
CENTER_FILTER_WAVELENGTH = 444.0
RADIANCE_OFFSET = 0.673194
RADIANCE_SCALING_FACTOR = 0.00167199
REFLECTANCE_SCALING_FACTOR = 0.000103936
MEX:REFLECTANCE_OFFSET = 0.0418477
/* IMAGE OBJECT DEFINITIONS */
OBJECT = IMAGE
  INTERCHANGE_FORMAT = BINARY
  LINES = 25062
  LINE_SAMPLES = 2406
  SAMPLE_TYPE = UNSIGNED_INTEGER
  SAMPLE_BITS = 8
  BANDS = 1
  BAND_STORAGE_TYPE = BAND_SEQUENTIAL
  MAXIMUM = 255
  MEAN = 102.959
  MINIMUM = 1
  STANDARD_DEVIATION = 36.8221
END_OBJECT = IMAGE
/* MAP OBJECT DEFINITIONS */
OBJECT = IMAGE_MAP_PROJECTION
  ^DATA_SET_MAP_PROJECTION_CATALOG= "DSMAP.CAT"
  A_AXIS_RADIUS = 3396.0
  B_AXIS_RADIUS = 3396.0
  C_AXIS_RADIUS = 3396.0
  CENTER_LATITUDE = 0.0
  CENTER_LONGITUDE = 351.0
  COORDINATE_SYSTEM_NAME = PLANETOGRAPHIC
  COORDINATE_SYSTEM_TYPE = "BODY-FIXED ROTATING"
  EASTERNMOST_LONGITUDE = 351.73
  FIRST_STANDARD_PARALLEL = "N/A"
  LINE_FIRST_PIXEL = 1
  LINE_LAST_PIXEL = 25062
  LINE_PROJECTION_OFFSET = 39682.875
  MAP_PROJECTION_ROTATION = 0.0
  MAP_PROJECTION_TYPE = SINUSOIDAL
  MAP_RESOLUTION = 1185.42760773333
  MAP_SCALE = 0.05
  MAXIMUM_LATITUDE = 33.4697
  MINIMUM_LATITUDE = 12.3294
  POSITIVE_LONGITUDE_DIRECTION = EAST
  REFERENCE_LATITUDE = "N/A"
  REFERENCE_LONGITUDE = "N/A"
  SAMPLE_FIRST_PIXEL = 1
  SAMPLE_LAST_PIXEL = 2406
  SAMPLE_PROJECTION_OFFSET = 1576.875
  SECOND_STANDARD_PARALLEL = "N/A"
  WESTERNMOST_LONGITUDE = 349.633
END_OBJECT = IMAGE_MAP_PROJECTION
END
