PDS_VERSION_ID = PDS3
/* FILE DATA ELEMENTS */
RECORD_TYPE = UNDEFINED
/* POINTERS TO DATA OBJECTS */
^IMAGE = ("H5362_0009_RE4.TIF")
/* IDENTIFICATION DATA ELEMENTS */
DATA_SET_ID = "MEX-M-HRSC-4-REFDR-MAPPROJECT-EXT2-V4.0"
DATA_SET_NAME = "MARS EXPRESS HRSC MAP PROJECTED REFDR EXTENSION2 V4.0"
DETECTOR_ID = MEX_HRSC_RED
EVENT_TYPE = "MARS-REGIONAL-MAPPING-Vo-Te-Im"
INSTRUMENT_HOST_ID = MEX
INSTRUMENT_HOST_NAME = "MARS EXPRESS"
INSTRUMENT_ID = HRSC
INSTRUMENT_NAME = "HIGH RESOLUTION STEREO CAMERA"
MISSION_NAME = "MARS EXPRESS"
MISSION_PHASE_NAME = ME_Phase_11
PROCESSING_LEVEL_ID = 4
PRODUCT_CREATION_TIME = 2023-02-02T05:41:08.000Z
PRODUCT_ID = "H5362_0009_RE4.TIF"
RELEASE_ID = 0002
REVISION_ID = 0000
/* QUALITY DATA ELEMENTS */
DATA_QUALITY_ID = 1
DATA_QUALITY_DESC = "Data calculated based on original SPICE kernels"
/* TIME DATA ELEMENTS */
SPACECRAFT_CLOCK_START_COUNT = "1/0152818465.07286"
SPACECRAFT_CLOCK_STOP_COUNT = "1/0152818793.21891"
START_TIME = 2008-03-05T17:35:30.213Z
STOP_TIME = 2008-03-05T17:39:49.564Z
/* ORBITAL DATA ELEMENTS */
ASCENDING_NODE_LONGITUDE = 116.66
MAXIMUM_RESOLUTION = 0.0574
FOOTPRINT_POINT_LATITUDE = (55.0128,54.973,54.9415,54.9406,55.0181 ,54.6783,54.3383,53.998,53.4882,53.1484 ,52.8087,52.4687,52.1289,51.619,51.1097 ,50.7701,50.2607,49.7516,49.4124, 49.0733,48.7348,48.3958,48.0571,47.7188 ,47.3808,47.0428,46.7049,46.367,46.0295 ,45.6929,45.3548,45.0179,44.6813, 44.3448,44.0086,43.6729,43.1694,42.8342 ,42.4992,42.1646,41.8306,41.3297, 40.9967,40.6639,40.3316,39.9991,39.6672 ,39.0045,38.3444,38.1797,38.1746, 38.1871,38.1968,38.1969,38.1977,38.8591 ,39.191,39.5228,40.0217,40.3544,40.6881 ,41.0217,41.3559,41.6904,42.0252,42.36, 42.8634,43.1991,43.5354,44.0402,44.5462 ,45.0528,45.5596,46.0671,46.4057, 46.7443,47.083,47.4221,47.7612,48.1009, 48.6106,48.9506,49.2905,49.631,49.9711, 50.3119,50.823,51.164,51.5049,51.8461, 52.1871,52.5283,52.8697,53.211,53.5524, 54.0646,54.406,54.9185,55.0892,55.0128)
FOOTPRINT_POINT_LONGITUDE = (231.082,229.823,228.999,228.979, 228.914,228.964,229.013,229.06,229.129, 229.173,229.216,229.258,229.299,229.358 ,229.415,229.452,229.505,229.556, 229.588,229.62,229.651,229.681,229.71, 229.739,229.766,229.793,229.819,229.844 ,229.869,229.893,229.916,229.939, 229.961,229.982,230.002,230.022,230.051 ,230.07,230.088,230.105,230.121,230.146 ,230.161,230.176,230.19,230.204,230.217 ,230.242,230.265,230.271,230.271, 231.064,231.828,231.843,231.848,231.83, 231.822,231.813,231.799,231.79,231.781, 231.771,231.761,231.751,231.741,231.731 ,231.715,231.704,231.692,231.675, 231.658,231.639,231.621,231.601,231.588 ,231.574,231.56,231.546,231.531,231.517 ,231.494,231.478,231.462,231.446, 231.429,231.412,231.385,231.367,231.349 ,231.33,231.31,231.29,231.27,231.249, 231.228,231.195,231.172,231.137,231.125 ,231.082)
ORBIT_NUMBER = 5362
ORBITAL_ECCENTRICITY = 0.571
ORBITAL_INCLINATION = 86.75
ORBITAL_SEMIMAJOR_AXIS = 8683.85
PERIAPSIS_ALTITUDE = 341.43
PERIAPSIS_ARGUMENT_ANGLE = 134.96
PERIAPSIS_TIME = 2008-03-05T17:37:39.000Z
SPACECRAFT_ORIENTATION = (0.0,-1.0,0.0)
^MEX_ORIENTATION_DESC = "MEX_ORIENTATION_DESC.TXT"
SPACECRAFT_POINTING_MODE = NADIR
^MEX_POINTING_DESC = "MEX_POINTING_DESC.TXT"
RIGHT_ASCENSION = -1e+32
DECLINATION = -1e+32
OFFSET_ANGLE = -1e+32
SPACECRAFT_SOLAR_DISTANCE = 2.45807e+08
TARGET_NAME = MARS
/* CAMERA DATA ELEMENTS */
DETECTOR_TEMPERATURE = 19.1861
FOCAL_PLANE_TEMPERATURE = 8.7872
INST_CMPRS_NAME = "DISCRETE COSINE TRANSFORMATION (DCT)"
INST_CMPRS_RATIO = 15.3914
INST_CMPRS_QUALITY = 0
INST_CMPRS_QUANTZ_TBL_ID = 0
INSTRUMENT_TEMPERATURE = 12.0496
LENS_TEMPERATURE = 9.3989
MACROPIXEL_SIZE = 4
MISSING_FRAMES = 0
PIXEL_SUBSAMPLING_FLAG = N
SIGNAL_CHAIN_ID = 2
/* RADIOMETRIC DATA ELEMENTS */
BANDWIDTH = 48.0
CENTER_FILTER_WAVELENGTH = 748.0
RADIANCE_OFFSET = 1.37381
RADIANCE_SCALING_FACTOR = 0.00705684
REFLECTANCE_SCALING_FACTOR = 0.000973032
MEX:REFLECTANCE_OFFSET = 0.189427
/* IMAGE OBJECT DEFINITIONS */
OBJECT = IMAGE
  INTERCHANGE_FORMAT = BINARY
  LINES = 20059
  LINE_SAMPLES = 2208
  SAMPLE_TYPE = UNSIGNED_INTEGER
  SAMPLE_BITS = 8
  BANDS = 1
  BAND_STORAGE_TYPE = BAND_SEQUENTIAL
  MAXIMUM = 255
  MEAN = 137.504
  MINIMUM = 1
  STANDARD_DEVIATION = 24.0005
END_OBJECT = IMAGE
/* MAP OBJECT DEFINITIONS */
OBJECT = IMAGE_MAP_PROJECTION
  ^DATA_SET_MAP_PROJECTION_CATALOG= "DSMAP.CAT"
  A_AXIS_RADIUS = 3396.0
  B_AXIS_RADIUS = 3396.0
  C_AXIS_RADIUS = 3396.0
  CENTER_LATITUDE = 0.0
  CENTER_LONGITUDE = 231.0
  COORDINATE_SYSTEM_NAME = PLANETOGRAPHIC
  COORDINATE_SYSTEM_TYPE = "BODY-FIXED ROTATING"
  EASTERNMOST_LONGITUDE = 231.848
  FIRST_STANDARD_PARALLEL = "N/A"
  LINE_FIRST_PIXEL = 1
  LINE_LAST_PIXEL = 20059
  LINE_PROJECTION_OFFSET = 65310.375
  MAP_PROJECTION_ROTATION = 0.0
  MAP_PROJECTION_TYPE = SINUSOIDAL
  MAP_RESOLUTION = 1185.42760773333
  MAP_SCALE = 0.05
  MAXIMUM_LATITUDE = 55.0892
  MINIMUM_LATITUDE = 38.1746
  POSITIVE_LONGITUDE_DIRECTION = EAST
  REFERENCE_LATITUDE = "N/A"
  REFERENCE_LONGITUDE = "N/A"
  SAMPLE_FIRST_PIXEL = 1
  SAMPLE_LAST_PIXEL = 2208
  SAMPLE_PROJECTION_OFFSET = 1432.375
  SECOND_STANDARD_PARALLEL = "N/A"
  WESTERNMOST_LONGITUDE = 228.914
END_OBJECT = IMAGE_MAP_PROJECTION
END
