PDS_VERSION_ID = PDS3
/* FILE DATA ELEMENTS */
RECORD_TYPE = UNDEFINED
/* POINTERS TO DATA OBJECTS */
^IMAGE = ("H5354_0000_S14.TIF")
/* IDENTIFICATION DATA ELEMENTS */
DATA_SET_ID = "MEX-M-HRSC-4-REFDR-MAPPROJECT-EXT2-V4.0"
DATA_SET_NAME = "MARS EXPRESS HRSC MAP PROJECTED REFDR EXTENSION2 V4.0"
DETECTOR_ID = MEX_HRSC_S1
EVENT_TYPE = "MARS-REGIONAL-MAPPING-Im-Pf-Ts"
INSTRUMENT_HOST_ID = MEX
INSTRUMENT_HOST_NAME = "MARS EXPRESS"
INSTRUMENT_ID = HRSC
INSTRUMENT_NAME = "HIGH RESOLUTION STEREO CAMERA"
MISSION_NAME = "MARS EXPRESS"
MISSION_PHASE_NAME = ME_Phase_11
PROCESSING_LEVEL_ID = 4
PRODUCT_CREATION_TIME = 2023-02-02T05:41:08.000Z
PRODUCT_ID = "H5354_0000_S14.TIF"
RELEASE_ID = 0002
REVISION_ID = 0000
/* QUALITY DATA ELEMENTS */
DATA_QUALITY_ID = 1
DATA_QUALITY_DESC = "Data calculated based on original SPICE kernels"
/* TIME DATA ELEMENTS */
SPACECRAFT_CLOCK_START_COUNT = "1/0152621198.09092"
SPACECRAFT_CLOCK_STOP_COUNT = "1/0152621483.06866"
START_TIME = 2008-03-03T10:46:41.969Z
STOP_TIME = 2008-03-03T10:50:17.890Z
/* ORBITAL DATA ELEMENTS */
ASCENDING_NODE_LONGITUDE = 116.82
MAXIMUM_RESOLUTION = 0.0324
FOOTPRINT_POINT_LATITUDE = (66.7639,66.7279,66.7002,66.6463, 66.6054,66.5633,66.5607,66.4199,66.1433 ,65.8714,65.5988,65.3263,65.0582, 64.7892,64.5194,64.2549,63.9897,63.5922 ,63.3314,63.07,62.6783,62.2928,62.0354, 61.6494,61.2711,61.017,60.6374,60.3888, 60.1395,59.8898,59.517,59.2723,58.9044, 58.6588,58.4131,58.0525,57.5705,57.2074 ,56.7223,56.2355,55.9875,55.6206, 55.3755,55.13,54.7607,54.5145,54.2638, 53.893,53.7694,53.7607,53.7853,53.8182, 53.8426,53.8432,53.8438,54.0928,54.3414 ,54.5938,54.8414,55.089,55.3363,55.5833 ,55.8298,56.0759,56.3254,56.571,57.0605 ,57.5485,58.035,58.5198,58.767,59.015, 59.2624,59.5094,59.7561,60.0088,60.261, 60.5127,60.7643,61.018,61.4012,61.6608, 61.9163,62.307,62.5674,62.8275,63.2234, 63.4881,63.7524,64.1552,64.4239,64.6921 ,64.9656,65.2388,65.5113,65.788,66.0654 ,66.4826,66.6233,66.7639)
FOOTPRINT_POINT_LONGITUDE = (310.49,309.511,308.861,307.768,307.042 ,306.357,306.317,306.255,306.374, 306.488,306.6,306.708,306.812,306.913, 307.012,307.107,307.199,307.334,307.419 ,307.503,307.625,307.74,307.816,307.924 ,308.029,308.096,308.194,308.257, 308.319,308.379,308.467,308.523,308.605 ,308.658,308.71,308.785,308.882,308.952 ,309.043,309.13,309.174,309.236,309.277 ,309.316,309.375,309.413,309.451, 309.506,309.524,309.525,310.073,310.93, 311.766,311.788,311.796,311.782,311.768 ,311.754,311.74,311.725,311.71,311.695, 311.679,311.664,311.648,311.631,311.598 ,311.564,311.529,311.493,311.474, 311.454,311.434,311.414,311.394,311.372 ,311.351,311.329,311.306,311.283, 311.249,311.221,311.196,311.157,311.13, 311.103,311.06,311.031,311.001,310.954, 310.921,310.888,310.854,310.818,310.782 ,310.745,310.706,310.646,310.626, 310.49)
ORBIT_NUMBER = 5354
ORBITAL_ECCENTRICITY = 0.571
ORBITAL_INCLINATION = 86.74
ORBITAL_SEMIMAJOR_AXIS = 8680.84
PERIAPSIS_ALTITUDE = 341.38
PERIAPSIS_ARGUMENT_ANGLE = 136.42
PERIAPSIS_TIME = 2008-03-03T10:53:31.000Z
SPACECRAFT_ORIENTATION = (0.0,-1.0,0.0)
^MEX_ORIENTATION_DESC = "MEX_ORIENTATION_DESC.TXT"
SPACECRAFT_POINTING_MODE = NADIR
^MEX_POINTING_DESC = "MEX_POINTING_DESC.TXT"
RIGHT_ASCENSION = -1e+32
DECLINATION = -1e+32
OFFSET_ANGLE = -1e+32
SPACECRAFT_SOLAR_DISTANCE = 2.4558e+08
TARGET_NAME = MARS
/* CAMERA DATA ELEMENTS */
DETECTOR_TEMPERATURE = 17.351
FOCAL_PLANE_TEMPERATURE = 8.1755
INST_CMPRS_NAME = "DISCRETE COSINE TRANSFORMATION (DCT)"
INST_CMPRS_RATIO = 12.0901
INST_CMPRS_QUALITY = 0
INST_CMPRS_QUANTZ_TBL_ID = 0
INSTRUMENT_TEMPERATURE = 11.0301
LENS_TEMPERATURE = 8.7872
MACROPIXEL_SIZE = 2
PIXEL_SUBSAMPLING_FLAG = N
SIGNAL_CHAIN_ID = 1
/* RADIOMETRIC DATA ELEMENTS */
BANDWIDTH = 180.0
CENTER_FILTER_WAVELENGTH = 677.0
RADIANCE_OFFSET = 2.86356
RADIANCE_SCALING_FACTOR = 0.0307775
REFLECTANCE_SCALING_FACTOR = 0.000968413
MEX:REFLECTANCE_OFFSET = 0.0901017
/* IMAGE OBJECT DEFINITIONS */
OBJECT = IMAGE
  INTERCHANGE_FORMAT = BINARY
  LINES = 30504
  LINE_SAMPLES = 5890
  SAMPLE_TYPE = UNSIGNED_INTEGER
  SAMPLE_BITS = 8
  BANDS = 1
  BAND_STORAGE_TYPE = BAND_SEQUENTIAL
  MAXIMUM = 255
  MEAN = 109.735
  MINIMUM = 1
  STANDARD_DEVIATION = 44.7991
END_OBJECT = IMAGE
/* MAP OBJECT DEFINITIONS */
OBJECT = IMAGE_MAP_PROJECTION
  ^DATA_SET_MAP_PROJECTION_CATALOG= "DSMAP.CAT"
  A_AXIS_RADIUS = 3396.0
  B_AXIS_RADIUS = 3396.0
  C_AXIS_RADIUS = 3396.0
  CENTER_LATITUDE = 0.0
  CENTER_LONGITUDE = 310.0
  COORDINATE_SYSTEM_NAME = PLANETOGRAPHIC
  COORDINATE_SYSTEM_TYPE = "BODY-FIXED ROTATING"
  EASTERNMOST_LONGITUDE = 311.796
  FIRST_STANDARD_PARALLEL = "N/A"
  LINE_FIRST_PIXEL = 1
  LINE_LAST_PIXEL = 30504
  LINE_PROJECTION_OFFSET = 158022.25
  MAP_PROJECTION_ROTATION = 0.0
  MAP_PROJECTION_TYPE = SINUSOIDAL
  MAP_RESOLUTION = 2370.85521546667
  MAP_SCALE = 0.025
  MAXIMUM_LATITUDE = 66.76390000000001
  MINIMUM_LATITUDE = 53.7607
  POSITIVE_LONGITUDE_DIRECTION = EAST
  REFERENCE_LATITUDE = "N/A"
  REFERENCE_LONGITUDE = "N/A"
  SAMPLE_FIRST_PIXEL = 1
  SAMPLE_LAST_PIXEL = 5890
  SAMPLE_PROJECTION_OFFSET = 3441.75
  SECOND_STANDARD_PARALLEL = "N/A"
  WESTERNMOST_LONGITUDE = 306.255
END_OBJECT = IMAGE_MAP_PROJECTION
END
