PDS_VERSION_ID = PDS3
/* FILE DATA ELEMENTS */
RECORD_TYPE = UNDEFINED
/* POINTERS TO DATA OBJECTS */
^IMAGE = ("H5354_0000_BL4.TIF")
/* IDENTIFICATION DATA ELEMENTS */
DATA_SET_ID = "MEX-M-HRSC-4-REFDR-MAPPROJECT-EXT2-V4.0"
DATA_SET_NAME = "MARS EXPRESS HRSC MAP PROJECTED REFDR EXTENSION2 V4.0"
DETECTOR_ID = MEX_HRSC_BLUE
EVENT_TYPE = "MARS-REGIONAL-MAPPING-Im-Pf-Ts"
INSTRUMENT_HOST_ID = MEX
INSTRUMENT_HOST_NAME = "MARS EXPRESS"
INSTRUMENT_ID = HRSC
INSTRUMENT_NAME = "HIGH RESOLUTION STEREO CAMERA"
MISSION_NAME = "MARS EXPRESS"
MISSION_PHASE_NAME = ME_Phase_11
PROCESSING_LEVEL_ID = 4
PRODUCT_CREATION_TIME = 2023-02-02T05:41:08.000Z
PRODUCT_ID = "H5354_0000_BL4.TIF"
RELEASE_ID = 0002
REVISION_ID = 0000
/* QUALITY DATA ELEMENTS */
DATA_QUALITY_ID = 1
DATA_QUALITY_DESC = "Data calculated based on original SPICE kernels"
/* TIME DATA ELEMENTS */
SPACECRAFT_CLOCK_START_COUNT = "1/0152621198.09092"
SPACECRAFT_CLOCK_STOP_COUNT = "1/0152621483.06866"
START_TIME = 2008-03-03T10:47:36.760Z
STOP_TIME = 2008-03-03T10:50:57.961Z
/* ORBITAL DATA ELEMENTS */
ASCENDING_NODE_LONGITUDE = 116.82
MAXIMUM_RESOLUTION = 0.0592
FOOTPRINT_POINT_LATITUDE = (66.6216,66.58,66.5204,66.4479,66.4459, 66.4632,66.189,65.778,65.5093,65.2401, 64.9705,64.7023,64.4385,64.1743,63.9098 ,63.6455,63.3869,63.1279,62.8686, 62.4798,62.2264,61.9725,61.7184,61.465, 61.2108,60.7141,60.2164,59.7176,59.4679 ,59.2179,58.9677,58.7173,58.4667, 58.2158,57.9647,57.7133,57.4618,57.2101 ,56.9582,56.7061,56.4538,56.2013, 55.9486,55.6958,55.4427,55.1895,54.7018 ,54.2766,53.9574,53.851,53.7879,53.829, 53.8443,53.8622,53.8628,53.8638,54.2916 ,54.719,55.07,55.3247,55.5793,55.8337, 56.088,56.3421,56.596,56.8499,57.1035, 57.357,57.6103,57.8635,58.1165,58.3692, 58.6219,58.8743,59.1265,59.3786,59.6304 ,59.8821,60.1335,60.6358,61.1371, 61.6442,61.901,62.2858,62.5419,62.9328, 63.195,63.4569,63.7185,64.1177,64.3854, 64.6527,64.9196,65.1926,65.6019,65.8744 ,66.1501,66.4286,66.5676,66.6216)
FOOTPRINT_POINT_LONGITUDE = (310.334,309.225,307.908,306.561, 306.526,306.41,306.524,306.688,306.793, 306.894,306.993,307.089,307.181,307.271 ,307.36,307.445,307.527,307.607,307.685 ,307.8,307.872,307.943,308.012,308.076, 308.145,308.27,308.391,308.506,308.562, 308.617,308.671,308.723,308.775,308.826 ,308.875,308.924,308.972,309.018, 309.064,309.109,309.153,309.196,309.239 ,309.28,309.321,309.361,309.435,309.498 ,309.544,309.559,309.568,310.621, 311.089,311.719,311.74,311.746,311.72, 311.693,311.67,311.653,311.636,311.618, 311.601,311.582,311.564,311.545,311.526 ,311.506,311.486,311.466,311.445, 311.424,311.403,311.381,311.359,311.336 ,311.313,311.29,311.266,311.216,311.165 ,311.11,311.082,311.039,311.01,310.963, 310.931,310.898,310.865,310.812,310.776 ,310.738,310.7,310.661,310.599,310.556, 310.513,310.467,310.444,310.334)
ORBIT_NUMBER = 5354
ORBITAL_ECCENTRICITY = 0.571
ORBITAL_INCLINATION = 86.74
ORBITAL_SEMIMAJOR_AXIS = 8680.84
PERIAPSIS_ALTITUDE = 341.38
PERIAPSIS_ARGUMENT_ANGLE = 136.42
PERIAPSIS_TIME = 2008-03-03T10:53:31.000Z
SPACECRAFT_ORIENTATION = (0.0,-1.0,0.0)
^MEX_ORIENTATION_DESC = "MEX_ORIENTATION_DESC.TXT"
SPACECRAFT_POINTING_MODE = NADIR
^MEX_POINTING_DESC = "MEX_POINTING_DESC.TXT"
RIGHT_ASCENSION = -1e+32
DECLINATION = -1e+32
OFFSET_ANGLE = -1e+32
SPACECRAFT_SOLAR_DISTANCE = 2.4558e+08
TARGET_NAME = MARS
/* CAMERA DATA ELEMENTS */
DETECTOR_TEMPERATURE = 17.9627
FOCAL_PLANE_TEMPERATURE = 8.1755
INST_CMPRS_NAME = "DISCRETE COSINE TRANSFORMATION (DCT)"
INST_CMPRS_RATIO = 10.8059
INST_CMPRS_QUALITY = 0
INST_CMPRS_QUANTZ_TBL_ID = 0
INSTRUMENT_TEMPERATURE = 11.0301
LENS_TEMPERATURE = 8.7872
MACROPIXEL_SIZE = 4
MISSING_FRAMES = 0
PIXEL_SUBSAMPLING_FLAG = N
SIGNAL_CHAIN_ID = 2
/* RADIOMETRIC DATA ELEMENTS */
BANDWIDTH = 76.0
CENTER_FILTER_WAVELENGTH = 444.0
RADIANCE_OFFSET = 0.471532
RADIANCE_SCALING_FACTOR = 0.00769009
REFLECTANCE_SCALING_FACTOR = 0.000476511
MEX:REFLECTANCE_OFFSET = 0.0292181
/* IMAGE OBJECT DEFINITIONS */
OBJECT = IMAGE
  INTERCHANGE_FORMAT = BINARY
  LINES = 15252
  LINE_SAMPLES = 2945
  SAMPLE_TYPE = UNSIGNED_INTEGER
  SAMPLE_BITS = 8
  BANDS = 1
  BAND_STORAGE_TYPE = BAND_SEQUENTIAL
  MAXIMUM = 255
  MEAN = 54.9899
  MINIMUM = 1
  STANDARD_DEVIATION = 42.4056
END_OBJECT = IMAGE
/* MAP OBJECT DEFINITIONS */
OBJECT = IMAGE_MAP_PROJECTION
  ^DATA_SET_MAP_PROJECTION_CATALOG= "DSMAP.CAT"
  A_AXIS_RADIUS = 3396.0
  B_AXIS_RADIUS = 3396.0
  C_AXIS_RADIUS = 3396.0
  CENTER_LATITUDE = 0.0
  CENTER_LONGITUDE = 310.0
  COORDINATE_SYSTEM_NAME = PLANETOGRAPHIC
  COORDINATE_SYSTEM_TYPE = "BODY-FIXED ROTATING"
  EASTERNMOST_LONGITUDE = 311.746
  FIRST_STANDARD_PARALLEL = "N/A"
  LINE_FIRST_PIXEL = 1
  LINE_LAST_PIXEL = 15252
  LINE_PROJECTION_OFFSET = 79010.875
  MAP_PROJECTION_ROTATION = 0.0
  MAP_PROJECTION_TYPE = SINUSOIDAL
  MAP_RESOLUTION = 1185.42760773333
  MAP_SCALE = 0.05
  MAXIMUM_LATITUDE = 66.6216
  MINIMUM_LATITUDE = 53.7879
  POSITIVE_LONGITUDE_DIRECTION = EAST
  REFERENCE_LATITUDE = "N/A"
  REFERENCE_LONGITUDE = "N/A"
  SAMPLE_FIRST_PIXEL = 1
  SAMPLE_LAST_PIXEL = 2945
  SAMPLE_PROJECTION_OFFSET = 1720.625
  SECOND_STANDARD_PARALLEL = "N/A"
  WESTERNMOST_LONGITUDE = 306.41
END_OBJECT = IMAGE_MAP_PROJECTION
END
