PDS_VERSION_ID = PDS3
/* FILE DATA ELEMENTS */
RECORD_TYPE = UNDEFINED
/* POINTERS TO DATA OBJECTS */
^IMAGE = ("H5349_0000_P24.TIF")
/* IDENTIFICATION DATA ELEMENTS */
DATA_SET_ID = "MEX-M-HRSC-4-REFDR-MAPPROJECT-EXT2-V4.0"
DATA_SET_NAME = "MARS EXPRESS HRSC MAP PROJECTED REFDR EXTENSION2 V4.0"
DETECTOR_ID = MEX_HRSC_P2
EVENT_TYPE = "MARS-REGIONAL-MAPPING-Vo-Im-Eo"
INSTRUMENT_HOST_ID = MEX
INSTRUMENT_HOST_NAME = "MARS EXPRESS"
INSTRUMENT_ID = HRSC
INSTRUMENT_NAME = "HIGH RESOLUTION STEREO CAMERA"
MISSION_NAME = "MARS EXPRESS"
MISSION_PHASE_NAME = ME_Phase_11
PROCESSING_LEVEL_ID = 4
PRODUCT_CREATION_TIME = 2023-02-02T05:41:08.000Z
PRODUCT_ID = "H5349_0000_P24.TIF"
RELEASE_ID = 0002
REVISION_ID = 0000
/* QUALITY DATA ELEMENTS */
DATA_QUALITY_ID = 1
DATA_QUALITY_DESC = "Data calculated based on original SPICE kernels"
/* TIME DATA ELEMENTS */
SPACECRAFT_CLOCK_START_COUNT = "1/0152498201.07296"
SPACECRAFT_CLOCK_STOP_COUNT = "1/0152498596.55207"
START_TIME = 2008-03-02T00:37:44.202Z
STOP_TIME = 2008-03-02T00:43:07.361Z
/* ORBITAL DATA ELEMENTS */
ASCENDING_NODE_LONGITUDE = 116.92
MAXIMUM_RESOLUTION = 0.0566
FOOTPRINT_POINT_LATITUDE = (56.3664,56.3291,56.2821,56.2812, 56.3484,55.9282,55.5077,55.0868,54.6657 ,54.0336,53.4011,52.9794,52.5575, 52.1354,51.5022,51.08,50.6577,50.2355, 49.6023,49.1801,48.5471,48.1249,47.7027 ,47.2807,46.8588,46.4362,45.8039, 45.3821,44.9612,44.5399,44.1189,43.6982 ,43.0683,42.6485,42.2289,41.8097,41.391 ,40.9725,40.5545,40.1367,39.7195, 39.3025,38.8862,38.4702,38.0548,37.2254 ,36.3984,35.5731,35.3673,35.342,35.3539 ,35.3692,35.3695,35.3704,36.1961, 37.0241,37.8545,38.2704,38.6869,39.1038 ,39.5213,39.9391,40.3574,40.7762, 41.1953,41.6148,42.0347,42.4551,42.8757 ,43.2961,43.7174,44.1391,44.5609, 44.9832,45.4056,45.8279,46.2508,46.8848 ,47.5198,47.9432,48.3667,49.0019, 49.4257,49.8495,50.2733,50.6973,51.1209 ,51.5443,51.9684,52.3923,52.8159,53.452 ,54.0868,54.5102,54.9334,55.3565, 55.7793,56.2021,56.4134,56.3664)
FOOTPRINT_POINT_LONGITUDE = (92.1224,91.0124,89.869,89.8479,89.7902 ,89.8573,89.9222,89.985,90.0458,90.1332 ,90.2164,90.2694,90.3207,90.3703, 90.4417,90.4872,90.5313,90.5738,90.6348 ,90.6739,90.7297,90.7655,90.8001, 90.8335,90.8657,90.8972,90.9418,90.9703 ,90.9975,91.024,91.0495,91.074,91.1087, 91.1308,91.1521,91.1725,91.192,91.2108, 91.2287,91.2459,91.2624,91.2782,91.2932 ,91.3075,91.3211,91.3464,91.369,91.3894 ,91.394,91.3946,91.9767,92.9074,92.9218 ,92.9266,92.9117,92.8961,92.8798, 92.8714,92.8628,92.8539,92.845,92.8356, 92.8261,92.8164,92.8065,92.7963,92.7857 ,92.7751,92.7641,92.7524,92.7409, 92.7291,92.7169,92.7045,92.6916,92.6783 ,92.6648,92.6433,92.6215,92.6064, 92.5908,92.5663,92.5496,92.5324,92.5147 ,92.4965,92.4776,92.4579,92.4382, 92.4178,92.3966,92.3643,92.3296,92.3058 ,92.2813,92.2561,92.2299,92.2032, 92.1895,92.1224)
ORBIT_NUMBER = 5349
ORBITAL_ECCENTRICITY = 0.571
ORBITAL_INCLINATION = 86.74
ORBITAL_SEMIMAJOR_AXIS = 8690.82
PERIAPSIS_ALTITUDE = 339.89
PERIAPSIS_ARGUMENT_ANGLE = 137.26
PERIAPSIS_TIME = 2008-03-02T00:40:53.000Z
SPACECRAFT_ORIENTATION = (0.0,-1.0,0.0)
^MEX_ORIENTATION_DESC = "MEX_ORIENTATION_DESC.TXT"
SPACECRAFT_POINTING_MODE = ACROSSTRACK
^MEX_POINTING_DESC = "MEX_POINTING_DESC.TXT"
RIGHT_ASCENSION = -1e+32
DECLINATION = -1e+32
OFFSET_ANGLE = 0.15
SPACECRAFT_SOLAR_DISTANCE = 2.45435e+08
TARGET_NAME = MARS
/* CAMERA DATA ELEMENTS */
DETECTOR_TEMPERATURE = 18.5744
FOCAL_PLANE_TEMPERATURE = 8.3794
INST_CMPRS_NAME = "DISCRETE COSINE TRANSFORMATION (DCT)"
INST_CMPRS_RATIO = 12.9006
INST_CMPRS_QUALITY = 0
INST_CMPRS_QUANTZ_TBL_ID = 0
INSTRUMENT_TEMPERATURE = 11.234
LENS_TEMPERATURE = 9.195
MACROPIXEL_SIZE = 4
MISSING_FRAMES = 0
PIXEL_SUBSAMPLING_FLAG = N
SIGNAL_CHAIN_ID = 3
/* RADIOMETRIC DATA ELEMENTS */
BANDWIDTH = 177.0
CENTER_FILTER_WAVELENGTH = 676.5
RADIANCE_OFFSET = 2.86242
RADIANCE_SCALING_FACTOR = 0.0240219
REFLECTANCE_SCALING_FACTOR = 0.000767249
MEX:REFLECTANCE_OFFSET = 0.0914245
/* IMAGE OBJECT DEFINITIONS */
OBJECT = IMAGE
  INTERCHANGE_FORMAT = BINARY
  LINES = 25018
  LINE_SAMPLES = 2356
  SAMPLE_TYPE = UNSIGNED_INTEGER
  SAMPLE_BITS = 8
  BANDS = 1
  BAND_STORAGE_TYPE = BAND_SEQUENTIAL
  MAXIMUM = 255
  MEAN = 93.7603
  MINIMUM = 1
  STANDARD_DEVIATION = 67.8632
END_OBJECT = IMAGE
/* MAP OBJECT DEFINITIONS */
OBJECT = IMAGE_MAP_PROJECTION
  ^DATA_SET_MAP_PROJECTION_CATALOG= "DSMAP.CAT"
  A_AXIS_RADIUS = 3396.0
  B_AXIS_RADIUS = 3396.0
  C_AXIS_RADIUS = 3396.0
  CENTER_LATITUDE = 0.0
  CENTER_LONGITUDE = 92.0
  COORDINATE_SYSTEM_NAME = PLANETOGRAPHIC
  COORDINATE_SYSTEM_TYPE = "BODY-FIXED ROTATING"
  EASTERNMOST_LONGITUDE = 92.92659999999999
  FIRST_STANDARD_PARALLEL = "N/A"
  LINE_FIRST_PIXEL = 1
  LINE_LAST_PIXEL = 25018
  LINE_PROJECTION_OFFSET = 66892.125
  MAP_PROJECTION_ROTATION = 0.0
  MAP_PROJECTION_TYPE = SINUSOIDAL
  MAP_RESOLUTION = 1185.42760773333
  MAP_SCALE = 0.05
  MAXIMUM_LATITUDE = 56.4134
  MINIMUM_LATITUDE = 35.342
  POSITIVE_LONGITUDE_DIRECTION = EAST
  REFERENCE_LATITUDE = "N/A"
  REFERENCE_LONGITUDE = "N/A"
  SAMPLE_FIRST_PIXEL = 1
  SAMPLE_LAST_PIXEL = 2356
  SAMPLE_PROJECTION_OFFSET = 1471.375
  SECOND_STANDARD_PARALLEL = "N/A"
  WESTERNMOST_LONGITUDE = 89.7902
END_OBJECT = IMAGE_MAP_PROJECTION
END
