PDS_VERSION_ID = PDS3
/* FILE DATA ELEMENTS */
RECORD_TYPE = UNDEFINED
/* POINTERS TO DATA OBJECTS */
^IMAGE = ("H5345_0000_S24.TIF")
/* IDENTIFICATION DATA ELEMENTS */
DATA_SET_ID = "MEX-M-HRSC-4-REFDR-MAPPROJECT-EXT2-V4.0"
DATA_SET_NAME = "MARS EXPRESS HRSC MAP PROJECTED REFDR EXTENSION2 V4.0"
DETECTOR_ID = MEX_HRSC_S2
EVENT_TYPE = "MARS-REGIONAL-MAPPING-Vo-Te-Fl"
INSTRUMENT_HOST_ID = MEX
INSTRUMENT_HOST_NAME = "MARS EXPRESS"
INSTRUMENT_ID = HRSC
INSTRUMENT_NAME = "HIGH RESOLUTION STEREO CAMERA"
MISSION_NAME = "MARS EXPRESS"
MISSION_PHASE_NAME = ME_Phase_11
PROCESSING_LEVEL_ID = 4
PRODUCT_CREATION_TIME = 2023-02-02T05:41:08.000Z
PRODUCT_ID = "H5345_0000_S24.TIF"
RELEASE_ID = 0002
REVISION_ID = 0000
/* QUALITY DATA ELEMENTS */
DATA_QUALITY_ID = 1
DATA_QUALITY_DESC = "Data calculated based on original SPICE kernels"
/* TIME DATA ELEMENTS */
SPACECRAFT_CLOCK_START_COUNT = "1/0152399974.09053"
SPACECRAFT_CLOCK_STOP_COUNT = "1/0152400350.46455"
START_TIME = 2008-02-29T21:20:40.050Z
STOP_TIME = 2008-02-29T21:25:52.527Z
/* ORBITAL DATA ELEMENTS */
ASCENDING_NODE_LONGITUDE = 117.0
MAXIMUM_RESOLUTION = 0.0302
FOOTPRINT_POINT_LATITUDE = (36.5897,36.5826,36.5685,36.5682, 36.6383,36.3026,35.9671,35.6326,35.1311 ,34.7976,34.1329,33.4699,32.8092, 32.1502,31.4937,31.1146,30.7252,30.3359 ,29.9481,29.5612,29.1748,28.7897, 28.4055,28.0225,27.6404,27.2592,26.879, 26.4997,26.1216,25.7444,25.3683,24.9834 ,24.5992,24.2162,23.8251,23.2393, 22.8444,22.4461,22.0492,21.6441,21.2406 ,20.6272,20.217,19.7997,19.3831,18.9613 ,18.5387,18.1095,17.8948,17.8466, 17.8416,17.8377,17.8335,17.8334,17.8339 ,18.2639,18.9029,19.327,19.7441,20.1628 ,20.5736,21.19,21.595,22.0005,22.3995, 22.7971,23.1942,23.5848,24.1728,24.7497 ,25.135,25.5174,25.8943,26.2726,26.6518 ,27.2228,27.6042,27.987,28.3707,28.7553 ,29.1419,29.5279,29.9156,30.3039, 30.6933,31.0837,31.4705,32.1279,32.7878 ,33.4496,34.1133,34.4458,34.7793, 35.1135,35.4485,35.7831,36.1184,36.4548 ,36.6227,36.5897)
FOOTPRINT_POINT_LONGITUDE = (132.946,132.379,131.462,131.447, 131.414,131.424,131.434,131.443,131.456 ,131.464,131.478,131.492,131.504, 131.514,131.523,131.528,131.532,131.536 ,131.54,131.543,131.546,131.548,131.55, 131.551,131.552,131.552,131.553,131.552 ,131.552,131.551,131.55,131.548,131.546 ,131.544,131.541,131.536,131.532, 131.528,131.524,131.519,131.513,131.504 ,131.498,131.491,131.484,131.476, 131.468,131.459,131.455,131.454,132.09, 132.638,133.256,133.274,133.28,133.274, 133.265,133.258,133.253,133.247,133.241 ,133.232,133.227,133.221,133.216,133.21 ,133.204,133.198,133.19,133.181,133.176 ,133.17,133.164,133.158,133.152,133.144 ,133.138,133.132,133.125,133.119, 133.113,133.107,133.1,133.094,133.087, 133.08,133.073,133.062,133.05,133.037, 133.024,133.017,133.011,133.004,132.997 ,132.99,132.983,132.976,132.972, 132.946)
ORBIT_NUMBER = 5345
ORBITAL_ECCENTRICITY = 0.571
ORBITAL_INCLINATION = 86.73
ORBITAL_SEMIMAJOR_AXIS = 8689.3
PERIAPSIS_ALTITUDE = 340.48
PERIAPSIS_ARGUMENT_ANGLE = 137.99
PERIAPSIS_TIME = 2008-02-29T21:18:46.000Z
SPACECRAFT_ORIENTATION = (0.0,-1.0,0.0)
^MEX_ORIENTATION_DESC = "MEX_ORIENTATION_DESC.TXT"
SPACECRAFT_POINTING_MODE = NADIR
^MEX_POINTING_DESC = "MEX_POINTING_DESC.TXT"
RIGHT_ASCENSION = -1e+32
DECLINATION = -1e+32
OFFSET_ANGLE = -1e+32
SPACECRAFT_SOLAR_DISTANCE = 2.45317e+08
TARGET_NAME = MARS
/* CAMERA DATA ELEMENTS */
DETECTOR_TEMPERATURE = 18.5744
FOCAL_PLANE_TEMPERATURE = 8.5833
INST_CMPRS_NAME = "DISCRETE COSINE TRANSFORMATION (DCT)"
INST_CMPRS_RATIO = 10.5133
INST_CMPRS_QUALITY = 0
INST_CMPRS_QUANTZ_TBL_ID = 0
INSTRUMENT_TEMPERATURE = 11.4379
LENS_TEMPERATURE = 8.7872
MACROPIXEL_SIZE = 2
MISSING_FRAMES = 0
PIXEL_SUBSAMPLING_FLAG = N
SIGNAL_CHAIN_ID = 1
/* RADIOMETRIC DATA ELEMENTS */
BANDWIDTH = 178.0
CENTER_FILTER_WAVELENGTH = 679.0
RADIANCE_OFFSET = 4.81517
RADIANCE_SCALING_FACTOR = 0.0204833
REFLECTANCE_SCALING_FACTOR = 0.000652805
MEX:REFLECTANCE_OFFSET = 0.15346
/* IMAGE OBJECT DEFINITIONS */
OBJECT = IMAGE
  INTERCHANGE_FORMAT = BINARY
  LINES = 44657
  LINE_SAMPLES = 3819
  SAMPLE_TYPE = UNSIGNED_INTEGER
  SAMPLE_BITS = 8
  BANDS = 1
  BAND_STORAGE_TYPE = BAND_SEQUENTIAL
  MAXIMUM = 255
  MEAN = 117.213
  MINIMUM = 1
  STANDARD_DEVIATION = 43.4695
END_OBJECT = IMAGE
/* MAP OBJECT DEFINITIONS */
OBJECT = IMAGE_MAP_PROJECTION
  ^DATA_SET_MAP_PROJECTION_CATALOG= "DSMAP.CAT"
  A_AXIS_RADIUS = 3396.0
  B_AXIS_RADIUS = 3396.0
  C_AXIS_RADIUS = 3396.0
  CENTER_LATITUDE = 0.0
  CENTER_LONGITUDE = 132.0
  COORDINATE_SYSTEM_NAME = PLANETOGRAPHIC
  COORDINATE_SYSTEM_TYPE = "BODY-FIXED ROTATING"
  EASTERNMOST_LONGITUDE = 133.28
  FIRST_STANDARD_PARALLEL = "N/A"
  LINE_FIRST_PIXEL = 1
  LINE_LAST_PIXEL = 44657
  LINE_PROJECTION_OFFSET = 86872.75
  MAP_PROJECTION_ROTATION = 0.0
  MAP_PROJECTION_TYPE = SINUSOIDAL
  MAP_RESOLUTION = 2370.85521546667
  MAP_SCALE = 0.025
  MAXIMUM_LATITUDE = 36.6383
  MINIMUM_LATITUDE = 17.8334
  POSITIVE_LONGITUDE_DIRECTION = EAST
  REFERENCE_LATITUDE = "N/A"
  REFERENCE_LONGITUDE = "N/A"
  SAMPLE_FIRST_PIXEL = 1
  SAMPLE_LAST_PIXEL = 3819
  SAMPLE_PROJECTION_OFFSET = 1088.75
  SECOND_STANDARD_PARALLEL = "N/A"
  WESTERNMOST_LONGITUDE = 131.414
END_OBJECT = IMAGE_MAP_PROJECTION
END
