PDS_VERSION_ID = PDS3
/* FILE DATA ELEMENTS */
RECORD_TYPE = UNDEFINED
/* POINTERS TO DATA OBJECTS */
^IMAGE = ("H5345_0000_P24.TIF")
/* IDENTIFICATION DATA ELEMENTS */
DATA_SET_ID = "MEX-M-HRSC-4-REFDR-MAPPROJECT-EXT2-V4.0"
DATA_SET_NAME = "MARS EXPRESS HRSC MAP PROJECTED REFDR EXTENSION2 V4.0"
DETECTOR_ID = MEX_HRSC_P2
EVENT_TYPE = "MARS-REGIONAL-MAPPING-Vo-Te-Fl"
INSTRUMENT_HOST_ID = MEX
INSTRUMENT_HOST_NAME = "MARS EXPRESS"
INSTRUMENT_ID = HRSC
INSTRUMENT_NAME = "HIGH RESOLUTION STEREO CAMERA"
MISSION_NAME = "MARS EXPRESS"
MISSION_PHASE_NAME = ME_Phase_11
PROCESSING_LEVEL_ID = 4
PRODUCT_CREATION_TIME = 2023-02-02T05:41:08.000Z
PRODUCT_ID = "H5345_0000_P24.TIF"
RELEASE_ID = 0002
REVISION_ID = 0000
/* QUALITY DATA ELEMENTS */
DATA_QUALITY_ID = 1
DATA_QUALITY_DESC = "Data calculated based on original SPICE kernels"
/* TIME DATA ELEMENTS */
SPACECRAFT_CLOCK_START_COUNT = "1/0152399974.09053"
SPACECRAFT_CLOCK_STOP_COUNT = "1/0152400350.46455"
START_TIME = 2008-02-29T21:20:29.044Z
STOP_TIME = 2008-02-29T21:25:35.449Z
/* ORBITAL DATA ELEMENTS */
ASCENDING_NODE_LONGITUDE = 117.0
MAXIMUM_RESOLUTION = 0.029
FOOTPRINT_POINT_LATITUDE = (36.6074,36.6019,36.5923,36.5846, 36.5844,36.6301,36.2926,35.9552,35.6185 ,35.1138,34.4427,33.7732,33.1054, 32.4392,32.1,31.4366,30.7755,30.3996, 30.0067,29.6143,29.2225,28.8318,28.4417 ,28.0527,27.6642,27.2767,26.8899, 26.5039,26.1189,25.7346,25.3513,24.969, 24.5872,24.1981,23.8081,23.4191,23.0231 ,22.6259,22.0269,21.6221,21.2186, 20.8074,20.1907,19.7715,19.3536,18.9299 ,18.5049,18.075,17.8588,17.8338,17.832, 17.8301,17.8267,17.8242,17.8241,17.8246 ,18.4723,18.8982,19.3232,19.742,20.1623 ,20.574,20.9867,21.5977,22.0031,22.405, 23.0011,23.3982,23.7879,24.1783,24.5687 ,24.9514,25.3344,25.7185,26.103,26.4888 ,26.8752,27.2628,27.6509,28.0398, 28.4296,29.0159,29.4077,29.8004,30.1937 ,30.7703,31.4328,32.0972,32.4369, 33.1042,33.7731,34.4434,34.7794,35.116, 35.4532,35.7901,36.1275,36.4657,36.6347 ,36.6074)
FOOTPRINT_POINT_LONGITUDE = (132.937,132.504,131.885,131.467, 131.452,131.42,131.43,131.44,131.449, 131.463,131.479,131.493,131.507,131.518 ,131.524,131.534,131.542,131.546,131.55 ,131.553,131.557,131.559,131.561, 131.563,131.564,131.565,131.566,131.566 ,131.566,131.565,131.564,131.563, 131.562,131.56,131.557,131.554,131.551, 131.548,131.542,131.538,131.533,131.527 ,131.519,131.513,131.506,131.499, 131.491,131.483,131.478,131.478,131.89, 132.267,132.85,133.228,133.245,133.251, 133.243,133.237,133.232,133.227,133.221 ,133.216,133.211,133.204,133.198, 133.193,133.185,133.18,133.175,133.169, 133.164,133.159,133.154,133.148,133.143 ,133.137,133.132,133.126,133.121, 133.115,133.109,133.1,133.094,133.088, 133.081,133.072,133.061,133.05,133.044, 133.032,133.02,133.007,133.0,132.994, 132.987,132.98,132.973,132.966,132.962, 132.937)
ORBIT_NUMBER = 5345
ORBITAL_ECCENTRICITY = 0.571
ORBITAL_INCLINATION = 86.73
ORBITAL_SEMIMAJOR_AXIS = 8689.3
PERIAPSIS_ALTITUDE = 340.48
PERIAPSIS_ARGUMENT_ANGLE = 137.99
PERIAPSIS_TIME = 2008-02-29T21:18:46.000Z
SPACECRAFT_ORIENTATION = (0.0,-1.0,0.0)
^MEX_ORIENTATION_DESC = "MEX_ORIENTATION_DESC.TXT"
SPACECRAFT_POINTING_MODE = NADIR
^MEX_POINTING_DESC = "MEX_POINTING_DESC.TXT"
RIGHT_ASCENSION = -1e+32
DECLINATION = -1e+32
OFFSET_ANGLE = -1e+32
SPACECRAFT_SOLAR_DISTANCE = 2.45317e+08
TARGET_NAME = MARS
/* CAMERA DATA ELEMENTS */
DETECTOR_TEMPERATURE = 18.5744
FOCAL_PLANE_TEMPERATURE = 8.5833
INST_CMPRS_NAME = "DISCRETE COSINE TRANSFORMATION (DCT)"
INST_CMPRS_RATIO = 6.86633
INST_CMPRS_QUALITY = 0
INST_CMPRS_QUANTZ_TBL_ID = 0
INSTRUMENT_TEMPERATURE = 11.4379
LENS_TEMPERATURE = 8.7872
MACROPIXEL_SIZE = 2
MISSING_FRAMES = 2
PIXEL_SUBSAMPLING_FLAG = N
SIGNAL_CHAIN_ID = 3
/* RADIOMETRIC DATA ELEMENTS */
BANDWIDTH = 177.0
CENTER_FILTER_WAVELENGTH = 676.5
RADIANCE_OFFSET = 4.53537
RADIANCE_SCALING_FACTOR = 0.019644
REFLECTANCE_SCALING_FACTOR = 0.000626818
MEX:REFLECTANCE_OFFSET = 0.144719
/* IMAGE OBJECT DEFINITIONS */
OBJECT = IMAGE
  INTERCHANGE_FORMAT = BINARY
  LINES = 44657
  LINE_SAMPLES = 3819
  SAMPLE_TYPE = UNSIGNED_INTEGER
  SAMPLE_BITS = 8
  BANDS = 1
  BAND_STORAGE_TYPE = BAND_SEQUENTIAL
  MAXIMUM = 255
  MEAN = 115.771
  MINIMUM = 1
  STANDARD_DEVIATION = 43.7536
END_OBJECT = IMAGE
/* MAP OBJECT DEFINITIONS */
OBJECT = IMAGE_MAP_PROJECTION
  ^DATA_SET_MAP_PROJECTION_CATALOG= "DSMAP.CAT"
  A_AXIS_RADIUS = 3396.0
  B_AXIS_RADIUS = 3396.0
  C_AXIS_RADIUS = 3396.0
  CENTER_LATITUDE = 0.0
  CENTER_LONGITUDE = 132.0
  COORDINATE_SYSTEM_NAME = PLANETOGRAPHIC
  COORDINATE_SYSTEM_TYPE = "BODY-FIXED ROTATING"
  EASTERNMOST_LONGITUDE = 133.251
  FIRST_STANDARD_PARALLEL = "N/A"
  LINE_FIRST_PIXEL = 1
  LINE_LAST_PIXEL = 44657
  LINE_PROJECTION_OFFSET = 86872.75
  MAP_PROJECTION_ROTATION = 0.0
  MAP_PROJECTION_TYPE = SINUSOIDAL
  MAP_RESOLUTION = 2370.85521546667
  MAP_SCALE = 0.025
  MAXIMUM_LATITUDE = 36.6347
  MINIMUM_LATITUDE = 17.8241
  POSITIVE_LONGITUDE_DIRECTION = EAST
  REFERENCE_LATITUDE = "N/A"
  REFERENCE_LONGITUDE = "N/A"
  SAMPLE_FIRST_PIXEL = 1
  SAMPLE_LAST_PIXEL = 3819
  SAMPLE_PROJECTION_OFFSET = 1088.75
  SECOND_STANDARD_PARALLEL = "N/A"
  WESTERNMOST_LONGITUDE = 131.42
END_OBJECT = IMAGE_MAP_PROJECTION
END
