PDS_VERSION_ID = PDS3
/* FILE DATA ELEMENTS */
RECORD_TYPE = UNDEFINED
/* POINTERS TO DATA OBJECTS */
^IMAGE = ("H5342_0000_ND4.TIF")
/* IDENTIFICATION DATA ELEMENTS */
DATA_SET_ID = "MEX-M-HRSC-4-REFDR-MAPPROJECT-EXT2-V4.0"
DATA_SET_NAME = "MARS EXPRESS HRSC MAP PROJECTED REFDR EXTENSION2 V4.0"
DETECTOR_ID = MEX_HRSC_NADIR
EVENT_TYPE = "MARS-REGIONAL-MAPPING-Te-Gl-Ot"
INSTRUMENT_HOST_ID = MEX
INSTRUMENT_HOST_NAME = "MARS EXPRESS"
INSTRUMENT_ID = HRSC
INSTRUMENT_NAME = "HIGH RESOLUTION STEREO CAMERA"
MISSION_NAME = "MARS EXPRESS"
MISSION_PHASE_NAME = ME_Phase_11
PROCESSING_LEVEL_ID = 4
PRODUCT_CREATION_TIME = 2023-02-02T05:41:08.000Z
PRODUCT_ID = "H5342_0000_ND4.TIF"
RELEASE_ID = 0002
REVISION_ID = 0000
/* QUALITY DATA ELEMENTS */
DATA_QUALITY_ID = 1
DATA_QUALITY_DESC = "Data calculated based on original SPICE kernels"
/* TIME DATA ELEMENTS */
SPACECRAFT_CLOCK_START_COUNT = "1/0152325955.08418"
SPACECRAFT_CLOCK_STOP_COUNT = "1/0152326457.14624"
START_TIME = 2008-02-29T00:46:29.893Z
STOP_TIME = 2008-02-29T00:53:31.915Z
/* ORBITAL DATA ELEMENTS */
ASCENDING_NODE_LONGITUDE = 117.06
MAXIMUM_RESOLUTION = 0.0136
FOOTPRINT_POINT_LATITUDE = (44.1906,44.1744,44.155,44.1546,44.1548 ,43.6499,43.1448,42.6395,42.1342, 41.6289,41.1234,40.618,40.1125,39.6071, 39.1018,38.5966,38.0915,37.5866,37.0819 ,36.5774,36.0732,35.5693,35.0656, 34.5624,34.0595,33.557,32.5531,31.5514, 30.5519,29.5546,28.5601,27.6851,27.0945 ,26.5051,25.9166,25.3295,24.7436, 24.1589,23.5755,22.9935,22.413,21.8228, 21.2295,20.628,20.0225,19.4072,18.7897, 18.1589,17.5302,17.2166,17.2065,17.2053 ,17.1988,17.1987,17.1988,17.8275, 18.4582,19.393,20.0095,20.6159,21.2186, 21.8127,22.404,22.9855,23.5683,24.1525, 24.738,25.3248,25.9127,26.5019,27.0922, 27.6839,28.5614,29.5577,30.5562,31.5574 ,32.5605,33.5658,34.0691,34.5728, 35.0769,35.5814,36.0862,36.5912,37.0966 ,37.6022,38.1081,38.6141,39.1202, 39.6265,40.1329,40.6394,41.1459,41.6524 ,42.4122,42.9186,43.425,43.9312,44.1843 ,44.1906)
FOOTPRINT_POINT_LONGITUDE = (73.2246,72.3746,71.6277,71.6118, 71.5841,71.6141,71.6428,71.6707,71.6963 ,71.7211,71.7449,71.7674,71.7892, 71.8099,71.8293,71.8478,71.8651,71.8817 ,71.8973,71.9119,71.9257,71.9385, 71.9506,71.9612,71.9719,71.9812,72.001, 72.0149,72.0244,72.0339,72.0377,72.0449 ,72.0459,72.0443,72.0446,72.0426, 72.0402,72.0376,72.034,72.0295,72.0234, 72.0172,72.0112,72.003,71.9947,71.9854, 71.9759,71.965,71.9538,71.948,71.9478, 72.537,73.5942,73.6108,73.619,73.613, 73.6072,73.5997,73.5923,73.5876,73.5821 ,73.5756,73.5703,73.5673,73.5602, 73.5542,73.5485,73.5452,73.5352,73.5293 ,73.5226,73.5227,73.5122,73.5078, 73.4941,73.4858,73.4692,73.4579,73.4514 ,73.4446,73.4372,73.43,73.4226,73.415, 73.4073,73.3995,73.391,73.3822,73.3735, 73.3643,73.3551,73.3452,73.3349,73.3243 ,73.3081,73.2967,73.2854,73.2735, 73.2673,73.2246)
ORBIT_NUMBER = 5342
ORBITAL_ECCENTRICITY = 0.571
ORBITAL_INCLINATION = 86.75
ORBITAL_SEMIMAJOR_AXIS = 8691.88
PERIAPSIS_ALTITUDE = 339.31
PERIAPSIS_ARGUMENT_ANGLE = 138.51
PERIAPSIS_TIME = 2008-02-29T00:47:12.000Z
SPACECRAFT_ORIENTATION = (0.0,-1.0,0.0)
^MEX_ORIENTATION_DESC = "MEX_ORIENTATION_DESC.TXT"
SPACECRAFT_POINTING_MODE = ACROSSTRACK
^MEX_POINTING_DESC = "MEX_POINTING_DESC.TXT"
RIGHT_ASCENSION = -1e+32
DECLINATION = -1e+32
OFFSET_ANGLE = 0.2
SPACECRAFT_SOLAR_DISTANCE = 2.45227e+08
TARGET_NAME = MARS
/* CAMERA DATA ELEMENTS */
DETECTOR_TEMPERATURE = 18.3705
FOCAL_PLANE_TEMPERATURE = 7.5638
INST_CMPRS_NAME = "DISCRETE COSINE TRANSFORMATION (DCT)"
INST_CMPRS_RATIO = 6.74913
INST_CMPRS_QUALITY = 0
INST_CMPRS_QUANTZ_TBL_ID = 0
INSTRUMENT_TEMPERATURE = 11.234
LENS_TEMPERATURE = 8.3794
MACROPIXEL_SIZE = 1
MISSING_FRAMES = 0
PIXEL_SUBSAMPLING_FLAG = N
SIGNAL_CHAIN_ID = 0
/* RADIOMETRIC DATA ELEMENTS */
BANDWIDTH = 177.0
CENTER_FILTER_WAVELENGTH = 677.5
RADIANCE_OFFSET = 2.75736
RADIANCE_SCALING_FACTOR = 0.0269179
REFLECTANCE_SCALING_FACTOR = 0.000859932
MEX:REFLECTANCE_OFFSET = 0.0880879
/* IMAGE OBJECT DEFINITIONS */
OBJECT = IMAGE
  INTERCHANGE_FORMAT = BINARY
  LINES = 127997
  LINE_SAMPLES = 7622
  SAMPLE_TYPE = UNSIGNED_INTEGER
  SAMPLE_BITS = 8
  BANDS = 1
  BAND_STORAGE_TYPE = BAND_SEQUENTIAL
  MAXIMUM = 255
  MEAN = 136.027
  MINIMUM = 1
  STANDARD_DEVIATION = 51.5567
END_OBJECT = IMAGE
/* MAP OBJECT DEFINITIONS */
OBJECT = IMAGE_MAP_PROJECTION
  ^DATA_SET_MAP_PROJECTION_CATALOG= "DSMAP.CAT"
  A_AXIS_RADIUS = 3396.0
  B_AXIS_RADIUS = 3396.0
  C_AXIS_RADIUS = 3396.0
  CENTER_LATITUDE = 0.0
  CENTER_LONGITUDE = 73.0
  COORDINATE_SYSTEM_NAME = PLANETOGRAPHIC
  COORDINATE_SYSTEM_TYPE = "BODY-FIXED ROTATING"
  EASTERNMOST_LONGITUDE = 73.619
  FIRST_STANDARD_PARALLEL = "N/A"
  LINE_FIRST_PIXEL = 1
  LINE_LAST_PIXEL = 127997
  LINE_PROJECTION_OFFSET = 209556.0
  MAP_PROJECTION_ROTATION = 0.0
  MAP_PROJECTION_TYPE = SINUSOIDAL
  MAP_RESOLUTION = 4741.71043093333
  MAP_SCALE = 0.0125
  MAXIMUM_LATITUDE = 44.1906
  MINIMUM_LATITUDE = 17.1987
  POSITIVE_LONGITUDE_DIRECTION = EAST
  REFERENCE_LATITUDE = "N/A"
  REFERENCE_LONGITUDE = "N/A"
  SAMPLE_FIRST_PIXEL = 1
  SAMPLE_LAST_PIXEL = 7622
  SAMPLE_PROJECTION_OFFSET = 4813.0
  SECOND_STANDARD_PARALLEL = "N/A"
  WESTERNMOST_LONGITUDE = 71.58410000000001
END_OBJECT = IMAGE_MAP_PROJECTION
END
