PDS_VERSION_ID = PDS3
/* FILE DATA ELEMENTS */
RECORD_TYPE = UNDEFINED
/* POINTERS TO DATA OBJECTS */
^IMAGE = ("H5341_0000_BL4.TIF")
/* IDENTIFICATION DATA ELEMENTS */
DATA_SET_ID = "MEX-M-HRSC-4-REFDR-MAPPROJECT-EXT2-V4.0"
DATA_SET_NAME = "MARS EXPRESS HRSC MAP PROJECTED REFDR EXTENSION2 V4.0"
DETECTOR_ID = MEX_HRSC_BLUE
EVENT_TYPE = "MARS-REGIONAL-MAPPING-Im-Mw-Ts"
INSTRUMENT_HOST_ID = MEX
INSTRUMENT_HOST_NAME = "MARS EXPRESS"
INSTRUMENT_ID = HRSC
INSTRUMENT_NAME = "HIGH RESOLUTION STEREO CAMERA"
MISSION_NAME = "MARS EXPRESS"
MISSION_PHASE_NAME = ME_Phase_11
PROCESSING_LEVEL_ID = 4
PRODUCT_CREATION_TIME = 2023-02-02T05:41:08.000Z
PRODUCT_ID = "H5341_0000_BL4.TIF"
RELEASE_ID = 0002
REVISION_ID = 0000
/* QUALITY DATA ELEMENTS */
DATA_QUALITY_ID = 1
DATA_QUALITY_DESC = "Data calculated based on original SPICE kernels"
/* TIME DATA ELEMENTS */
SPACECRAFT_CLOCK_START_COUNT = "1/0152301083.08417"
SPACECRAFT_CLOCK_STOP_COUNT = "1/0152301353.41293"
START_TIME = 2008-02-28T17:52:13.772Z
STOP_TIME = 2008-02-28T17:55:29.547Z
/* ORBITAL DATA ELEMENTS */
ASCENDING_NODE_LONGITUDE = 117.08
MAXIMUM_RESOLUTION = 0.0561
FOOTPRINT_POINT_LATITUDE = (58.9305,58.905,58.8708,58.8282,58.827, 58.8437,58.5731,58.3021,58.0309,57.7594 ,57.4875,57.2154,56.9431,56.6703, 56.3976,56.1243,55.7139,55.3032,55.0293 ,54.755,54.4804,54.2057,53.9306,53.6555 ,53.38,53.1044,52.8286,52.5672,52.1042, 51.6408,51.1768,50.8286,50.3641,49.899, 49.4333,48.968,48.735,48.5018,48.2687, 48.0354,47.8021,47.5687,47.3353,47.1018 ,46.8682,46.6347,46.401,46.2842,46.279, 46.2932,46.3032,46.3157,46.3255,46.3258 ,46.3268,46.5612,46.7955,47.1469, 47.3812,47.6156,47.8498,48.0837,48.3177 ,48.5517,48.7856,49.1363,49.3701, 49.6036,49.9539,50.1875,50.4211,50.6545 ,50.8876,51.2372,51.7032,52.1687, 52.6338,53.0342,53.3113,53.5882,53.8649 ,54.1415,54.4177,54.832,55.1079,55.3834 ,55.7967,56.072,56.347,56.6219,56.8964, 57.1706,57.4447,57.7185,57.9921,58.2655 ,58.5386,58.8115,58.9478,58.9305)
FOOTPRINT_POINT_LONGITUDE = (172.204,171.414,170.527,169.592, 169.568,169.492,169.55,169.606,169.661, 169.715,169.768,169.82,169.871,169.921, 169.969,170.017,170.087,170.154,170.197 ,170.239,170.281,170.322,170.362, 170.401,170.44,170.478,170.514,170.549, 170.608,170.665,170.72,170.76,170.811, 170.861,170.91,170.955,170.977,171.0, 171.021,171.043,171.064,171.084,171.104 ,171.124,171.144,171.163,171.181, 171.191,171.191,171.634,171.98,172.474, 172.935,172.952,172.957,172.949,172.941 ,172.928,172.919,172.911,172.902, 172.893,172.884,172.874,172.865,172.85, 172.841,172.83,172.815,172.805,172.795, 172.784,172.773,172.757,172.735,172.711 ,172.687,172.666,172.651,172.636,172.62 ,172.604,172.587,172.563,172.546, 172.528,172.501,172.483,172.465,172.446 ,172.427,172.407,172.387,172.366, 172.345,172.324,172.302,172.28,172.269, 172.204)
ORBIT_NUMBER = 5341
ORBITAL_ECCENTRICITY = 0.571
ORBITAL_INCLINATION = 86.74
ORBITAL_SEMIMAJOR_AXIS = 8683.46
PERIAPSIS_ALTITUDE = 340.29
PERIAPSIS_ARGUMENT_ANGLE = 138.69
PERIAPSIS_TIME = 2008-02-28T17:56:42.000Z
SPACECRAFT_ORIENTATION = (0.0,-1.0,0.0)
^MEX_ORIENTATION_DESC = "MEX_ORIENTATION_DESC.TXT"
SPACECRAFT_POINTING_MODE = NADIR
^MEX_POINTING_DESC = "MEX_POINTING_DESC.TXT"
RIGHT_ASCENSION = -1e+32
DECLINATION = -1e+32
OFFSET_ANGLE = -1e+32
SPACECRAFT_SOLAR_DISTANCE = 2.45197e+08
TARGET_NAME = MARS
/* CAMERA DATA ELEMENTS */
DETECTOR_TEMPERATURE = 18.3705
FOCAL_PLANE_TEMPERATURE = 7.9716
INST_CMPRS_NAME = "DISCRETE COSINE TRANSFORMATION (DCT)"
INST_CMPRS_RATIO = 8.55405
INST_CMPRS_QUALITY = 0
INST_CMPRS_QUANTZ_TBL_ID = 0
INSTRUMENT_TEMPERATURE = 10.2145
LENS_TEMPERATURE = 8.3794
MACROPIXEL_SIZE = 4
MISSING_FRAMES = 0
PIXEL_SUBSAMPLING_FLAG = N
SIGNAL_CHAIN_ID = 2
/* RADIOMETRIC DATA ELEMENTS */
BANDWIDTH = 76.0
CENTER_FILTER_WAVELENGTH = 444.0
RADIANCE_OFFSET = 0.505985
RADIANCE_SCALING_FACTOR = 0.00165718
REFLECTANCE_SCALING_FACTOR = 0.000102366
MEX:REFLECTANCE_OFFSET = 0.0312552
/* IMAGE OBJECT DEFINITIONS */
OBJECT = IMAGE
  INTERCHANGE_FORMAT = BINARY
  LINES = 15032
  LINE_SAMPLES = 2341
  SAMPLE_TYPE = UNSIGNED_INTEGER
  SAMPLE_BITS = 8
  BANDS = 1
  BAND_STORAGE_TYPE = BAND_SEQUENTIAL
  MAXIMUM = 255
  MEAN = 122.73
  MINIMUM = 1
  STANDARD_DEVIATION = 44.2009
END_OBJECT = IMAGE
/* MAP OBJECT DEFINITIONS */
OBJECT = IMAGE_MAP_PROJECTION
  ^DATA_SET_MAP_PROJECTION_CATALOG= "DSMAP.CAT"
  A_AXIS_RADIUS = 3396.0
  B_AXIS_RADIUS = 3396.0
  C_AXIS_RADIUS = 3396.0
  CENTER_LATITUDE = 0.0
  CENTER_LONGITUDE = 172.0
  COORDINATE_SYSTEM_NAME = PLANETOGRAPHIC
  COORDINATE_SYSTEM_TYPE = "BODY-FIXED ROTATING"
  EASTERNMOST_LONGITUDE = 172.957
  FIRST_STANDARD_PARALLEL = "N/A"
  LINE_FIRST_PIXEL = 1
  LINE_LAST_PIXEL = 15032
  LINE_PROJECTION_OFFSET = 69888.125
  MAP_PROJECTION_ROTATION = 0.0
  MAP_PROJECTION_TYPE = SINUSOIDAL
  MAP_RESOLUTION = 1185.42760773333
  MAP_SCALE = 0.05
  MAXIMUM_LATITUDE = 58.9478
  MINIMUM_LATITUDE = 46.279
  POSITIVE_LONGITUDE_DIRECTION = EAST
  REFERENCE_LATITUDE = "N/A"
  REFERENCE_LONGITUDE = "N/A"
  SAMPLE_FIRST_PIXEL = 1
  SAMPLE_LAST_PIXEL = 2341
  SAMPLE_PROJECTION_OFFSET = 1554.125
  SECOND_STANDARD_PARALLEL = "N/A"
  WESTERNMOST_LONGITUDE = 169.492
END_OBJECT = IMAGE_MAP_PROJECTION
END
