PDS_VERSION_ID = PDS3
/* FILE DATA ELEMENTS */
RECORD_TYPE = UNDEFINED
/* POINTERS TO DATA OBJECTS */
^IMAGE = ("H5337_0000_ND4.TIF")
/* IDENTIFICATION DATA ELEMENTS */
DATA_SET_ID = "MEX-M-HRSC-4-REFDR-MAPPROJECT-EXT2-V4.0"
DATA_SET_NAME = "MARS EXPRESS HRSC MAP PROJECTED REFDR EXTENSION2 V4.0"
DETECTOR_ID = MEX_HRSC_NADIR
EVENT_TYPE = "MARS-REGIONAL-MAPPING-Vo-Te-Mw"
INSTRUMENT_HOST_ID = MEX
INSTRUMENT_HOST_NAME = "MARS EXPRESS"
INSTRUMENT_ID = HRSC
INSTRUMENT_NAME = "HIGH RESOLUTION STEREO CAMERA"
MISSION_NAME = "MARS EXPRESS"
MISSION_PHASE_NAME = ME_Phase_11
PROCESSING_LEVEL_ID = 4
PRODUCT_CREATION_TIME = 2023-02-02T05:41:08.000Z
PRODUCT_ID = "H5337_0000_ND4.TIF"
RELEASE_ID = 0002
REVISION_ID = 0000
/* QUALITY DATA ELEMENTS */
DATA_QUALITY_ID = 1
DATA_QUALITY_DESC = "Data calculated based on original SPICE kernels"
/* TIME DATA ELEMENTS */
SPACECRAFT_CLOCK_START_COUNT = "1/0152203026.09067"
SPACECRAFT_CLOCK_STOP_COUNT = "1/0152203363.30956"
START_TIME = 2008-02-27T14:37:42.528Z
STOP_TIME = 2008-02-27T14:41:51.548Z
/* ORBITAL DATA ELEMENTS */
ASCENDING_NODE_LONGITUDE = 117.16
MAXIMUM_RESOLUTION = 0.0148
FOOTPRINT_POINT_LATITUDE = (27.8616,27.8608,27.8561,27.8559, 27.8564,27.3928,27.0746,26.7567,26.4391 ,26.1218,25.8048,25.4882,25.1719, 24.8559,24.5403,24.2251,23.9102,23.5957 ,23.2816,22.9678,22.6544,22.3414, 22.0289,21.7167,21.405,21.0936,20.7827, 20.4722,20.1622,19.8525,19.5433,19.2346 ,18.9264,18.6186,18.3112,18.0044,17.698 ,17.3921,17.0867,16.7817,16.1734, 15.5671,14.9628,14.3607,13.7607,13.1628 ,12.5672,12.4186,12.4069,12.4038, 12.3999,12.3959,12.3903,12.39,12.3902, 12.9863,13.5845,14.1849,14.7875,15.3921 ,15.9988,16.303,16.6076,16.9127,17.2183 ,17.5244,17.831,18.1381,18.4456,18.7536 ,19.0621,19.371,19.6804,19.9902,20.3004 ,20.6111,20.9222,21.2338,21.5458, 21.8582,22.1709,22.4841,22.7977,23.1117 ,23.426,23.7408,24.0559,24.3714,24.6873 ,25.0034,25.3199,25.6368,25.954,26.2716 ,26.5894,26.9076,27.2261,27.7044, 27.8516,27.8616)
FOOTPRINT_POINT_LONGITUDE = (214.157,213.493,212.728,212.714, 212.703,212.703,212.703,212.702,212.702 ,212.701,212.7,212.699,212.697,212.695, 212.693,212.691,212.689,212.686,212.683 ,212.681,212.677,212.674,212.671, 212.667,212.663,212.659,212.655,212.65, 212.646,212.641,212.637,212.631,212.626 ,212.621,212.615,212.61,212.604,212.598 ,212.592,212.585,212.572,212.558, 212.544,212.529,212.513,212.497,212.481 ,212.477,212.476,212.918,213.38,213.773 ,214.26,214.278,214.287,214.283,214.277 ,214.272,214.268,214.263,214.258, 214.257,214.255,214.252,214.25,214.248, 214.246,214.244,214.242,214.24,214.238, 214.236,214.234,214.23,214.228,214.226, 214.224,214.223,214.221,214.218,214.216 ,214.214,214.212,214.209,214.207, 214.205,214.204,214.202,214.201,214.199 ,214.196,214.193,214.192,214.189, 214.188,214.186,214.184,214.182,214.181 ,214.157)
ORBIT_NUMBER = 5337
ORBITAL_ECCENTRICITY = 0.571
ORBITAL_INCLINATION = 86.75
ORBITAL_SEMIMAJOR_AXIS = 8687.51
PERIAPSIS_ALTITUDE = 339.17
PERIAPSIS_ARGUMENT_ANGLE = 139.38
PERIAPSIS_TIME = 2008-02-27T14:34:26.000Z
SPACECRAFT_ORIENTATION = (0.0,-1.0,0.0)
^MEX_ORIENTATION_DESC = "MEX_ORIENTATION_DESC.TXT"
SPACECRAFT_POINTING_MODE = ACROSSTRACK
^MEX_POINTING_DESC = "MEX_POINTING_DESC.TXT"
RIGHT_ASCENSION = -1e+32
DECLINATION = -1e+32
OFFSET_ANGLE = 0.45
SPACECRAFT_SOLAR_DISTANCE = 2.45075e+08
TARGET_NAME = MARS
/* CAMERA DATA ELEMENTS */
DETECTOR_TEMPERATURE = 18.3705
FOCAL_PLANE_TEMPERATURE = 8.3794
INST_CMPRS_NAME = "DISCRETE COSINE TRANSFORMATION (DCT)"
INST_CMPRS_RATIO = 6.25277
INST_CMPRS_QUALITY = 0
INST_CMPRS_QUANTZ_TBL_ID = 0
INSTRUMENT_TEMPERATURE = 11.0301
LENS_TEMPERATURE = 8.7872
MACROPIXEL_SIZE = 1
MISSING_FRAMES = 0
PIXEL_SUBSAMPLING_FLAG = N
SIGNAL_CHAIN_ID = 0
/* RADIOMETRIC DATA ELEMENTS */
BANDWIDTH = 177.0
CENTER_FILTER_WAVELENGTH = 677.5
RADIANCE_OFFSET = 5.33873
RADIANCE_SCALING_FACTOR = 0.0218565
REFLECTANCE_SCALING_FACTOR = 0.000697371
MEX:REFLECTANCE_OFFSET = 0.170342
/* IMAGE OBJECT DEFINITIONS */
OBJECT = IMAGE
  INTERCHANGE_FORMAT = BINARY
  LINES = 73366
  LINE_SAMPLES = 8386
  SAMPLE_TYPE = UNSIGNED_INTEGER
  SAMPLE_BITS = 8
  BANDS = 1
  BAND_STORAGE_TYPE = BAND_SEQUENTIAL
  MAXIMUM = 255
  MEAN = 140.314
  MINIMUM = 1
  STANDARD_DEVIATION = 26.3484
END_OBJECT = IMAGE
/* MAP OBJECT DEFINITIONS */
OBJECT = IMAGE_MAP_PROJECTION
  ^DATA_SET_MAP_PROJECTION_CATALOG= "DSMAP.CAT"
  A_AXIS_RADIUS = 3396.0
  B_AXIS_RADIUS = 3396.0
  C_AXIS_RADIUS = 3396.0
  CENTER_LATITUDE = 0.0
  CENTER_LONGITUDE = 213.0
  COORDINATE_SYSTEM_NAME = PLANETOGRAPHIC
  COORDINATE_SYSTEM_TYPE = "BODY-FIXED ROTATING"
  EASTERNMOST_LONGITUDE = 214.287
  FIRST_STANDARD_PARALLEL = "N/A"
  LINE_FIRST_PIXEL = 1
  LINE_LAST_PIXEL = 73366
  LINE_PROJECTION_OFFSET = 132115.0
  MAP_PROJECTION_ROTATION = 0.0
  MAP_PROJECTION_TYPE = SINUSOIDAL
  MAP_RESOLUTION = 4741.71043093333
  MAP_SCALE = 0.0125
  MAXIMUM_LATITUDE = 27.8616
  MINIMUM_LATITUDE = 12.39
  POSITIVE_LONGITUDE_DIRECTION = EAST
  REFERENCE_LATITUDE = "N/A"
  REFERENCE_LONGITUDE = "N/A"
  SAMPLE_FIRST_PIXEL = 1
  SAMPLE_LAST_PIXEL = 8386
  SAMPLE_PROJECTION_OFFSET = 2426.0
  SECOND_STANDARD_PARALLEL = "N/A"
  WESTERNMOST_LONGITUDE = 212.476
END_OBJECT = IMAGE_MAP_PROJECTION
END
