PDS_VERSION_ID = PDS3
/* FILE DATA ELEMENTS */
RECORD_TYPE = UNDEFINED
/* POINTERS TO DATA OBJECTS */
^IMAGE = ("H5337_0000_BL4.TIF")
/* IDENTIFICATION DATA ELEMENTS */
DATA_SET_ID = "MEX-M-HRSC-4-REFDR-MAPPROJECT-EXT2-V4.0"
DATA_SET_NAME = "MARS EXPRESS HRSC MAP PROJECTED REFDR EXTENSION2 V4.0"
DETECTOR_ID = MEX_HRSC_BLUE
EVENT_TYPE = "MARS-REGIONAL-MAPPING-Vo-Te-Mw"
INSTRUMENT_HOST_ID = MEX
INSTRUMENT_HOST_NAME = "MARS EXPRESS"
INSTRUMENT_ID = HRSC
INSTRUMENT_NAME = "HIGH RESOLUTION STEREO CAMERA"
MISSION_NAME = "MARS EXPRESS"
MISSION_PHASE_NAME = ME_Phase_11
PROCESSING_LEVEL_ID = 4
PRODUCT_CREATION_TIME = 2023-02-02T05:41:08.000Z
PRODUCT_ID = "H5337_0000_BL4.TIF"
RELEASE_ID = 0002
REVISION_ID = 0000
/* QUALITY DATA ELEMENTS */
DATA_QUALITY_ID = 1
DATA_QUALITY_DESC = "Data calculated based on original SPICE kernels"
/* TIME DATA ELEMENTS */
SPACECRAFT_CLOCK_START_COUNT = "1/0152203026.09067"
SPACECRAFT_CLOCK_STOP_COUNT = "1/0152203363.30956"
START_TIME = 2008-02-27T14:37:48.478Z
STOP_TIME = 2008-02-27T14:42:00.032Z
/* ORBITAL DATA ELEMENTS */
ASCENDING_NODE_LONGITUDE = 117.16
MAXIMUM_RESOLUTION = 0.1196
FOOTPRINT_POINT_LATITUDE = (27.8459,27.842,27.8354,27.8352,27.8414 ,27.524,27.207,26.8906,26.5744,26.2587, 25.9432,25.6281,25.3136,24.9995,24.686, 24.2155,23.9033,23.4354,23.1229,22.8114 ,22.501,22.0359,21.7262,21.4169,21.108, 20.7997,20.492,20.1845,19.8775,19.4181, 19.1125,18.6547,18.3504,18.0465,17.7433 ,17.4403,17.1382,16.8365,16.5351, 16.2345,15.9347,15.6353,15.3365,15.0382 ,14.4434,13.8507,13.2602,12.6721, 12.5255,12.4031,12.4,12.3962,12.3913, 12.3912,12.393,12.981,13.5711,14.1635, 14.7584,15.3553,15.6548,15.955,16.2556, 16.5568,16.8585,17.1606,17.4633,17.7665 ,18.0703,18.3747,18.6794,18.985,19.2911 ,19.5974,19.9036,20.3647,20.6726, 20.9812,21.2903,21.6003,21.9099,22.22, 22.5311,22.9978,23.3097,23.6223,23.9355 ,24.2487,24.5628,24.8768,25.1907, 25.5055,25.8213,26.1363,26.4529,26.7688 ,27.0858,27.5617,27.7207,27.8459)
FOOTPRINT_POINT_LONGITUDE = (214.161,213.412,212.742,212.728, 212.718,212.718,212.718,212.717,212.717 ,212.716,212.715,212.714,212.712,212.71 ,212.708,212.705,212.703,212.699, 212.696,212.693,212.69,212.684,212.681, 212.677,212.673,212.669,212.664,212.66, 212.655,212.648,212.643,212.635,212.629 ,212.624,212.618,212.612,212.606, 212.599,212.593,212.587,212.58,212.573, 212.566,212.558,212.543,212.528,212.512 ,212.496,212.492,212.488,213.109, 213.669,214.269,214.287,214.298,214.293 ,214.288,214.283,214.277,214.272,214.27 ,214.268,214.266,214.264,214.262, 214.259,214.257,214.254,214.252,214.25, 214.248,214.246,214.245,214.242,214.238 ,214.235,214.232,214.23,214.228,214.227 ,214.224,214.221,214.22,214.216,214.213 ,214.212,214.211,214.208,214.208, 214.205,214.201,214.199,214.199,214.194 ,214.194,214.191,214.189,214.186, 214.186,214.161)
ORBIT_NUMBER = 5337
ORBITAL_ECCENTRICITY = 0.571
ORBITAL_INCLINATION = 86.75
ORBITAL_SEMIMAJOR_AXIS = 8687.51
PERIAPSIS_ALTITUDE = 339.17
PERIAPSIS_ARGUMENT_ANGLE = 139.38
PERIAPSIS_TIME = 2008-02-27T14:34:26.000Z
SPACECRAFT_ORIENTATION = (0.0,-1.0,0.0)
^MEX_ORIENTATION_DESC = "MEX_ORIENTATION_DESC.TXT"
SPACECRAFT_POINTING_MODE = ACROSSTRACK
^MEX_POINTING_DESC = "MEX_POINTING_DESC.TXT"
RIGHT_ASCENSION = -1e+32
DECLINATION = -1e+32
OFFSET_ANGLE = 0.45
SPACECRAFT_SOLAR_DISTANCE = 2.45075e+08
TARGET_NAME = MARS
/* CAMERA DATA ELEMENTS */
DETECTOR_TEMPERATURE = 18.3705
FOCAL_PLANE_TEMPERATURE = 8.3794
INST_CMPRS_NAME = "DISCRETE COSINE TRANSFORMATION (DCT)"
INST_CMPRS_RATIO = 9.14799
INST_CMPRS_QUALITY = 0
INST_CMPRS_QUANTZ_TBL_ID = 0
INSTRUMENT_TEMPERATURE = 11.0301
LENS_TEMPERATURE = 8.7872
MACROPIXEL_SIZE = 8
MISSING_FRAMES = 0
PIXEL_SUBSAMPLING_FLAG = N
SIGNAL_CHAIN_ID = 2
/* RADIOMETRIC DATA ELEMENTS */
BANDWIDTH = 76.0
CENTER_FILTER_WAVELENGTH = 444.0
RADIANCE_OFFSET = 0.726811
RADIANCE_SCALING_FACTOR = 0.00197324
REFLECTANCE_SCALING_FACTOR = 0.000121769
MEX:REFLECTANCE_OFFSET = 0.0448516
/* IMAGE OBJECT DEFINITIONS */
OBJECT = IMAGE
  INTERCHANGE_FORMAT = BINARY
  LINES = 9171
  LINE_SAMPLES = 1049
  SAMPLE_TYPE = UNSIGNED_INTEGER
  SAMPLE_BITS = 8
  BANDS = 1
  BAND_STORAGE_TYPE = BAND_SEQUENTIAL
  MAXIMUM = 255
  MEAN = 140.337
  MINIMUM = 1
  STANDARD_DEVIATION = 26.385
END_OBJECT = IMAGE
/* MAP OBJECT DEFINITIONS */
OBJECT = IMAGE_MAP_PROJECTION
  ^DATA_SET_MAP_PROJECTION_CATALOG= "DSMAP.CAT"
  A_AXIS_RADIUS = 3396.0
  B_AXIS_RADIUS = 3396.0
  C_AXIS_RADIUS = 3396.0
  CENTER_LATITUDE = 0.0
  CENTER_LONGITUDE = 213.0
  COORDINATE_SYSTEM_NAME = PLANETOGRAPHIC
  COORDINATE_SYSTEM_TYPE = "BODY-FIXED ROTATING"
  EASTERNMOST_LONGITUDE = 214.298
  FIRST_STANDARD_PARALLEL = "N/A"
  LINE_FIRST_PIXEL = 1
  LINE_LAST_PIXEL = 9171
  LINE_PROJECTION_OFFSET = 16513.9375
  MAP_PROJECTION_ROTATION = 0.0
  MAP_PROJECTION_TYPE = SINUSOIDAL
  MAP_RESOLUTION = 592.713803866667
  MAP_SCALE = 0.1
  MAXIMUM_LATITUDE = 27.8459
  MINIMUM_LATITUDE = 12.3912
  POSITIVE_LONGITUDE_DIRECTION = EAST
  REFERENCE_LATITUDE = "N/A"
  REFERENCE_LONGITUDE = "N/A"
  SAMPLE_FIRST_PIXEL = 1
  SAMPLE_LAST_PIXEL = 1049
  SAMPLE_PROJECTION_OFFSET = 302.8125
  SECOND_STANDARD_PARALLEL = "N/A"
  WESTERNMOST_LONGITUDE = 212.488
END_OBJECT = IMAGE_MAP_PROJECTION
END
