PDS_VERSION_ID = PDS3
/* FILE DATA ELEMENTS */
RECORD_TYPE = UNDEFINED
/* POINTERS TO DATA OBJECTS */
^IMAGE = ("H5335_0000_RE4.TIF")
/* IDENTIFICATION DATA ELEMENTS */
DATA_SET_ID = "MEX-M-HRSC-4-REFDR-MAPPROJECT-EXT2-V4.0"
DATA_SET_NAME = "MARS EXPRESS HRSC MAP PROJECTED REFDR EXTENSION2 V4.0"
DETECTOR_ID = MEX_HRSC_RED
EVENT_TYPE = "MARS-REGIONAL-MAPPING-Vo-Te-Pf"
INSTRUMENT_HOST_ID = MEX
INSTRUMENT_HOST_NAME = "MARS EXPRESS"
INSTRUMENT_ID = HRSC
INSTRUMENT_NAME = "HIGH RESOLUTION STEREO CAMERA"
MISSION_NAME = "MARS EXPRESS"
MISSION_PHASE_NAME = ME_Phase_11
PROCESSING_LEVEL_ID = 4
PRODUCT_CREATION_TIME = 2023-02-02T05:41:08.000Z
PRODUCT_ID = "H5335_0000_RE4.TIF"
RELEASE_ID = 0002
REVISION_ID = 0000
/* QUALITY DATA ELEMENTS */
DATA_QUALITY_ID = 1
DATA_QUALITY_DESC = "Data calculated based on original SPICE kernels"
/* TIME DATA ELEMENTS */
SPACECRAFT_CLOCK_START_COUNT = "1/0152153389.07281"
SPACECRAFT_CLOCK_STOP_COUNT = "1/0152153660.54422"
START_TIME = 2008-02-27T00:50:55.600Z
STOP_TIME = 2008-02-27T00:54:17.490Z
/* ORBITAL DATA ELEMENTS */
ASCENDING_NODE_LONGITUDE = 117.2
MAXIMUM_RESOLUTION = 0.0568
FOOTPRINT_POINT_LATITUDE = (51.7561,51.7447,51.7302,51.7065, 51.7059,51.7811,51.5176,51.1221,50.8581 ,50.5942,50.1989,49.9352,49.5384, 49.2739,49.0082,48.7476,48.4817,48.22, 47.9559,47.6888,47.4235,47.1628,46.8981 ,46.5003,46.2377,45.9718,45.7102, 45.3177,45.052,44.7921,44.5278,44.1297, 43.8661,43.3438,43.0835,42.8199,42.4268 ,42.1653,41.9023,41.6423,41.2469, 40.8552,40.5871,40.0717,39.8092,39.5425 ,39.2784,39.0184,38.7576,38.6277, 38.5748,38.5816,38.5861,38.5861,38.587, 38.8482,39.1091,39.3701,39.7628,40.0252 ,40.4236,40.6898,40.9541,41.2164, 41.4779,41.8667,42.1313,42.5231,42.9224 ,43.1847,43.4457,43.842,44.1053,44.3664 ,44.6316,44.8952,45.1594,45.5531, 45.9488,46.3491,46.616,46.8807,47.2765, 47.5407,47.8067,48.0716,48.4691,48.8667 ,49.1314,49.3964,49.6618,49.9264,50.324 ,50.5891,50.8538,51.1188,51.3834, 51.6488,51.7812,51.7561)
FOOTPRINT_POINT_LONGITUDE = (52.6637,52.1116,51.5193,50.6986, 50.6798,50.601,50.6353,50.6856,50.7186, 50.7508,50.7974,50.8278,50.8735,50.9032 ,50.9333,50.9583,50.9875,51.0123, 51.0388,51.0675,51.094,51.1161,51.1411, 51.1785,51.2005,51.2251,51.2455,51.2755 ,51.2983,51.3161,51.337,51.3691,51.3885 ,51.4226,51.4385,51.4567,51.4817, 51.4975,51.5142,51.5284,51.5533,51.5748 ,51.5941,51.6164,51.6309,51.6481, 51.6633,51.6752,51.6876,51.6933,51.6956 ,52.4122,53.2067,53.2208,53.2255, 53.2183,53.211,53.2035,53.1923,53.1848, 53.1742,53.1671,53.1595,53.1512,53.1427 ,53.1287,53.1204,53.1066,53.094,53.0845 ,53.0746,53.0605,53.0506,53.0401, 53.0303,53.02,53.0097,52.9932,52.9767, 52.9609,52.9501,52.9386,52.9206,52.9085 ,52.8966,52.8842,52.8653,52.8458, 52.8325,52.819,52.8054,52.7914,52.77, 52.7555,52.7406,52.7255,52.7101,52.6946 ,52.6866,52.6637)
ORBIT_NUMBER = 5335
ORBITAL_ECCENTRICITY = 0.571
ORBITAL_INCLINATION = 86.74
ORBITAL_SEMIMAJOR_AXIS = 8693.34
PERIAPSIS_ALTITUDE = 339.05
PERIAPSIS_ARGUMENT_ANGLE = 139.76
PERIAPSIS_TIME = 2008-02-27T00:53:28.000Z
SPACECRAFT_ORIENTATION = (0.0,-1.0,0.0)
^MEX_ORIENTATION_DESC = "MEX_ORIENTATION_DESC.TXT"
SPACECRAFT_POINTING_MODE = ACROSSTRACK
^MEX_POINTING_DESC = "MEX_POINTING_DESC.TXT"
RIGHT_ASCENSION = -1e+32
DECLINATION = -1e+32
OFFSET_ANGLE = -0.269
SPACECRAFT_SOLAR_DISTANCE = 2.45014e+08
TARGET_NAME = MARS
/* CAMERA DATA ELEMENTS */
DETECTOR_TEMPERATURE = 18.3705
FOCAL_PLANE_TEMPERATURE = 7.9716
INST_CMPRS_NAME = "DISCRETE COSINE TRANSFORMATION (DCT)"
INST_CMPRS_RATIO = 14.8181
INST_CMPRS_QUALITY = 0
INST_CMPRS_QUANTZ_TBL_ID = 0
INSTRUMENT_TEMPERATURE = 10.8262
LENS_TEMPERATURE = 8.5833
MACROPIXEL_SIZE = 4
MISSING_FRAMES = 0
PIXEL_SUBSAMPLING_FLAG = N
SIGNAL_CHAIN_ID = 2
/* RADIOMETRIC DATA ELEMENTS */
BANDWIDTH = 48.0
CENTER_FILTER_WAVELENGTH = 748.0
RADIANCE_OFFSET = 1.06422
RADIANCE_SCALING_FACTOR = 0.0072086
REFLECTANCE_SCALING_FACTOR = 0.000987549
MEX:REFLECTANCE_OFFSET = 0.145793
/* IMAGE OBJECT DEFINITIONS */
OBJECT = IMAGE
  INTERCHANGE_FORMAT = BINARY
  LINES = 15730
  LINE_SAMPLES = 2171
  SAMPLE_TYPE = UNSIGNED_INTEGER
  SAMPLE_BITS = 8
  BANDS = 1
  BAND_STORAGE_TYPE = BAND_SEQUENTIAL
  MAXIMUM = 255
  MEAN = 148.207
  MINIMUM = 1
  STANDARD_DEVIATION = 23.623
END_OBJECT = IMAGE
/* MAP OBJECT DEFINITIONS */
OBJECT = IMAGE_MAP_PROJECTION
  ^DATA_SET_MAP_PROJECTION_CATALOG= "DSMAP.CAT"
  A_AXIS_RADIUS = 3396.0
  B_AXIS_RADIUS = 3396.0
  C_AXIS_RADIUS = 3396.0
  CENTER_LATITUDE = 0.0
  CENTER_LONGITUDE = 52.0
  COORDINATE_SYSTEM_NAME = PLANETOGRAPHIC
  COORDINATE_SYSTEM_TYPE = "BODY-FIXED ROTATING"
  EASTERNMOST_LONGITUDE = 53.2255
  FIRST_STANDARD_PARALLEL = "N/A"
  LINE_FIRST_PIXEL = 1
  LINE_LAST_PIXEL = 15730
  LINE_PROJECTION_OFFSET = 61458.875
  MAP_PROJECTION_ROTATION = 0.0
  MAP_PROJECTION_TYPE = SINUSOIDAL
  MAP_RESOLUTION = 1185.42760773333
  MAP_SCALE = 0.05
  MAXIMUM_LATITUDE = 51.7812
  MINIMUM_LATITUDE = 38.5748
  POSITIVE_LONGITUDE_DIRECTION = EAST
  REFERENCE_LATITUDE = "N/A"
  REFERENCE_LONGITUDE = "N/A"
  SAMPLE_FIRST_PIXEL = 1
  SAMPLE_LAST_PIXEL = 2171
  SAMPLE_PROJECTION_OFFSET = 1040.125
  SECOND_STANDARD_PARALLEL = "N/A"
  WESTERNMOST_LONGITUDE = 50.601
END_OBJECT = IMAGE_MAP_PROJECTION
END
