PDS_VERSION_ID = PDS3
/* FILE DATA ELEMENTS */
RECORD_TYPE = UNDEFINED
/* POINTERS TO DATA OBJECTS */
^IMAGE = ("H5332_0000_S24.TIF")
/* IDENTIFICATION DATA ELEMENTS */
DATA_SET_ID = "MEX-M-HRSC-4-REFDR-MAPPROJECT-EXT2-V4.0"
DATA_SET_NAME = "MARS EXPRESS HRSC MAP PROJECTED REFDR EXTENSION2 V4.0"
DETECTOR_ID = MEX_HRSC_S2
EVENT_TYPE = "MARS-REGIONAL-MAPPING-Im-Fl-La"
INSTRUMENT_HOST_ID = MEX
INSTRUMENT_HOST_NAME = "MARS EXPRESS"
INSTRUMENT_ID = HRSC
INSTRUMENT_NAME = "HIGH RESOLUTION STEREO CAMERA"
MISSION_NAME = "MARS EXPRESS"
MISSION_PHASE_NAME = ME_Phase_11
PROCESSING_LEVEL_ID = 4
PRODUCT_CREATION_TIME = 2023-02-02T05:41:08.000Z
PRODUCT_ID = "H5332_0000_S24.TIF"
RELEASE_ID = 0002
REVISION_ID = 0000
/* QUALITY DATA ELEMENTS */
DATA_QUALITY_ID = 1
DATA_QUALITY_DESC = "Data calculated based on original SPICE kernels"
/* TIME DATA ELEMENTS */
SPACECRAFT_CLOCK_START_COUNT = "1/0152079769.07571"
SPACECRAFT_CLOCK_STOP_COUNT = "1/0152080161.04660"
START_TIME = 2008-02-26T04:23:55.019Z
STOP_TIME = 2008-02-26T04:29:22.899Z
/* ORBITAL DATA ELEMENTS */
ASCENDING_NODE_LONGITUDE = 117.27
MAXIMUM_RESOLUTION = 0.0302
FOOTPRINT_POINT_LATITUDE = (33.6342,33.6244,33.6166,33.6086, 33.6084,33.6665,33.1479,32.6319,32.2877 ,31.9453,31.6027,31.2613,30.92,30.5793, 29.9006,29.3923,28.673,28.2696,27.8692, 27.4753,27.0736,26.6768,26.0854,25.4897 ,25.0978,24.5108,24.1199,23.7301,23.341 ,22.7604,22.1705,21.7743,21.3749, 20.9709,20.5555,19.9379,19.3192,18.9054 ,18.2733,17.8521,17.425,16.7757,16.3398 ,15.9013,15.4642,15.0108,14.335,14.1079 ,14.098,14.093,14.0915,14.0937,14.0927, 14.0933,14.5484,14.997,15.4479,15.8878, 16.5467,16.9858,17.4132,17.8432,18.4777 ,18.9031,19.3149,19.7323,20.1413, 20.5517,21.1587,21.5612,21.9637,22.3605 ,22.7562,23.1504,23.5389,24.1243, 24.5149,24.9077,25.3011,25.6949,26.2869 ,26.6836,27.0817,27.6798,28.0786, 28.4767,28.8811,29.236,29.9116,30.5926, 30.9338,31.2813,31.7907,32.1324,32.4769 ,32.8202,33.1647,33.51,33.6828,33.6342)
FOOTPRINT_POINT_LONGITUDE = (354.055,353.46,353.023,352.616,352.602 ,352.58,352.59,352.599,352.604,352.609, 352.614,352.619,352.623,352.626,352.633 ,352.637,352.642,352.644,352.646, 352.646,352.647,352.647,352.646,352.646 ,352.645,352.642,352.64,352.638,352.635 ,352.629,352.622,352.618,352.612, 352.608,352.605,352.597,352.587,352.58, 352.568,352.56,352.551,352.538,352.528, 352.518,352.506,352.496,352.478,352.472 ,352.472,353.348,353.725,354.302, 354.319,354.326,354.32,354.313,354.308, 354.302,354.294,354.289,354.283,354.277 ,354.27,354.266,354.26,354.255,354.25, 354.245,354.238,354.233,354.229,354.225 ,354.22,354.216,354.211,354.205,354.2, 354.195,354.191,354.186,354.178,354.173 ,354.168,354.161,354.155,354.148, 354.144,354.142,354.132,354.123,354.119 ,354.116,354.108,354.102,354.098, 354.092,354.087,354.082,354.08,354.055)
ORBIT_NUMBER = 5332
ORBITAL_ECCENTRICITY = 0.571
ORBITAL_INCLINATION = 86.74
ORBITAL_SEMIMAJOR_AXIS = 8687.97
PERIAPSIS_ALTITUDE = 339.12
PERIAPSIS_ARGUMENT_ANGLE = 140.25
PERIAPSIS_TIME = 2008-02-26T04:21:50.000Z
SPACECRAFT_ORIENTATION = (0.0,-1.0,0.0)
^MEX_ORIENTATION_DESC = "MEX_ORIENTATION_DESC.TXT"
SPACECRAFT_POINTING_MODE = ACROSSTRACK
^MEX_POINTING_DESC = "MEX_POINTING_DESC.TXT"
RIGHT_ASCENSION = -1e+32
DECLINATION = -1e+32
OFFSET_ANGLE = 0.14
SPACECRAFT_SOLAR_DISTANCE = 2.44921e+08
TARGET_NAME = MARS
/* CAMERA DATA ELEMENTS */
DETECTOR_TEMPERATURE = 18.3705
FOCAL_PLANE_TEMPERATURE = 8.1755
INST_CMPRS_NAME = "DISCRETE COSINE TRANSFORMATION (DCT)"
INST_CMPRS_RATIO = 11.3662
INST_CMPRS_QUALITY = 0
INST_CMPRS_QUANTZ_TBL_ID = 0
INSTRUMENT_TEMPERATURE = 11.234
LENS_TEMPERATURE = 8.5833
MACROPIXEL_SIZE = 2
MISSING_FRAMES = 0
PIXEL_SUBSAMPLING_FLAG = N
SIGNAL_CHAIN_ID = 1
/* RADIOMETRIC DATA ELEMENTS */
BANDWIDTH = 178.0
CENTER_FILTER_WAVELENGTH = 679.0
RADIANCE_OFFSET = 4.54975
RADIANCE_SCALING_FACTOR = 0.0237143
REFLECTANCE_SCALING_FACTOR = 0.00075334
MEX:REFLECTANCE_OFFSET = 0.144534
/* IMAGE OBJECT DEFINITIONS */
OBJECT = IMAGE
  INTERCHANGE_FORMAT = BINARY
  LINES = 46439
  LINE_SAMPLES = 3929
  SAMPLE_TYPE = UNSIGNED_INTEGER
  SAMPLE_BITS = 8
  BANDS = 1
  BAND_STORAGE_TYPE = BAND_SEQUENTIAL
  MAXIMUM = 255
  MEAN = 123.792
  MINIMUM = 1
  STANDARD_DEVIATION = 23.7328
END_OBJECT = IMAGE
/* MAP OBJECT DEFINITIONS */
OBJECT = IMAGE_MAP_PROJECTION
  ^DATA_SET_MAP_PROJECTION_CATALOG= "DSMAP.CAT"
  A_AXIS_RADIUS = 3396.0
  B_AXIS_RADIUS = 3396.0
  C_AXIS_RADIUS = 3396.0
  CENTER_LATITUDE = 0.0
  CENTER_LONGITUDE = 353.0
  COORDINATE_SYSTEM_NAME = PLANETOGRAPHIC
  COORDINATE_SYSTEM_TYPE = "BODY-FIXED ROTATING"
  EASTERNMOST_LONGITUDE = 354.326
  FIRST_STANDARD_PARALLEL = "N/A"
  LINE_FIRST_PIXEL = 1
  LINE_LAST_PIXEL = 46439
  LINE_PROJECTION_OFFSET = 79815.25
  MAP_PROJECTION_ROTATION = 0.0
  MAP_PROJECTION_TYPE = SINUSOIDAL
  MAP_RESOLUTION = 2370.85521546667
  MAP_SCALE = 0.025
  MAXIMUM_LATITUDE = 33.6828
  MINIMUM_LATITUDE = 14.0915
  POSITIVE_LONGITUDE_DIRECTION = EAST
  REFERENCE_LATITUDE = "N/A"
  REFERENCE_LONGITUDE = "N/A"
  SAMPLE_FIRST_PIXEL = 1
  SAMPLE_LAST_PIXEL = 3929
  SAMPLE_PROJECTION_OFFSET = 1056.25
  SECOND_STANDARD_PARALLEL = "N/A"
  WESTERNMOST_LONGITUDE = 352.472
END_OBJECT = IMAGE_MAP_PROJECTION
END
