PDS_VERSION_ID = PDS3
/* FILE DATA ELEMENTS */
RECORD_TYPE = UNDEFINED
/* POINTERS TO DATA OBJECTS */
^IMAGE = ("H5332_0000_BL4.TIF")
/* IDENTIFICATION DATA ELEMENTS */
DATA_SET_ID = "MEX-M-HRSC-4-REFDR-MAPPROJECT-EXT2-V4.0"
DATA_SET_NAME = "MARS EXPRESS HRSC MAP PROJECTED REFDR EXTENSION2 V4.0"
DETECTOR_ID = MEX_HRSC_BLUE
EVENT_TYPE = "MARS-REGIONAL-MAPPING-Im-Fl-La"
INSTRUMENT_HOST_ID = MEX
INSTRUMENT_HOST_NAME = "MARS EXPRESS"
INSTRUMENT_ID = HRSC
INSTRUMENT_NAME = "HIGH RESOLUTION STEREO CAMERA"
MISSION_NAME = "MARS EXPRESS"
MISSION_PHASE_NAME = ME_Phase_11
PROCESSING_LEVEL_ID = 4
PRODUCT_CREATION_TIME = 2023-02-02T05:41:08.000Z
PRODUCT_ID = "H5332_0000_BL4.TIF"
RELEASE_ID = 0002
REVISION_ID = 0000
/* QUALITY DATA ELEMENTS */
DATA_QUALITY_ID = 1
DATA_QUALITY_DESC = "Data calculated based on original SPICE kernels"
/* TIME DATA ELEMENTS */
SPACECRAFT_CLOCK_START_COUNT = "1/0152079769.07571"
SPACECRAFT_CLOCK_STOP_COUNT = "1/0152080161.04660"
START_TIME = 2008-02-26T04:23:28.720Z
STOP_TIME = 2008-02-26T04:28:41.363Z
/* ORBITAL DATA ELEMENTS */
ASCENDING_NODE_LONGITUDE = 117.27
MAXIMUM_RESOLUTION = 0.0558
FOOTPRINT_POINT_LATITUDE = (33.6551,33.6474,33.6368,33.6366, 33.6461,33.1225,32.774,32.2514,31.9035, 31.5557,31.2083,30.8611,30.5143,30.1678 ,29.8215,29.4755,28.7847,28.0947, 27.4077,26.846,26.4369,26.0286,25.6204, 25.2135,24.8079,24.1983,23.7932,23.3888 ,22.9849,22.5836,22.1817,21.7802,21.38, 20.9794,20.5681,20.1584,19.5408,19.1236 ,18.7068,18.0695,17.6444,16.995,16.562, 16.1197,15.6782,15.2294,14.7801,14.3234 ,14.0947,14.079,14.0766,14.0729,14.0688 ,14.0687,14.0698,14.7562,15.2063,15.656 ,16.0982,16.7584,17.1925,17.6258,18.265 ,18.6912,19.1078,19.5262,19.9405, 20.5547,20.965,21.3656,21.7669,22.1694, 22.5723,22.9758,23.3801,23.7849,24.1906 ,24.597,25.0037,25.4111,25.8191,26.2276 ,26.6369,27.2338,27.9222,28.6119, 29.3041,29.65,29.9966,30.3433,30.6908, 31.2131,31.5617,31.9086,32.4314,32.7802 ,33.1292,33.4786,33.6534,33.6551)
FOOTPRINT_POINT_LONGITUDE = (354.036,353.307,352.635,352.622, 352.603,352.614,352.62,352.63,352.635, 352.641,352.646,352.65,352.655,352.659, 352.662,352.666,352.672,352.677,352.679 ,352.681,352.682,352.683,352.683, 352.683,352.681,352.68,352.679,352.677, 352.675,352.67,352.667,352.664,352.659, 352.656,352.654,352.65,352.643,352.636, 352.63,352.62,352.613,352.602,352.594, 352.585,352.577,352.567,352.557,352.547 ,352.542,352.541,353.099,353.675, 354.238,354.254,354.259,354.252,354.248 ,354.244,354.24,354.234,354.23,354.226, 354.22,354.218,354.213,354.209,354.205, 354.199,354.196,354.192,354.188,354.186 ,354.182,354.178,354.175,354.171, 354.167,354.164,354.159,354.155,354.151 ,354.147,354.142,354.136,354.128,354.12 ,354.114,354.11,354.106,354.101,354.098 ,354.094,354.091,354.084,354.077, 354.072,354.068,354.063,354.061, 354.036)
ORBIT_NUMBER = 5332
ORBITAL_ECCENTRICITY = 0.571
ORBITAL_INCLINATION = 86.74
ORBITAL_SEMIMAJOR_AXIS = 8687.97
PERIAPSIS_ALTITUDE = 339.12
PERIAPSIS_ARGUMENT_ANGLE = 140.25
PERIAPSIS_TIME = 2008-02-26T04:21:50.000Z
SPACECRAFT_ORIENTATION = (0.0,-1.0,0.0)
^MEX_ORIENTATION_DESC = "MEX_ORIENTATION_DESC.TXT"
SPACECRAFT_POINTING_MODE = ACROSSTRACK
^MEX_POINTING_DESC = "MEX_POINTING_DESC.TXT"
RIGHT_ASCENSION = -1e+32
DECLINATION = -1e+32
OFFSET_ANGLE = 0.14
SPACECRAFT_SOLAR_DISTANCE = 2.44921e+08
TARGET_NAME = MARS
/* CAMERA DATA ELEMENTS */
DETECTOR_TEMPERATURE = 18.1666
FOCAL_PLANE_TEMPERATURE = 8.1755
INST_CMPRS_NAME = "DISCRETE COSINE TRANSFORMATION (DCT)"
INST_CMPRS_RATIO = 11.5525
INST_CMPRS_QUALITY = 0
INST_CMPRS_QUANTZ_TBL_ID = 0
INSTRUMENT_TEMPERATURE = 11.234
LENS_TEMPERATURE = 8.5833
MACROPIXEL_SIZE = 4
MISSING_FRAMES = 0
PIXEL_SUBSAMPLING_FLAG = N
SIGNAL_CHAIN_ID = 2
/* RADIOMETRIC DATA ELEMENTS */
BANDWIDTH = 76.0
CENTER_FILTER_WAVELENGTH = 444.0
RADIANCE_OFFSET = 0.662689
RADIANCE_SCALING_FACTOR = 0.00157783
REFLECTANCE_SCALING_FACTOR = 9.72454e-05
MEX:REFLECTANCE_OFFSET = 0.0408431
/* IMAGE OBJECT DEFINITIONS */
OBJECT = IMAGE
  INTERCHANGE_FORMAT = BINARY
  LINES = 23220
  LINE_SAMPLES = 1965
  SAMPLE_TYPE = UNSIGNED_INTEGER
  SAMPLE_BITS = 8
  BANDS = 1
  BAND_STORAGE_TYPE = BAND_SEQUENTIAL
  MAXIMUM = 255
  MEAN = 98.0071
  MINIMUM = 1
  STANDARD_DEVIATION = 30.6682
END_OBJECT = IMAGE
/* MAP OBJECT DEFINITIONS */
OBJECT = IMAGE_MAP_PROJECTION
  ^DATA_SET_MAP_PROJECTION_CATALOG= "DSMAP.CAT"
  A_AXIS_RADIUS = 3396.0
  B_AXIS_RADIUS = 3396.0
  C_AXIS_RADIUS = 3396.0
  CENTER_LATITUDE = 0.0
  CENTER_LONGITUDE = 353.0
  COORDINATE_SYSTEM_NAME = PLANETOGRAPHIC
  COORDINATE_SYSTEM_TYPE = "BODY-FIXED ROTATING"
  EASTERNMOST_LONGITUDE = 354.259
  FIRST_STANDARD_PARALLEL = "N/A"
  LINE_FIRST_PIXEL = 1
  LINE_LAST_PIXEL = 23220
  LINE_PROJECTION_OFFSET = 39907.375
  MAP_PROJECTION_ROTATION = 0.0
  MAP_PROJECTION_TYPE = SINUSOIDAL
  MAP_RESOLUTION = 1185.42760773333
  MAP_SCALE = 0.05
  MAXIMUM_LATITUDE = 33.6551
  MINIMUM_LATITUDE = 14.0687
  POSITIVE_LONGITUDE_DIRECTION = EAST
  REFERENCE_LATITUDE = "N/A"
  REFERENCE_LONGITUDE = "N/A"
  SAMPLE_FIRST_PIXEL = 1
  SAMPLE_LAST_PIXEL = 1965
  SAMPLE_PROJECTION_OFFSET = 527.875
  SECOND_STANDARD_PARALLEL = "N/A"
  WESTERNMOST_LONGITUDE = 352.541
END_OBJECT = IMAGE_MAP_PROJECTION
END
