PDS_VERSION_ID = PDS3
/* FILE DATA ELEMENTS */
RECORD_TYPE = UNDEFINED
/* POINTERS TO DATA OBJECTS */
^IMAGE = ("H5328_0000_GR4.TIF")
/* IDENTIFICATION DATA ELEMENTS */
DATA_SET_ID = "MEX-M-HRSC-4-REFDR-MAPPROJECT-EXT2-V4.0"
DATA_SET_NAME = "MARS EXPRESS HRSC MAP PROJECTED REFDR EXTENSION2 V4.0"
DETECTOR_ID = MEX_HRSC_GREEN
EVENT_TYPE = "MARS-REGIONAL-MAPPING-Im-Fl-Gl"
INSTRUMENT_HOST_ID = MEX
INSTRUMENT_HOST_NAME = "MARS EXPRESS"
INSTRUMENT_ID = HRSC
INSTRUMENT_NAME = "HIGH RESOLUTION STEREO CAMERA"
MISSION_NAME = "MARS EXPRESS"
MISSION_PHASE_NAME = ME_Phase_11
PROCESSING_LEVEL_ID = 4
PRODUCT_CREATION_TIME = 2023-02-02T05:41:08.000Z
PRODUCT_ID = "H5328_0000_GR4.TIF"
RELEASE_ID = 0002
REVISION_ID = 0000
/* QUALITY DATA ELEMENTS */
DATA_QUALITY_ID = 1
DATA_QUALITY_DESC = "Data calculated based on original SPICE kernels"
/* TIME DATA ELEMENTS */
SPACECRAFT_CLOCK_START_COUNT = "1/0151980893.07281"
SPACECRAFT_CLOCK_STOP_COUNT = "1/0151981273.46036"
START_TIME = 2008-02-25T00:55:29.282Z
STOP_TIME = 2008-02-25T01:00:39.414Z
/* ORBITAL DATA ELEMENTS */
ASCENDING_NODE_LONGITUDE = 117.34
MAXIMUM_RESOLUTION = 0.0543
FOOTPRINT_POINT_LATITUDE = (54.985,54.9465,54.8981,54.8971,54.8773 ,54.4314,53.9849,53.5374,53.0889, 52.6398,52.1819,51.7316,51.2792,50.5998 ,50.1465,49.7399,49.1687,48.5958, 48.2133,47.8305,47.4473,47.0637,46.6796 ,46.2952,45.7181,45.3328,44.9472, 44.5614,44.1753,43.7888,43.4027,43.0152 ,42.6279,42.0401,41.6528,41.265,40.6777 ,40.0959,39.7069,39.321,38.9448,38.5682 ,38.0035,37.2508,36.8737,36.3096, 35.7315,35.3421,35.1479,34.9551,34.9793 ,34.9795,34.9804,35.3699,35.9543, 36.3385,36.7157,37.0923,37.4702,37.8473 ,38.413,38.79,39.3558,39.7419,40.1319, 40.5201,40.9164,41.3049,41.6953,42.283, 42.6715,43.0596,43.6415,44.0292,44.4167 ,44.8039,45.1908,45.5776,45.9637, 46.3498,46.9284,47.5066,48.0826,48.4668 ,48.8506,49.2338,49.6167,49.9994, 50.4446,50.8999,51.3546,51.8084,52.2614 ,52.7219,53.1736,53.6247,54.0746, 54.5241,54.7484,54.985)
FOOTPRINT_POINT_LONGITUDE = (33.2645,32.0887,30.9547,30.9329, 30.8689,30.9414,31.0123,31.0807,31.1464 ,31.2106,31.2739,31.3356,31.3912, 31.4728,31.5266,31.5713,31.6354,31.6947 ,31.733,31.7702,31.8066,31.842,31.8762, 31.9093,31.9577,31.9886,32.0186,32.0479 ,32.0762,32.1036,32.1319,32.1561, 32.1807,32.2179,32.2423,32.265,32.3022, 32.335,32.353,32.3695,32.3872,32.4035, 32.4277,32.4589,32.472,32.4947,32.5144, 32.5264,32.5334,32.5395,33.9671,33.9805 ,33.9849,33.9783,33.9684,33.9609, 33.9537,33.9478,33.9389,33.9315,33.9198 ,33.9119,33.8991,33.89,33.8795,33.8728, 33.8626,33.8541,33.8407,33.8302,33.8195 ,33.8091,33.7926,33.7812,33.7694, 33.7575,33.7453,33.7324,33.7201,33.7068 ,33.6862,33.6638,33.6444,33.6294, 33.6139,33.5984,33.5824,33.5656,33.546, 33.5252,33.5036,33.4824,33.4604,33.4368 ,33.4132,33.3885,33.3642,33.3379, 33.3247,33.2645)
ORBIT_NUMBER = 5328
ORBITAL_ECCENTRICITY = 0.571
ORBITAL_INCLINATION = 86.73
ORBITAL_SEMIMAJOR_AXIS = 8694.25
PERIAPSIS_ALTITUDE = 338.6
PERIAPSIS_ARGUMENT_ANGLE = 140.98
PERIAPSIS_TIME = 2008-02-25T00:59:43.000Z
SPACECRAFT_ORIENTATION = (0.0,-1.0,0.0)
^MEX_ORIENTATION_DESC = "MEX_ORIENTATION_DESC.TXT"
SPACECRAFT_POINTING_MODE = ACROSSTRACK
^MEX_POINTING_DESC = "MEX_POINTING_DESC.TXT"
RIGHT_ASCENSION = -1e+32
DECLINATION = -1e+32
OFFSET_ANGLE = -0.1
SPACECRAFT_SOLAR_DISTANCE = 2.44796e+08
TARGET_NAME = MARS
/* CAMERA DATA ELEMENTS */
DETECTOR_TEMPERATURE = 18.1666
FOCAL_PLANE_TEMPERATURE = 7.7677
INST_CMPRS_NAME = "DISCRETE COSINE TRANSFORMATION (DCT)"
INST_CMPRS_RATIO = 14.6194
INST_CMPRS_QUALITY = 0
INST_CMPRS_QUANTZ_TBL_ID = 0
INSTRUMENT_TEMPERATURE = 11.0301
LENS_TEMPERATURE = 8.1755
MACROPIXEL_SIZE = 4
PIXEL_SUBSAMPLING_FLAG = N
SIGNAL_CHAIN_ID = 2
/* RADIOMETRIC DATA ELEMENTS */
BANDWIDTH = 88.0
CENTER_FILTER_WAVELENGTH = 538.0
RADIANCE_OFFSET = 1.25538
RADIANCE_SCALING_FACTOR = 0.00588031
REFLECTANCE_SCALING_FACTOR = 0.000303387
MEX:REFLECTANCE_OFFSET = 0.0647696
/* IMAGE OBJECT DEFINITIONS */
OBJECT = IMAGE
  INTERCHANGE_FORMAT = BINARY
  LINES = 23729
  LINE_SAMPLES = 2416
  SAMPLE_TYPE = UNSIGNED_INTEGER
  SAMPLE_BITS = 8
  BANDS = 1
  BAND_STORAGE_TYPE = BAND_SEQUENTIAL
  MAXIMUM = 255
  MEAN = 121.871
  MINIMUM = 1
  STANDARD_DEVIATION = 39.0306
END_OBJECT = IMAGE
/* MAP OBJECT DEFINITIONS */
OBJECT = IMAGE_MAP_PROJECTION
  ^DATA_SET_MAP_PROJECTION_CATALOG= "DSMAP.CAT"
  A_AXIS_RADIUS = 3396.0
  B_AXIS_RADIUS = 3396.0
  C_AXIS_RADIUS = 3396.0
  CENTER_LATITUDE = 0.0
  CENTER_LONGITUDE = 33.0
  COORDINATE_SYSTEM_NAME = PLANETOGRAPHIC
  COORDINATE_SYSTEM_TYPE = "BODY-FIXED ROTATING"
  EASTERNMOST_LONGITUDE = 33.9849
  FIRST_STANDARD_PARALLEL = "N/A"
  LINE_FIRST_PIXEL = 1
  LINE_LAST_PIXEL = 23729
  LINE_PROJECTION_OFFSET = 65180.375
  MAP_PROJECTION_ROTATION = 0.0
  MAP_PROJECTION_TYPE = SINUSOIDAL
  MAP_RESOLUTION = 1185.42760773333
  MAP_SCALE = 0.05
  MAXIMUM_LATITUDE = 54.985
  MINIMUM_LATITUDE = 34.9551
  POSITIVE_LONGITUDE_DIRECTION = EAST
  REFERENCE_LATITUDE = "N/A"
  REFERENCE_LONGITUDE = "N/A"
  SAMPLE_FIRST_PIXEL = 1
  SAMPLE_LAST_PIXEL = 2416
  SAMPLE_PROJECTION_OFFSET = 1457.125
  SECOND_STANDARD_PARALLEL = "N/A"
  WESTERNMOST_LONGITUDE = 30.8689
END_OBJECT = IMAGE_MAP_PROJECTION
END
