PDS_VERSION_ID = PDS3
/* FILE DATA ELEMENTS */
RECORD_TYPE = UNDEFINED
/* POINTERS TO DATA OBJECTS */
^IMAGE = ("H5327_0000_S14.TIF")
/* IDENTIFICATION DATA ELEMENTS */
DATA_SET_ID = "MEX-M-HRSC-4-REFDR-MAPPROJECT-EXT2-V4.0"
DATA_SET_NAME = "MARS EXPRESS HRSC MAP PROJECTED REFDR EXTENSION2 V4.0"
DETECTOR_ID = MEX_HRSC_S1
EVENT_TYPE = "MARS-REGIONAL-MAPPING-Vo-Te-Fl"
INSTRUMENT_HOST_ID = MEX
INSTRUMENT_HOST_NAME = "MARS EXPRESS"
INSTRUMENT_ID = HRSC
INSTRUMENT_NAME = "HIGH RESOLUTION STEREO CAMERA"
MISSION_NAME = "MARS EXPRESS"
MISSION_PHASE_NAME = ME_Phase_11
PROCESSING_LEVEL_ID = 4
PRODUCT_CREATION_TIME = 2023-02-02T05:41:08.000Z
PRODUCT_ID = "H5327_0000_S14.TIF"
RELEASE_ID = 0002
REVISION_ID = 0000
/* QUALITY DATA ELEMENTS */
DATA_QUALITY_ID = 1
DATA_QUALITY_DESC = "Data calculated based on original SPICE kernels"
/* TIME DATA ELEMENTS */
SPACECRAFT_CLOCK_START_COUNT = "1/0151956621.07297"
SPACECRAFT_CLOCK_STOP_COUNT = "1/0151956917.22726"
START_TIME = 2008-02-24T18:10:24.906Z
STOP_TIME = 2008-02-24T18:13:58.674Z
/* ORBITAL DATA ELEMENTS */
ASCENDING_NODE_LONGITUDE = 117.36
MAXIMUM_RESOLUTION = 0.0293
FOOTPRINT_POINT_LATITUDE = (32.123,32.1208,32.1153,32.1043,32.104, 32.045,31.7839,31.5229,31.2616,30.8697, 30.6083,30.3465,30.085,29.8231,29.5617, 29.2993,28.9069,28.514,28.252,27.8588, 27.4652,27.0722,26.81,26.5476,26.1542, 25.8917,25.6292,25.3671,25.1049,24.8428 ,24.5809,24.3183,24.0562,23.7938, 23.4867,23.1736,22.7042,22.2358,21.9229 ,21.4548,20.9864,20.674,20.3624,20.0507 ,19.583,19.2715,18.9596,18.6439,18.1771 ,18.0215,17.9915,17.9947,17.9957, 17.9941,17.994,17.9945,18.3063,18.7744, 19.2462,19.7147,20.0274,20.3393,20.8081 ,21.1206,21.4286,21.7448,22.0586, 22.5278,22.8405,23.1541,23.4671,23.7782 ,24.0401,24.4333,24.6955,24.958,25.352, 25.6148,25.8775,26.2716,26.5343,26.7968 ,27.0595,27.4536,27.716,27.9785,28.2409 ,28.6345,29.159,29.5525,29.8147,30.077, 30.4699,30.7318,30.9937,31.2553,31.5169 ,31.9093,32.04,32.123)
FOOTPRINT_POINT_LONGITUDE = (134.198,133.903,133.433,132.829, 132.816,132.792,132.797,132.803,132.808 ,132.815,132.819,132.824,132.828, 132.832,132.836,132.839,132.844,132.849 ,132.852,132.856,132.86,132.863,132.865 ,132.867,132.869,132.87,132.871,132.872 ,132.873,132.874,132.875,132.875, 132.876,132.876,132.876,132.875,132.874 ,132.873,132.872,132.87,132.868,132.866 ,132.864,132.862,132.858,132.856, 132.853,132.85,132.845,132.843,132.842, 133.425,133.803,134.326,134.341,134.346 ,134.344,134.34,134.337,134.334,134.331 ,134.329,134.326,134.324,134.323, 134.319,134.317,134.313,134.311,134.308 ,134.306,134.303,134.301,134.298, 134.296,134.294,134.291,134.288,134.286 ,134.282,134.28,134.277,134.275,134.271 ,134.268,134.266,134.263,134.259, 134.253,134.249,134.246,134.243,134.239 ,134.236,134.233,134.23,134.227,134.222 ,134.221,134.198)
ORBIT_NUMBER = 5327
ORBITAL_ECCENTRICITY = 0.571
ORBITAL_INCLINATION = 86.73
ORBITAL_SEMIMAJOR_AXIS = 8694.34
PERIAPSIS_ALTITUDE = 338.61
PERIAPSIS_ARGUMENT_ANGLE = 141.16
PERIAPSIS_TIME = 2008-02-24T18:09:12.000Z
SPACECRAFT_ORIENTATION = (0.0,-1.0,0.0)
^MEX_ORIENTATION_DESC = "MEX_ORIENTATION_DESC.TXT"
SPACECRAFT_POINTING_MODE = NADIR
^MEX_POINTING_DESC = "MEX_POINTING_DESC.TXT"
RIGHT_ASCENSION = -1e+32
DECLINATION = -1e+32
OFFSET_ANGLE = -1e+32
SPACECRAFT_SOLAR_DISTANCE = 2.44764e+08
TARGET_NAME = MARS
/* CAMERA DATA ELEMENTS */
DETECTOR_TEMPERATURE = 17.5549
FOCAL_PLANE_TEMPERATURE = 8.1755
INST_CMPRS_NAME = "DISCRETE COSINE TRANSFORMATION (DCT)"
INST_CMPRS_RATIO = 10.8881
INST_CMPRS_QUALITY = 0
INST_CMPRS_QUANTZ_TBL_ID = 0
INSTRUMENT_TEMPERATURE = 11.0301
LENS_TEMPERATURE = 8.5833
MACROPIXEL_SIZE = 2
MISSING_FRAMES = 1
PIXEL_SUBSAMPLING_FLAG = N
SIGNAL_CHAIN_ID = 1
/* RADIOMETRIC DATA ELEMENTS */
BANDWIDTH = 180.0
CENTER_FILTER_WAVELENGTH = 677.0
RADIANCE_OFFSET = 4.35646
RADIANCE_SCALING_FACTOR = 0.0248497
REFLECTANCE_SCALING_FACTOR = 0.000776709
MEX:REFLECTANCE_OFFSET = 0.136167
/* IMAGE OBJECT DEFINITIONS */
OBJECT = IMAGE
  INTERCHANGE_FORMAT = BINARY
  LINES = 33388
  LINE_SAMPLES = 3543
  SAMPLE_TYPE = UNSIGNED_INTEGER
  SAMPLE_BITS = 8
  BANDS = 1
  BAND_STORAGE_TYPE = BAND_SEQUENTIAL
  MAXIMUM = 255
  MEAN = 127.469
  MINIMUM = 1
  STANDARD_DEVIATION = 48.718
END_OBJECT = IMAGE
/* MAP OBJECT DEFINITIONS */
OBJECT = IMAGE_MAP_PROJECTION
  ^DATA_SET_MAP_PROJECTION_CATALOG= "DSMAP.CAT"
  A_AXIS_RADIUS = 3396.0
  B_AXIS_RADIUS = 3396.0
  C_AXIS_RADIUS = 3396.0
  CENTER_LATITUDE = 0.0
  CENTER_LONGITUDE = 134.0
  COORDINATE_SYSTEM_NAME = PLANETOGRAPHIC
  COORDINATE_SYSTEM_TYPE = "BODY-FIXED ROTATING"
  EASTERNMOST_LONGITUDE = 134.346
  FIRST_STANDARD_PARALLEL = "N/A"
  LINE_FIRST_PIXEL = 1
  LINE_LAST_PIXEL = 33388
  LINE_PROJECTION_OFFSET = 76077.75
  MAP_PROJECTION_ROTATION = 0.0
  MAP_PROJECTION_TYPE = SINUSOIDAL
  MAP_RESOLUTION = 2370.85521546667
  MAP_SCALE = 0.025
  MAXIMUM_LATITUDE = 32.123
  MINIMUM_LATITUDE = 17.9915
  POSITIVE_LONGITUDE_DIRECTION = EAST
  REFERENCE_LATITUDE = "N/A"
  REFERENCE_LONGITUDE = "N/A"
  SAMPLE_FIRST_PIXEL = 1
  SAMPLE_LAST_PIXEL = 3543
  SAMPLE_PROJECTION_OFFSET = 2696.75
  SECOND_STANDARD_PARALLEL = "N/A"
  WESTERNMOST_LONGITUDE = 132.792
END_OBJECT = IMAGE_MAP_PROJECTION
END
