PDS_VERSION_ID = PDS3
/* FILE DATA ELEMENTS */
RECORD_TYPE = UNDEFINED
/* POINTERS TO DATA OBJECTS */
^IMAGE = ("H5319_0009_P24.TIF")
/* IDENTIFICATION DATA ELEMENTS */
DATA_SET_ID = "MEX-M-HRSC-4-REFDR-MAPPROJECT-EXT2-V4.0"
DATA_SET_NAME = "MARS EXPRESS HRSC MAP PROJECTED REFDR EXTENSION2 V4.0"
DETECTOR_ID = MEX_HRSC_P2
EVENT_TYPE = "MARS-REGIONAL-MAPPING-Vo-Te-Mw"
INSTRUMENT_HOST_ID = MEX
INSTRUMENT_HOST_NAME = "MARS EXPRESS"
INSTRUMENT_ID = HRSC
INSTRUMENT_NAME = "HIGH RESOLUTION STEREO CAMERA"
MISSION_NAME = "MARS EXPRESS"
MISSION_PHASE_NAME = ME_Phase_11
PROCESSING_LEVEL_ID = 4
PRODUCT_CREATION_TIME = 2023-02-02T05:41:08.000Z
PRODUCT_ID = "H5319_0009_P24.TIF"
RELEASE_ID = 0002
REVISION_ID = 0000
/* QUALITY DATA ELEMENTS */
DATA_QUALITY_ID = 1
DATA_QUALITY_DESC = "Data calculated based on original SPICE kernels"
/* TIME DATA ELEMENTS */
SPACECRAFT_CLOCK_START_COUNT = "1/0151759598.09097"
SPACECRAFT_CLOCK_STOP_COUNT = "1/0151759938.30678"
START_TIME = 2008-02-22T11:27:34.609Z
STOP_TIME = 2008-02-22T11:32:02.464Z
/* ORBITAL DATA ELEMENTS */
ASCENDING_NODE_LONGITUDE = 117.53
MAXIMUM_RESOLUTION = 0.0595
FOOTPRINT_POINT_LATITUDE = (28.0698,28.0593,28.0507,28.0416, 28.0413,28.0686,27.6339,27.2007,26.9089 ,26.6201,26.0461,25.7271,25.3844, 24.8731,24.532,24.1931,23.6843,23.3445, 23.0089,22.6706,22.1658,21.831,21.3292, 20.6605,20.3266,19.8322,19.5016,19.1704 ,18.8413,18.348,18.0202,17.6931,17.3663 ,17.0412,16.7168,16.3933,15.9086, 15.5862,15.2646,14.9446,14.6256,14.3071 ,13.9895,13.6724,13.3561,13.0404, 12.7251,12.4106,12.0975,11.9412,11.8672 ,11.8687,11.872,11.8733,11.8734,11.8744 ,12.1873,12.5009,12.8152,13.1304, 13.4462,13.9224,14.2401,14.5593,15.0403 ,15.3611,15.6831,16.0055,16.4939, 16.9786,17.304,17.6301,17.9579,18.2871, 18.6164,19.1069,19.6003,20.0985,20.43, 20.7642,21.2665,21.6047,21.938,22.2763, 22.7796,23.2862,23.6267,23.9659,24.3066 ,24.6463,24.9876,25.3311,25.8445, 26.1499,26.5829,27.015,27.4493,27.8826, 28.0281,28.0698)
FOOTPRINT_POINT_LONGITUDE = (215.37,214.81,214.39,213.973,213.96, 213.953,213.954,213.955,213.955,213.955 ,213.954,213.954,213.953,213.951,213.95 ,213.948,213.945,213.942,213.94,213.937 ,213.932,213.929,213.924,213.916, 213.912,213.905,213.9,213.895,213.89, 213.882,213.876,213.87,213.865,213.858, 213.852,213.845,213.835,213.829,213.822 ,213.814,213.807,213.799,213.791, 213.783,213.775,213.767,213.759,213.75, 213.742,213.737,213.735,214.292,215.104 ,215.488,215.505,215.511,215.508, 215.505,215.501,215.498,215.495,215.491 ,215.487,215.485,215.481,215.478, 215.476,215.473,215.471,215.465,215.463 ,215.46,215.458,215.457,215.455,215.448 ,215.443,215.44,215.437,215.435,215.433 ,215.433,215.429,215.429,215.423,215.42 ,215.419,215.417,215.415,215.413, 215.411,215.41,215.406,215.405,215.403, 215.4,215.398,215.394,215.393,215.37)
ORBIT_NUMBER = 5319
ORBITAL_ECCENTRICITY = 0.571
ORBITAL_INCLINATION = 86.74
ORBITAL_SEMIMAJOR_AXIS = 8693.45
PERIAPSIS_ALTITUDE = 337.28
PERIAPSIS_ARGUMENT_ANGLE = 142.55
PERIAPSIS_TIME = 2008-02-22T11:24:49.000Z
SPACECRAFT_ORIENTATION = (0.0,-1.0,0.0)
^MEX_ORIENTATION_DESC = "MEX_ORIENTATION_DESC.TXT"
SPACECRAFT_POINTING_MODE = ACROSSTRACK
^MEX_POINTING_DESC = "MEX_POINTING_DESC.TXT"
RIGHT_ASCENSION = -1e+32
DECLINATION = -1e+32
OFFSET_ANGLE = 0.45
SPACECRAFT_SOLAR_DISTANCE = 2.44508e+08
TARGET_NAME = MARS
/* CAMERA DATA ELEMENTS */
DETECTOR_TEMPERATURE = 18.7783
FOCAL_PLANE_TEMPERATURE = 8.9911
INST_CMPRS_NAME = "DISCRETE COSINE TRANSFORMATION (DCT)"
INST_CMPRS_RATIO = 5.43813
INST_CMPRS_QUALITY = 0
INST_CMPRS_QUANTZ_TBL_ID = 0
INSTRUMENT_TEMPERATURE = 11.234
LENS_TEMPERATURE = 9.195
MACROPIXEL_SIZE = 4
MISSING_FRAMES = 0
PIXEL_SUBSAMPLING_FLAG = N
SIGNAL_CHAIN_ID = 3
/* RADIOMETRIC DATA ELEMENTS */
BANDWIDTH = 177.0
CENTER_FILTER_WAVELENGTH = 676.5
RADIANCE_OFFSET = 4.84456
RADIANCE_SCALING_FACTOR = 0.0227603
REFLECTANCE_SCALING_FACTOR = 0.000721473
MEX:REFLECTANCE_OFFSET = 0.153566
/* IMAGE OBJECT DEFINITIONS */
OBJECT = IMAGE
  INTERCHANGE_FORMAT = BINARY
  LINES = 19243
  LINE_SAMPLES = 1966
  SAMPLE_TYPE = UNSIGNED_INTEGER
  SAMPLE_BITS = 8
  BANDS = 1
  BAND_STORAGE_TYPE = BAND_SEQUENTIAL
  MAXIMUM = 255
  MEAN = 149.919
  MINIMUM = 1
  STANDARD_DEVIATION = 25.197
END_OBJECT = IMAGE
/* MAP OBJECT DEFINITIONS */
OBJECT = IMAGE_MAP_PROJECTION
  ^DATA_SET_MAP_PROJECTION_CATALOG= "DSMAP.CAT"
  A_AXIS_RADIUS = 3396.0
  B_AXIS_RADIUS = 3396.0
  C_AXIS_RADIUS = 3396.0
  CENTER_LATITUDE = 0.0
  CENTER_LONGITUDE = 215.0
  COORDINATE_SYSTEM_NAME = PLANETOGRAPHIC
  COORDINATE_SYSTEM_TYPE = "BODY-FIXED ROTATING"
  EASTERNMOST_LONGITUDE = 215.511
  FIRST_STANDARD_PARALLEL = "N/A"
  LINE_FIRST_PIXEL = 1
  LINE_LAST_PIXEL = 19243
  LINE_PROJECTION_OFFSET = 33297.125
  MAP_PROJECTION_ROTATION = 0.0
  MAP_PROJECTION_TYPE = SINUSOIDAL
  MAP_RESOLUTION = 1185.42760773333
  MAP_SCALE = 0.05
  MAXIMUM_LATITUDE = 28.0698
  MINIMUM_LATITUDE = 11.8672
  POSITIVE_LONGITUDE_DIRECTION = EAST
  REFERENCE_LATITUDE = "N/A"
  REFERENCE_LONGITUDE = "N/A"
  SAMPLE_FIRST_PIXEL = 1
  SAMPLE_LAST_PIXEL = 1966
  SAMPLE_PROJECTION_OFFSET = 1424.625
  SECOND_STANDARD_PARALLEL = "N/A"
  WESTERNMOST_LONGITUDE = 213.735
END_OBJECT = IMAGE_MAP_PROJECTION
END
