PDS_VERSION_ID = PDS3
/* FILE DATA ELEMENTS */
RECORD_TYPE = UNDEFINED
/* POINTERS TO DATA OBJECTS */
^IMAGE = ("H5316_0000_RE4.TIF")
/* IDENTIFICATION DATA ELEMENTS */
DATA_SET_ID = "MEX-M-HRSC-4-REFDR-MAPPROJECT-EXT2-V4.0"
DATA_SET_NAME = "MARS EXPRESS HRSC MAP PROJECTED REFDR EXTENSION2 V4.0"
DETECTOR_ID = MEX_HRSC_RED
EVENT_TYPE = "MARS-REGIONAL-MAPPING-Vo-Te"
INSTRUMENT_HOST_ID = MEX
INSTRUMENT_HOST_NAME = "MARS EXPRESS"
INSTRUMENT_ID = HRSC
INSTRUMENT_NAME = "HIGH RESOLUTION STEREO CAMERA"
MISSION_NAME = "MARS EXPRESS"
MISSION_PHASE_NAME = ME_Phase_11
PROCESSING_LEVEL_ID = 4
PRODUCT_CREATION_TIME = 2023-02-02T05:41:08.000Z
PRODUCT_ID = "H5316_0000_RE4.TIF"
RELEASE_ID = 0002
REVISION_ID = 0000
/* QUALITY DATA ELEMENTS */
DATA_QUALITY_ID = 1
DATA_QUALITY_DESC = "Data calculated based on original SPICE kernels"
/* TIME DATA ELEMENTS */
SPACECRAFT_CLOCK_START_COUNT = "1/0151685591.08431"
SPACECRAFT_CLOCK_STOP_COUNT = "1/0151685888.06545"
START_TIME = 2008-02-21T14:54:11.553Z
STOP_TIME = 2008-02-21T14:58:03.170Z
/* ORBITAL DATA ELEMENTS */
ASCENDING_NODE_LONGITUDE = 117.58
MAXIMUM_RESOLUTION = 0.1155
FOOTPRINT_POINT_LATITUDE = (35.2914,35.2588,35.2331,35.2074, 35.2066,35.2555,34.9567,34.5089,34.21, 33.912,33.4647,33.1674,32.8703,32.5734, 32.1283,31.8324,31.5366,31.2413,30.7984 ,30.5036,30.2097,29.9156,29.6224, 29.3296,29.037,28.7448,28.4527,28.0157, 27.5792,27.2887,26.9989,26.7091,26.42, 25.9868,25.6986,25.4112,25.1241,24.8372 ,24.5509,24.2649,23.9795,23.5529, 23.1264,22.8431,22.5602,21.996,21.4338, 20.8742,20.7345,20.6632,20.6907,20.7094 ,20.7352,20.7359,20.738,21.2978,21.8601 ,22.424,22.7069,22.9903,23.2741,23.7007 ,23.9855,24.271,24.5568,24.8434,25.1303 ,25.4177,25.7058,26.1383,26.4268,26.716 ,27.0058,27.2958,27.5865,28.0233, 28.3148,28.6068,28.899,29.1916,29.4848, 29.7779,30.2185,30.5128,30.9556,31.251, 31.5458,31.9908,32.2872,32.5839,33.0297 ,33.3273,33.6254,33.9236,34.2217, 34.5202,34.8191,35.1181,35.2678, 35.2914)
FOOTPRINT_POINT_LONGITUDE = (156.441,155.846,155.399,154.965, 154.951,154.967,154.97,154.974,154.976, 154.977,154.979,154.981,154.982,154.983 ,154.984,154.984,154.985,154.985, 154.985,154.984,154.984,154.983,154.983 ,154.982,154.981,154.979,154.978, 154.976,154.973,154.971,154.969,154.967 ,154.964,154.96,154.958,154.955,154.952 ,154.949,154.945,154.942,154.938, 154.933,154.927,154.923,154.919,154.911 ,154.902,154.893,154.89,154.889,155.472 ,155.869,156.428,156.443,156.454, 156.453,156.454,156.454,156.454,156.454 ,156.455,156.456,156.456,156.456, 156.457,156.458,156.458,156.459,156.46, 156.462,156.462,156.463,156.464,156.465 ,156.467,156.468,156.47,156.471,156.472 ,156.473,156.475,156.476,156.478, 156.479,156.482,156.484,156.485,156.489 ,156.49,156.492,156.495,156.497,156.499 ,156.502,156.503,156.505,156.507, 156.509,156.51,156.441)
ORBIT_NUMBER = 5316
ORBITAL_ECCENTRICITY = 0.571
ORBITAL_INCLINATION = 86.73
ORBITAL_SEMIMAJOR_AXIS = 8693.28
PERIAPSIS_ALTITUDE = 337.84
PERIAPSIS_ARGUMENT_ANGLE = 143.11
PERIAPSIS_TIME = 2008-02-21T14:53:21.000Z
SPACECRAFT_ORIENTATION = (0.0,-1.0,0.0)
^MEX_ORIENTATION_DESC = "MEX_ORIENTATION_DESC.TXT"
SPACECRAFT_POINTING_MODE = ACROSSTRACK
^MEX_POINTING_DESC = "MEX_POINTING_DESC.TXT"
RIGHT_ASCENSION = -1e+32
DECLINATION = -1e+32
OFFSET_ANGLE = 1.2
SPACECRAFT_SOLAR_DISTANCE = 2.4441e+08
TARGET_NAME = MARS
/* CAMERA DATA ELEMENTS */
DETECTOR_TEMPERATURE = 16.9432
FOCAL_PLANE_TEMPERATURE = 7.9716
INST_CMPRS_NAME = "DISCRETE COSINE TRANSFORMATION (DCT)"
INST_CMPRS_RATIO = 23.297
INST_CMPRS_QUALITY = 0
INST_CMPRS_QUANTZ_TBL_ID = 0
INSTRUMENT_TEMPERATURE = 11.0301
LENS_TEMPERATURE = 8.3794
MACROPIXEL_SIZE = 8
MISSING_FRAMES = 0
PIXEL_SUBSAMPLING_FLAG = N
SIGNAL_CHAIN_ID = 2
/* RADIOMETRIC DATA ELEMENTS */
BANDWIDTH = 48.0
CENTER_FILTER_WAVELENGTH = 748.0
RADIANCE_OFFSET = 1.6873
RADIANCE_SCALING_FACTOR = 0.00441124
REFLECTANCE_SCALING_FACTOR = 0.000601348
MEX:REFLECTANCE_OFFSET = 0.230016
/* IMAGE OBJECT DEFINITIONS */
OBJECT = IMAGE
  INTERCHANGE_FORMAT = BINARY
  LINES = 8653
  LINE_SAMPLES = 850
  SAMPLE_TYPE = UNSIGNED_INTEGER
  SAMPLE_BITS = 8
  BANDS = 1
  BAND_STORAGE_TYPE = BAND_SEQUENTIAL
  MAXIMUM = 255
  MEAN = 129.086
  MINIMUM = 1
  STANDARD_DEVIATION = 20.7753
END_OBJECT = IMAGE
/* MAP OBJECT DEFINITIONS */
OBJECT = IMAGE_MAP_PROJECTION
  ^DATA_SET_MAP_PROJECTION_CATALOG= "DSMAP.CAT"
  A_AXIS_RADIUS = 3396.0
  B_AXIS_RADIUS = 3396.0
  C_AXIS_RADIUS = 3396.0
  CENTER_LATITUDE = 0.0
  CENTER_LONGITUDE = 156.0
  COORDINATE_SYSTEM_NAME = PLANETOGRAPHIC
  COORDINATE_SYSTEM_TYPE = "BODY-FIXED ROTATING"
  EASTERNMOST_LONGITUDE = 156.51
  FIRST_STANDARD_PARALLEL = "N/A"
  LINE_FIRST_PIXEL = 1
  LINE_LAST_PIXEL = 8653
  LINE_PROJECTION_OFFSET = 20915.9375
  MAP_PROJECTION_ROTATION = 0.0
  MAP_PROJECTION_TYPE = SINUSOIDAL
  MAP_RESOLUTION = 592.713803866667
  MAP_SCALE = 0.1
  MAXIMUM_LATITUDE = 35.2914
  MINIMUM_LATITUDE = 20.6632
  POSITIVE_LONGITUDE_DIRECTION = EAST
  REFERENCE_LATITUDE = "N/A"
  REFERENCE_LONGITUDE = "N/A"
  SAMPLE_FIRST_PIXEL = 1
  SAMPLE_LAST_PIXEL = 850
  SAMPLE_PROJECTION_OFFSET = 610.0625
  SECOND_STANDARD_PARALLEL = "N/A"
  WESTERNMOST_LONGITUDE = 154.889
END_OBJECT = IMAGE_MAP_PROJECTION
END
