PDS_VERSION_ID = PDS3
/* FILE DATA ELEMENTS */
RECORD_TYPE = UNDEFINED
/* POINTERS TO DATA OBJECTS */
^IMAGE = ("H5315_0000_S24.TIF")
/* IDENTIFICATION DATA ELEMENTS */
DATA_SET_ID = "MEX-M-HRSC-4-REFDR-MAPPROJECT-EXT2-V4.0"
DATA_SET_NAME = "MARS EXPRESS HRSC MAP PROJECTED REFDR EXTENSION2 V4.0"
DETECTOR_ID = MEX_HRSC_S2
EVENT_TYPE = "MARS-LOCAL-STEREO-Vo-Te"
INSTRUMENT_HOST_ID = MEX
INSTRUMENT_HOST_NAME = "MARS EXPRESS"
INSTRUMENT_ID = HRSC
INSTRUMENT_NAME = "HIGH RESOLUTION STEREO CAMERA"
MISSION_NAME = "MARS EXPRESS"
MISSION_PHASE_NAME = ME_Phase_11
PROCESSING_LEVEL_ID = 4
PRODUCT_CREATION_TIME = 2023-02-02T05:41:08.000Z
PRODUCT_ID = "H5315_0000_S24.TIF"
RELEASE_ID = 0002
REVISION_ID = 0000
/* QUALITY DATA ELEMENTS */
DATA_QUALITY_ID = 1
DATA_QUALITY_DESC = "Data calculated based on original SPICE kernels"
/* TIME DATA ELEMENTS */
SPACECRAFT_CLOCK_START_COUNT = "1/0151660758.09070"
SPACECRAFT_CLOCK_STOP_COUNT = "1/0151660993.50263"
START_TIME = 2008-02-21T08:00:30.664Z
STOP_TIME = 2008-02-21T08:03:15.554Z
/* ORBITAL DATA ELEMENTS */
ASCENDING_NODE_LONGITUDE = 117.61
MAXIMUM_RESOLUTION = 0.0143
FOOTPRINT_POINT_LATITUDE = (47.6109,47.6234,47.6344,47.6446, 47.6448,47.7057,47.4873,47.2686,46.941, 46.7223,46.5036,46.2855,45.9584,45.739, 45.5206,45.3008,45.0822,44.8655,44.541, 44.3248,44.1087,43.8927,43.6767,43.3526 ,43.1365,42.8117,42.5952,42.3792, 42.1628,41.9464,41.6224,41.4062,41.0821 ,40.8661,40.5423,40.3271,40.1123, 39.8977,39.5767,39.2544,39.0393,38.826, 38.6125,38.2923,38.0793,37.8667,37.442, 37.2292,37.0167,36.9103,36.8971,36.8778 ,36.8579,36.8262,36.8256,36.8255, 37.1465,37.4682,37.7902,38.1107,38.3246 ,38.5389,38.7534,39.0748,39.2898, 39.6124,39.9349,40.1501,40.3659,40.5817 ,40.7976,41.0143,41.2308,41.448,41.6646 ,41.8815,42.2064,42.5309,42.7471, 42.9638,43.1799,43.3968,43.7213,43.9381 ,44.1553,44.3722,44.6978,44.9171, 45.1358,45.3578,45.5767,45.9062,46.1266 ,46.3459,46.6748,47.0019,47.2211,47.55, 47.6597,47.6109)
FOOTPRINT_POINT_LONGITUDE = (252.599,252.01,251.398,250.681,250.661 ,250.55,250.583,250.616,250.664,250.696 ,250.727,250.758,250.802,250.833, 250.862,250.893,250.922,250.947,250.984 ,251.008,251.031,251.054,251.076,251.11 ,251.132,251.166,251.188,251.209,251.23 ,251.251,251.282,251.302,251.332, 251.351,251.38,251.398,251.415,251.432, 251.455,251.48,251.497,251.511,251.525, 251.547,251.56,251.573,251.597,251.61, 251.622,251.629,251.63,252.1,252.539, 253.186,253.2,253.208,253.194,253.179, 253.164,253.151,253.141,253.131,253.121 ,253.106,253.096,253.08,253.065,253.054 ,253.043,253.031,253.02,253.008,252.996 ,252.983,252.971,252.959,252.94,252.921 ,252.909,252.896,252.883,252.87,252.85, 252.837,252.823,252.809,252.788,252.772 ,252.756,252.738,252.722,252.697,252.68 ,252.663,252.637,252.612,252.595, 252.568,252.559,252.599)
ORBIT_NUMBER = 5315
ORBITAL_ECCENTRICITY = 0.572
ORBITAL_INCLINATION = 86.73
ORBITAL_SEMIMAJOR_AXIS = 8704.08
PERIAPSIS_ALTITUDE = 336.65
PERIAPSIS_ARGUMENT_ANGLE = 143.25
PERIAPSIS_TIME = 2008-02-21T08:02:47.000Z
SPACECRAFT_ORIENTATION = (0.0,-1.0,0.0)
^MEX_ORIENTATION_DESC = "MEX_ORIENTATION_DESC.TXT"
SPACECRAFT_POINTING_MODE = ACROSSTRACK
^MEX_POINTING_DESC = "MEX_POINTING_DESC.TXT"
RIGHT_ASCENSION = -1e+32
DECLINATION = -1e+32
OFFSET_ANGLE = -1.4
SPACECRAFT_SOLAR_DISTANCE = 2.44377e+08
TARGET_NAME = MARS
/* CAMERA DATA ELEMENTS */
DETECTOR_TEMPERATURE = 18.5744
FOCAL_PLANE_TEMPERATURE = 8.1755
INST_CMPRS_NAME = "DISCRETE COSINE TRANSFORMATION (DCT)"
INST_CMPRS_RATIO = 7.86645
INST_CMPRS_QUALITY = 0
INST_CMPRS_QUANTZ_TBL_ID = 0
INSTRUMENT_TEMPERATURE = 10.4184
LENS_TEMPERATURE = 9.6028
MACROPIXEL_SIZE = 1
MISSING_FRAMES = 0
PIXEL_SUBSAMPLING_FLAG = N
SIGNAL_CHAIN_ID = 1
/* RADIOMETRIC DATA ELEMENTS */
BANDWIDTH = 178.0
CENTER_FILTER_WAVELENGTH = 679.0
RADIANCE_OFFSET = 2.91326
RADIANCE_SCALING_FACTOR = 0.0319888
REFLECTANCE_SCALING_FACTOR = 0.00101169
MEX:REFLECTANCE_OFFSET = 0.092136
/* IMAGE OBJECT DEFINITIONS */
OBJECT = IMAGE
  INTERCHANGE_FORMAT = BINARY
  LINES = 51530
  LINE_SAMPLES = 9155
  SAMPLE_TYPE = UNSIGNED_INTEGER
  SAMPLE_BITS = 8
  BANDS = 1
  BAND_STORAGE_TYPE = BAND_SEQUENTIAL
  MAXIMUM = 255
  MEAN = 176.708
  MINIMUM = 1
  STANDARD_DEVIATION = 15.8695
END_OBJECT = IMAGE
/* MAP OBJECT DEFINITIONS */
OBJECT = IMAGE_MAP_PROJECTION
  ^DATA_SET_MAP_PROJECTION_CATALOG= "DSMAP.CAT"
  A_AXIS_RADIUS = 3396.0
  B_AXIS_RADIUS = 3396.0
  C_AXIS_RADIUS = 3396.0
  CENTER_LATITUDE = 0.0
  CENTER_LONGITUDE = 252.0
  COORDINATE_SYSTEM_NAME = PLANETOGRAPHIC
  COORDINATE_SYSTEM_TYPE = "BODY-FIXED ROTATING"
  EASTERNMOST_LONGITUDE = 253.208
  FIRST_STANDARD_PARALLEL = "N/A"
  LINE_FIRST_PIXEL = 1
  LINE_LAST_PIXEL = 51530
  LINE_PROJECTION_OFFSET = 226356.0
  MAP_PROJECTION_ROTATION = 0.0
  MAP_PROJECTION_TYPE = SINUSOIDAL
  MAP_RESOLUTION = 4741.71043093333
  MAP_SCALE = 0.0125
  MAXIMUM_LATITUDE = 47.7057
  MINIMUM_LATITUDE = 36.8255
  POSITIVE_LONGITUDE_DIRECTION = EAST
  REFERENCE_LATITUDE = "N/A"
  REFERENCE_LONGITUDE = "N/A"
  SAMPLE_FIRST_PIXEL = 1
  SAMPLE_LAST_PIXEL = 9155
  SAMPLE_PROJECTION_OFFSET = 4582.0
  SECOND_STANDARD_PARALLEL = "N/A"
  WESTERNMOST_LONGITUDE = 250.55
END_OBJECT = IMAGE_MAP_PROJECTION
END
