PDS_VERSION_ID = PDS3
/* FILE DATA ELEMENTS */
RECORD_TYPE = UNDEFINED
/* POINTERS TO DATA OBJECTS */
^IMAGE = ("H5307_0000_RE4.TIF")
/* IDENTIFICATION DATA ELEMENTS */
DATA_SET_ID = "MEX-M-HRSC-4-REFDR-MAPPROJECT-EXT2-V4.0"
DATA_SET_NAME = "MARS EXPRESS HRSC MAP PROJECTED REFDR EXTENSION2 V4.0"
DETECTOR_ID = MEX_HRSC_RED
EVENT_TYPE = "MARS-REGIONAL-MAPPING-Fl-La-Tc"
INSTRUMENT_HOST_ID = MEX
INSTRUMENT_HOST_NAME = "MARS EXPRESS"
INSTRUMENT_ID = HRSC
INSTRUMENT_NAME = "HIGH RESOLUTION STEREO CAMERA"
MISSION_NAME = "MARS EXPRESS"
MISSION_PHASE_NAME = ME_Phase_11
PROCESSING_LEVEL_ID = 4
PRODUCT_CREATION_TIME = 2023-02-02T05:41:08.000Z
PRODUCT_ID = "H5307_0000_RE4.TIF"
RELEASE_ID = 0002
REVISION_ID = 0000
/* QUALITY DATA ELEMENTS */
DATA_QUALITY_ID = 1
DATA_QUALITY_DESC = "Data calculated based on original SPICE kernels"
/* TIME DATA ELEMENTS */
SPACECRAFT_CLOCK_START_COUNT = "1/0151463986.09080"
SPACECRAFT_CLOCK_STOP_COUNT = "1/0151464168.01530"
START_TIME = 2008-02-19T01:20:46.870Z
STOP_TIME = 2008-02-19T01:22:43.326Z
/* ORBITAL DATA ELEMENTS */
ASCENDING_NODE_LONGITUDE = 117.77
MAXIMUM_RESOLUTION = 0.0596
FOOTPRINT_POINT_LATITUDE = (27.8998,27.8926,27.888,27.8834,27.8787 ,27.8739,27.8689,27.8686,27.9133, 27.7092,27.5734,27.4375,27.3017,27.1661 ,26.9626,26.7595,26.6241,26.4212,26.286 ,26.1511,26.0161,25.8138,25.6789, 25.5443,25.2752,25.0738,24.8052,24.6041 ,24.2692,24.0021,23.8551,23.6958,23.457 ,23.298,23.1394,22.9807,22.7428,22.5842 ,22.4261,22.1895,21.9525,21.716,21.5582 ,21.4012,21.2443,21.0873,20.9304, 20.7735,20.6949,20.6467,20.6502,20.6535 ,20.6567,20.6587,20.6654,20.6706, 20.6701,20.6688,20.6698,20.827,21.0628, 21.2986,21.5352,21.6936,21.8511,22.0086 ,22.2435,22.482,22.6405,22.8793,23.1178 ,23.2768,23.5151,23.6748,23.8344, 23.9896,24.1903,24.458,24.6588,24.7933, 24.9279,25.1964,25.4654,25.7347,25.8701 ,26.0051,26.14,26.2752,26.4102,26.6135, 26.8169,26.9525,27.088,27.2917,27.4276, 27.5636,27.6998,27.8358,27.904,27.8998)
FOOTPRINT_POINT_LONGITUDE = (336.11,335.77,335.562,335.356,335.151, 334.946,334.742,334.73,334.72,334.721, 334.721,334.722,334.722,334.723,334.723 ,334.724,334.724,334.724,334.725, 334.725,334.725,334.725,334.725,334.725 ,334.724,334.724,334.724,334.723, 334.722,334.721,334.721,334.72,334.719, 334.718,334.717,334.716,334.715,334.714 ,334.713,334.711,334.709,334.708, 334.706,334.705,334.703,334.702,334.7, 334.699,334.698,334.698,334.902,335.162 ,335.368,335.52,335.744,335.982,336.162 ,336.175,336.18,336.179,336.178,336.177 ,336.176,336.176,336.175,336.173, 336.171,336.17,336.169,336.169,336.168, 336.167,336.165,336.165,336.164,336.163 ,336.162,336.16,336.159,336.159,336.158 ,336.156,336.155,336.153,336.152, 336.152,336.151,336.15,336.149,336.148, 336.147,336.146,336.145,336.144,336.143 ,336.143,336.142,336.141,336.141, 336.11)
ORBIT_NUMBER = 5307
ORBITAL_ECCENTRICITY = 0.571
ORBITAL_INCLINATION = 86.74
ORBITAL_SEMIMAJOR_AXIS = 8693.64
PERIAPSIS_ALTITUDE = 336.42
PERIAPSIS_ARGUMENT_ANGLE = 144.67
PERIAPSIS_TIME = 2008-02-19T01:18:27.000Z
SPACECRAFT_ORIENTATION = (0.0,-1.0,0.0)
^MEX_ORIENTATION_DESC = "MEX_ORIENTATION_DESC.TXT"
SPACECRAFT_POINTING_MODE = ACROSSTRACK
^MEX_POINTING_DESC = "MEX_POINTING_DESC.TXT"
RIGHT_ASCENSION = -1e+32
DECLINATION = -1e+32
OFFSET_ANGLE = 0.4
SPACECRAFT_SOLAR_DISTANCE = 2.44111e+08
TARGET_NAME = MARS
/* CAMERA DATA ELEMENTS */
DETECTOR_TEMPERATURE = 18.5744
FOCAL_PLANE_TEMPERATURE = 8.3794
INST_CMPRS_NAME = "DISCRETE COSINE TRANSFORMATION (DCT)"
INST_CMPRS_RATIO = 9.17858
INST_CMPRS_QUALITY = 0
INST_CMPRS_QUANTZ_TBL_ID = 0
INSTRUMENT_TEMPERATURE = 11.234
LENS_TEMPERATURE = 8.9911
MACROPIXEL_SIZE = 4
MISSING_FRAMES = 0
PIXEL_SUBSAMPLING_FLAG = N
SIGNAL_CHAIN_ID = 2
/* RADIOMETRIC DATA ELEMENTS */
BANDWIDTH = 48.0
CENTER_FILTER_WAVELENGTH = 748.0
RADIANCE_OFFSET = 0.907872
RADIANCE_SCALING_FACTOR = 0.00451393
REFLECTANCE_SCALING_FACTOR = 0.000613841
MEX:REFLECTANCE_OFFSET = 0.12346
/* IMAGE OBJECT DEFINITIONS */
OBJECT = IMAGE
  INTERCHANGE_FORMAT = BINARY
  LINES = 8620
  LINE_SAMPLES = 1591
  SAMPLE_TYPE = UNSIGNED_INTEGER
  SAMPLE_BITS = 8
  BANDS = 1
  BAND_STORAGE_TYPE = BAND_SEQUENTIAL
  MAXIMUM = 255
  MEAN = 110.381
  MINIMUM = 1
  STANDARD_DEVIATION = 35.0517
END_OBJECT = IMAGE
/* MAP OBJECT DEFINITIONS */
OBJECT = IMAGE_MAP_PROJECTION
  ^DATA_SET_MAP_PROJECTION_CATALOG= "DSMAP.CAT"
  A_AXIS_RADIUS = 3396.0
  B_AXIS_RADIUS = 3396.0
  C_AXIS_RADIUS = 3396.0
  CENTER_LATITUDE = 0.0
  CENTER_LONGITUDE = 335.0
  COORDINATE_SYSTEM_NAME = PLANETOGRAPHIC
  COORDINATE_SYSTEM_TYPE = "BODY-FIXED ROTATING"
  EASTERNMOST_LONGITUDE = 336.18
  FIRST_STANDARD_PARALLEL = "N/A"
  LINE_FIRST_PIXEL = 1
  LINE_LAST_PIXEL = 8620
  LINE_PROJECTION_OFFSET = 33082.875
  MAP_PROJECTION_ROTATION = 0.0
  MAP_PROJECTION_TYPE = SINUSOIDAL
  MAP_RESOLUTION = 1185.42760773333
  MAP_SCALE = 0.05
  MAXIMUM_LATITUDE = 27.9133
  MINIMUM_LATITUDE = 20.6467
  POSITIVE_LONGITUDE_DIRECTION = EAST
  REFERENCE_LATITUDE = "N/A"
  REFERENCE_LONGITUDE = "N/A"
  SAMPLE_FIRST_PIXEL = 1
  SAMPLE_LAST_PIXEL = 1591
  SAMPLE_PROJECTION_OFFSET = 311.125
  SECOND_STANDARD_PARALLEL = "N/A"
  WESTERNMOST_LONGITUDE = 334.698
END_OBJECT = IMAGE_MAP_PROJECTION
END
