PDS_VERSION_ID = PDS3
/* FILE DATA ELEMENTS */
RECORD_TYPE = UNDEFINED
/* POINTERS TO DATA OBJECTS */
^IMAGE = ("H5306_0000_ND4.TIF")
/* IDENTIFICATION DATA ELEMENTS */
DATA_SET_ID = "MEX-M-HRSC-4-REFDR-MAPPROJECT-EXT2-V4.0"
DATA_SET_NAME = "MARS EXPRESS HRSC MAP PROJECTED REFDR EXTENSION2 V4.0"
DETECTOR_ID = MEX_HRSC_NADIR
EVENT_TYPE = "MARS-LOCAL-STEREO-Eb-Tc-Ot"
INSTRUMENT_HOST_ID = MEX
INSTRUMENT_HOST_NAME = "MARS EXPRESS"
INSTRUMENT_ID = HRSC
INSTRUMENT_NAME = "HIGH RESOLUTION STEREO CAMERA"
MISSION_NAME = "MARS EXPRESS"
MISSION_PHASE_NAME = ME_Phase_11
PROCESSING_LEVEL_ID = 4
PRODUCT_CREATION_TIME = 2023-02-02T05:41:08.000Z
PRODUCT_ID = "H5306_0000_ND4.TIF"
RELEASE_ID = 0002
REVISION_ID = 0000
/* QUALITY DATA ELEMENTS */
DATA_QUALITY_ID = 1
DATA_QUALITY_DESC = "Data calculated based on original SPICE kernels"
/* TIME DATA ELEMENTS */
SPACECRAFT_CLOCK_START_COUNT = "1/0151439104.08267"
SPACECRAFT_CLOCK_STOP_COUNT = "1/0151439533.01568"
START_TIME = 2008-02-18T18:25:40.789Z
STOP_TIME = 2008-02-18T18:32:24.794Z
/* ORBITAL DATA ELEMENTS */
ASCENDING_NODE_LONGITUDE = 117.79
MAXIMUM_RESOLUTION = 0.0135
FOOTPRINT_POINT_LATITUDE = (44.0105,43.9687,43.9681,43.9681, 43.4537,42.9387,42.4233,41.9073,41.3909 ,40.8741,40.357,39.8394,39.3215,38.8034 ,38.2916,37.2876,36.2829,35.7805,35.278 ,34.7754,33.7703,32.7655,31.7611, 31.0082,29.9989,29.481,28.9635,28.4464, 27.9293,27.413,26.8974,26.3819,25.8668, 25.3525,24.8387,24.3256,23.8131,23.3011 ,22.79,22.2796,21.7697,21.1972,20.591, 19.9858,19.382,18.7794,18.1782,17.8781, 17.8597,17.8602,17.8583,17.8582,17.8584 ,18.4597,19.0623,19.6663,20.2716, 20.8782,21.7579,22.2683,22.7795,23.2913 ,23.8037,24.317,24.8307,25.3453,25.8603 ,26.3758,26.8918,27.6671,28.1845, 28.7022,29.2203,29.7386,30.2558,31.0094 ,32.0148,32.5177,33.2727,33.7759, 34.2793,34.7828,35.2862,36.0414,36.7965 ,37.2998,37.8029,38.3059,39.0781, 39.5973,40.1162,40.6349,41.1532,41.6712 ,42.1888,42.706,43.2227,43.7389,43.9968 ,44.0105)
FOOTPRINT_POINT_LONGITUDE = (75.2904,73.6378,73.6212,73.577,73.6143 ,73.6507,73.685,73.7184,73.751,73.7812, 73.81,73.838,73.8651,73.8908,73.9149, 73.9599,74.0008,74.0199,74.0377,74.0546 ,74.0862,74.1142,74.1386,74.1561, 74.1744,74.1858,74.1945,74.2007,74.2151 ,74.2206,74.2209,74.2268,74.2351, 74.2372,74.2415,74.2422,74.2423,74.2442 ,74.2431,74.2408,74.2432,74.2399, 74.2367,74.2348,74.231,74.226,74.2201, 74.2169,74.2167,74.9871,75.6414,75.6556 ,75.6626,75.6568,75.6519,75.6464, 75.6427,75.6397,75.6289,75.6247,75.6217 ,75.616,75.6101,75.6063,75.6002,75.5969 ,75.5914,75.5868,75.5806,75.5752, 75.5714,75.567,75.5613,75.5554,75.5499, 75.5412,75.5288,75.5214,75.5132,75.5059 ,75.4982,75.4919,75.4842,75.4729,75.461 ,75.453,75.4441,75.4363,75.4223,75.4127 ,75.4024,75.3921,75.3813,75.3704, 75.3592,75.348,75.3359,75.3234,75.3169, 75.2904)
ORBIT_NUMBER = 5306
ORBITAL_ECCENTRICITY = 0.572
ORBITAL_INCLINATION = 86.74
ORBITAL_SEMIMAJOR_AXIS = 8702.65
PERIAPSIS_ALTITUDE = 335.49
PERIAPSIS_ARGUMENT_ANGLE = 144.85
PERIAPSIS_TIME = 2008-02-18T18:27:57.000Z
SPACECRAFT_ORIENTATION = (0.0,-1.0,0.0)
^MEX_ORIENTATION_DESC = "MEX_ORIENTATION_DESC.TXT"
SPACECRAFT_POINTING_MODE = ACROSSTRACK
^MEX_POINTING_DESC = "MEX_POINTING_DESC.TXT"
RIGHT_ASCENSION = -1e+32
DECLINATION = -1e+32
OFFSET_ANGLE = -0.1
SPACECRAFT_SOLAR_DISTANCE = 2.44077e+08
TARGET_NAME = MARS
/* CAMERA DATA ELEMENTS */
DETECTOR_TEMPERATURE = 18.3705
FOCAL_PLANE_TEMPERATURE = 8.3794
INST_CMPRS_NAME = "DISCRETE COSINE TRANSFORMATION (DCT)"
INST_CMPRS_RATIO = 6.82659
INST_CMPRS_QUALITY = 0
INST_CMPRS_QUANTZ_TBL_ID = 0
INSTRUMENT_TEMPERATURE = 11.234
LENS_TEMPERATURE = 8.7872
MACROPIXEL_SIZE = 1
MISSING_FRAMES = 0
PIXEL_SUBSAMPLING_FLAG = N
SIGNAL_CHAIN_ID = 0
/* RADIOMETRIC DATA ELEMENTS */
BANDWIDTH = 177.0
CENTER_FILTER_WAVELENGTH = 677.5
RADIANCE_OFFSET = 2.6987
RADIANCE_SCALING_FACTOR = 0.0246173
REFLECTANCE_SCALING_FACTOR = 0.000779073
MEX:REFLECTANCE_OFFSET = 0.0854068
/* IMAGE OBJECT DEFINITIONS */
OBJECT = IMAGE
  INTERCHANGE_FORMAT = BINARY
  LINES = 124015
  LINE_SAMPLES = 7852
  SAMPLE_TYPE = UNSIGNED_INTEGER
  SAMPLE_BITS = 8
  BANDS = 1
  BAND_STORAGE_TYPE = BAND_SEQUENTIAL
  MAXIMUM = 255
  MEAN = 138.085
  MINIMUM = 1
  STANDARD_DEVIATION = 41.1946
END_OBJECT = IMAGE
/* MAP OBJECT DEFINITIONS */
OBJECT = IMAGE_MAP_PROJECTION
  ^DATA_SET_MAP_PROJECTION_CATALOG= "DSMAP.CAT"
  A_AXIS_RADIUS = 3396.0
  B_AXIS_RADIUS = 3396.0
  C_AXIS_RADIUS = 3396.0
  CENTER_LATITUDE = 0.0
  CENTER_LONGITUDE = 75.0
  COORDINATE_SYSTEM_NAME = PLANETOGRAPHIC
  COORDINATE_SYSTEM_TYPE = "BODY-FIXED ROTATING"
  EASTERNMOST_LONGITUDE = 75.6626
  FIRST_STANDARD_PARALLEL = "N/A"
  LINE_FIRST_PIXEL = 1
  LINE_LAST_PIXEL = 124015
  LINE_PROJECTION_OFFSET = 208703.0
  MAP_PROJECTION_ROTATION = 0.0
  MAP_PROJECTION_TYPE = SINUSOIDAL
  MAP_RESOLUTION = 4741.71043093333
  MAP_SCALE = 0.0125
  MAXIMUM_LATITUDE = 44.0105
  MINIMUM_LATITUDE = 17.8582
  POSITIVE_LONGITUDE_DIRECTION = EAST
  REFERENCE_LATITUDE = "N/A"
  REFERENCE_LONGITUDE = "N/A"
  SAMPLE_FIRST_PIXEL = 1
  SAMPLE_LAST_PIXEL = 7852
  SAMPLE_PROJECTION_OFFSET = 4857.0
  SECOND_STANDARD_PARALLEL = "N/A"
  WESTERNMOST_LONGITUDE = 73.577
END_OBJECT = IMAGE_MAP_PROJECTION
END
