PDS_VERSION_ID = PDS3
/* FILE DATA ELEMENTS */
RECORD_TYPE = UNDEFINED
/* POINTERS TO DATA OBJECTS */
^IMAGE = ("H5305_0009_P24.TIF")
/* IDENTIFICATION DATA ELEMENTS */
DATA_SET_ID = "MEX-M-HRSC-4-REFDR-MAPPROJECT-EXT2-V4.0"
DATA_SET_NAME = "MARS EXPRESS HRSC MAP PROJECTED REFDR EXTENSION2 V4.0"
DETECTOR_ID = MEX_HRSC_P2
EVENT_TYPE = "MARS-REGIONAL-MAPPING-Te-Im-Pf"
INSTRUMENT_HOST_ID = MEX
INSTRUMENT_HOST_NAME = "MARS EXPRESS"
INSTRUMENT_ID = HRSC
INSTRUMENT_NAME = "HIGH RESOLUTION STEREO CAMERA"
MISSION_NAME = "MARS EXPRESS"
MISSION_PHASE_NAME = ME_Phase_11
PROCESSING_LEVEL_ID = 4
PRODUCT_CREATION_TIME = 2023-02-02T05:41:08.000Z
PRODUCT_ID = "H5305_0009_P24.TIF"
RELEASE_ID = 0002
REVISION_ID = 0000
/* QUALITY DATA ELEMENTS */
DATA_QUALITY_ID = 1
DATA_QUALITY_DESC = "Data calculated based on original SPICE kernels"
/* TIME DATA ELEMENTS */
SPACECRAFT_CLOCK_START_COUNT = "1/0151414486.09048"
SPACECRAFT_CLOCK_STOP_COUNT = "1/0151414719.17148"
START_TIME = 2008-02-18T11:35:43.331Z
STOP_TIME = 2008-02-18T11:38:30.668Z
/* ORBITAL DATA ELEMENTS */
ASCENDING_NODE_LONGITUDE = 117.81
MAXIMUM_RESOLUTION = 0.0281
FOOTPRINT_POINT_LATITUDE = (43.0039,42.9951,42.9801,42.9684, 42.9679,43.0229,42.6877,42.3519,42.0163 ,41.6809,41.3455,41.0103,40.6749, 40.4512,40.1162,39.8929,39.6692,39.4458 ,39.2225,39.0041,38.7881,38.4641, 38.2481,38.0323,37.7086,37.4928,37.2771 ,36.9537,36.7381,36.4149,36.1995, 35.9841,35.769,35.5538,35.3387,35.1236, 34.9087,34.5864,34.371,34.157,33.9422, 33.7277,33.5133,33.2992,32.978,32.657, 32.4432,32.2295,32.1226,32.1034,32.1089 ,32.114,32.1173,32.1192,32.1193,32.1198 ,32.3338,32.5481,32.7623,32.9768, 33.2987,33.5132,33.728,33.9427,34.2649, 34.5875,34.9104,35.1255,35.3411,35.5565 ,35.772,36.0956,36.3112,36.5272,36.851, 37.0669,37.283,37.499,37.7152,37.9313, 38.1481,38.4724,38.6889,39.0136,39.2317 ,39.5675,39.9034,40.1272,40.4631, 40.6875,40.9115,41.2477,41.4718,41.8079 ,42.1445,42.3686,42.5927,42.9291, 43.0411,43.0039)
FOOTPRINT_POINT_LONGITUDE = (175.504,175.032,174.355,173.898, 173.882,173.84,173.861,173.882,173.903, 173.923,173.942,173.961,173.979,173.991 ,174.008,174.019,174.031,174.041, 174.052,174.062,174.072,174.087,174.096 ,174.105,174.119,174.128,174.136, 174.149,174.157,174.169,174.176,174.184 ,174.191,174.198,174.205,174.212, 174.219,174.229,174.236,174.241,174.248 ,174.253,174.259,174.265,174.273,174.28 ,174.285,174.29,174.293,174.293,174.679 ,175.12,175.451,175.699,175.713,175.718 ,175.716,175.713,175.71,175.708,175.704 ,175.701,175.698,175.695,175.691, 175.687,175.682,175.679,175.676,175.673 ,175.67,175.665,175.662,175.659,175.654 ,175.65,175.647,175.643,175.64,175.636, 175.633,175.627,175.623,175.618,175.614 ,175.608,175.602,175.597,175.591, 175.587,175.583,175.576,175.571,175.564 ,175.557,175.553,175.548,175.54,175.538 ,175.504)
ORBIT_NUMBER = 5305
ORBITAL_ECCENTRICITY = 0.571
ORBITAL_INCLINATION = 86.74
ORBITAL_SEMIMAJOR_AXIS = 8693.22
PERIAPSIS_ALTITUDE = 336.42
PERIAPSIS_ARGUMENT_ANGLE = 145.04
PERIAPSIS_TIME = 2008-02-18T11:37:27.000Z
SPACECRAFT_ORIENTATION = (0.0,-1.0,0.0)
^MEX_ORIENTATION_DESC = "MEX_ORIENTATION_DESC.TXT"
SPACECRAFT_POINTING_MODE = NADIR
^MEX_POINTING_DESC = "MEX_POINTING_DESC.TXT"
RIGHT_ASCENSION = -1e+32
DECLINATION = -1e+32
OFFSET_ANGLE = -1e+32
SPACECRAFT_SOLAR_DISTANCE = 2.44043e+08
TARGET_NAME = MARS
/* CAMERA DATA ELEMENTS */
DETECTOR_TEMPERATURE = 19.1861
FOCAL_PLANE_TEMPERATURE = 8.5833
INST_CMPRS_NAME = "DISCRETE COSINE TRANSFORMATION (DCT)"
INST_CMPRS_RATIO = 7.49944
INST_CMPRS_QUALITY = 0
INST_CMPRS_QUANTZ_TBL_ID = 0
INSTRUMENT_TEMPERATURE = 12.0496
LENS_TEMPERATURE = 9.195
MACROPIXEL_SIZE = 2
MISSING_FRAMES = 0
PIXEL_SUBSAMPLING_FLAG = N
SIGNAL_CHAIN_ID = 3
/* RADIOMETRIC DATA ELEMENTS */
BANDWIDTH = 177.0
CENTER_FILTER_WAVELENGTH = 676.5
RADIANCE_OFFSET = 5.28154
RADIANCE_SCALING_FACTOR = 0.0151442
REFLECTANCE_SCALING_FACTOR = 0.000478229
MEX:REFLECTANCE_OFFSET = 0.166782
/* IMAGE OBJECT DEFINITIONS */
OBJECT = IMAGE
  INTERCHANGE_FORMAT = BINARY
  LINES = 25984
  LINE_SAMPLES = 3451
  SAMPLE_TYPE = UNSIGNED_INTEGER
  SAMPLE_BITS = 8
  BANDS = 1
  BAND_STORAGE_TYPE = BAND_SEQUENTIAL
  MAXIMUM = 255
  MEAN = 100.726
  MINIMUM = 1
  STANDARD_DEVIATION = 15.1685
END_OBJECT = IMAGE
/* MAP OBJECT DEFINITIONS */
OBJECT = IMAGE_MAP_PROJECTION
  ^DATA_SET_MAP_PROJECTION_CATALOG= "DSMAP.CAT"
  A_AXIS_RADIUS = 3396.0
  B_AXIS_RADIUS = 3396.0
  C_AXIS_RADIUS = 3396.0
  CENTER_LATITUDE = 0.0
  CENTER_LONGITUDE = 175.0
  COORDINATE_SYSTEM_NAME = PLANETOGRAPHIC
  COORDINATE_SYSTEM_TYPE = "BODY-FIXED ROTATING"
  EASTERNMOST_LONGITUDE = 175.718
  FIRST_STANDARD_PARALLEL = "N/A"
  LINE_FIRST_PIXEL = 1
  LINE_LAST_PIXEL = 25984
  LINE_PROJECTION_OFFSET = 102070.25
  MAP_PROJECTION_ROTATION = 0.0
  MAP_PROJECTION_TYPE = SINUSOIDAL
  MAP_RESOLUTION = 2370.85521546667
  MAP_SCALE = 0.025
  MAXIMUM_LATITUDE = 43.0411
  MINIMUM_LATITUDE = 32.1034
  POSITIVE_LONGITUDE_DIRECTION = EAST
  REFERENCE_LATITUDE = "N/A"
  REFERENCE_LONGITUDE = "N/A"
  SAMPLE_FIRST_PIXEL = 1
  SAMPLE_LAST_PIXEL = 3451
  SAMPLE_PROJECTION_OFFSET = 2022.25
  SECOND_STANDARD_PARALLEL = "N/A"
  WESTERNMOST_LONGITUDE = 173.84
END_OBJECT = IMAGE_MAP_PROJECTION
END
