PDS_VERSION_ID = PDS3
/* FILE DATA ELEMENTS */
RECORD_TYPE = UNDEFINED
/* POINTERS TO DATA OBJECTS */
^IMAGE = ("H5302_0000_S24.TIF")
/* IDENTIFICATION DATA ELEMENTS */
DATA_SET_ID = "MEX-M-HRSC-4-REFDR-MAPPROJECT-EXT2-V4.0"
DATA_SET_NAME = "MARS EXPRESS HRSC MAP PROJECTED REFDR EXTENSION2 V4.0"
DETECTOR_ID = MEX_HRSC_S2
EVENT_TYPE = "MARS-REGIONAL-MAPPING-Te-Pf-Mw"
INSTRUMENT_HOST_ID = MEX
INSTRUMENT_HOST_NAME = "MARS EXPRESS"
INSTRUMENT_ID = HRSC
INSTRUMENT_NAME = "HIGH RESOLUTION STEREO CAMERA"
MISSION_NAME = "MARS EXPRESS"
MISSION_PHASE_NAME = ME_Phase_11
PROCESSING_LEVEL_ID = 4
PRODUCT_CREATION_TIME = 2023-02-02T05:41:08.000Z
PRODUCT_ID = "H5302_0000_S24.TIF"
RELEASE_ID = 0002
REVISION_ID = 0000
/* QUALITY DATA ELEMENTS */
DATA_QUALITY_ID = 1
DATA_QUALITY_DESC = "Data calculated based on original SPICE kernels"
/* TIME DATA ELEMENTS */
SPACECRAFT_CLOCK_START_COUNT = "1/0151340398.09056"
SPACECRAFT_CLOCK_STOP_COUNT = "1/0151340683.40110"
START_TIME = 2008-02-17T15:01:21.440Z
STOP_TIME = 2008-02-17T15:04:45.423Z
/* ORBITAL DATA ELEMENTS */
ASCENDING_NODE_LONGITUDE = 117.87
MAXIMUM_RESOLUTION = 0.0294
FOOTPRINT_POINT_LATITUDE = (53.8364,53.8173,53.8034,53.7788, 53.7627,53.7619,53.8663,53.5678,53.2693 ,52.9705,52.5219,52.0735,51.6233, 51.3245,51.0256,50.7261,50.4262,49.9766 ,49.6764,49.3766,49.0764,48.7763, 48.3724,48.1208,47.8694,47.4921,47.2404 ,46.9889,46.7371,46.3594,45.9823, 45.7305,45.4787,45.1011,44.8493,44.5977 ,44.2206,43.8433,43.5916,43.3405, 43.0889,42.8376,42.586,42.3348,41.9585, 41.5823,40.9551,40.5791,40.4537,40.4164 ,40.4268,40.439,40.4459,40.4462,40.4467 ,40.8237,41.2005,41.5777,41.8289, 42.3319,42.7129,42.9699,43.3398,43.5923 ,43.8444,44.0967,44.349,44.7276,44.98, 45.2319,45.4845,45.7369,45.9894,46.242, 46.4946,46.8731,47.1258,47.3785,47.631, 47.8834,48.1359,48.3879,48.6409,48.937, 49.2376,49.5397,49.841,50.1423,50.594, 50.8952,51.3466,51.6476,51.9484,52.2489 ,52.6996,53.0001,53.3003,53.7506, 53.9007,53.8364)
FOOTPRINT_POINT_LONGITUDE = (115.342,114.643,114.192,113.473, 113.045,113.022,112.948,112.993,113.036 ,113.079,113.141,113.201,113.259, 113.297,113.333,113.369,113.404,113.455 ,113.489,113.521,113.553,113.584, 113.625,113.649,113.673,113.709,113.732 ,113.755,113.777,113.81,113.841,113.862 ,113.882,113.911,113.931,113.95,113.977 ,114.004,114.021,114.038,114.055, 114.071,114.087,114.103,114.126,114.148 ,114.183,114.203,114.21,114.212,114.707 ,115.357,115.79,115.805,115.811,115.804 ,115.796,115.788,115.783,115.772, 115.764,115.761,115.749,115.743,115.737 ,115.731,115.725,115.715,115.709, 115.702,115.696,115.689,115.682,115.675 ,115.668,115.657,115.649,115.642, 115.634,115.626,115.618,115.61,115.602, 115.592,115.581,115.571,115.56,115.549, 115.533,115.521,115.503,115.491,115.479 ,115.466,115.446,115.433,115.419, 115.398,115.391,115.342)
ORBIT_NUMBER = 5302
ORBITAL_ECCENTRICITY = 0.572
ORBITAL_INCLINATION = 86.73
ORBITAL_SEMIMAJOR_AXIS = 8704.23
PERIAPSIS_ALTITUDE = 335.39
PERIAPSIS_ARGUMENT_ANGLE = 145.56
PERIAPSIS_TIME = 2008-02-17T15:05:47.000Z
SPACECRAFT_ORIENTATION = (0.0,-1.0,0.0)
^MEX_ORIENTATION_DESC = "MEX_ORIENTATION_DESC.TXT"
SPACECRAFT_POINTING_MODE = NADIR
^MEX_POINTING_DESC = "MEX_POINTING_DESC.TXT"
RIGHT_ASCENSION = -1e+32
DECLINATION = -1e+32
OFFSET_ANGLE = -1e+32
SPACECRAFT_SOLAR_DISTANCE = 2.43941e+08
TARGET_NAME = MARS
/* CAMERA DATA ELEMENTS */
DETECTOR_TEMPERATURE = 18.3705
FOCAL_PLANE_TEMPERATURE = 7.9716
INST_CMPRS_NAME = "DISCRETE COSINE TRANSFORMATION (DCT)"
INST_CMPRS_RATIO = 12.8106
INST_CMPRS_QUALITY = 0
INST_CMPRS_QUANTZ_TBL_ID = 0
INSTRUMENT_TEMPERATURE = 11.0301
LENS_TEMPERATURE = 8.5833
MACROPIXEL_SIZE = 2
MISSING_FRAMES = 0
PIXEL_SUBSAMPLING_FLAG = N
SIGNAL_CHAIN_ID = 1
/* RADIOMETRIC DATA ELEMENTS */
BANDWIDTH = 178.0
CENTER_FILTER_WAVELENGTH = 679.0
RADIANCE_OFFSET = 4.03143
RADIANCE_SCALING_FACTOR = 0.0176163
REFLECTANCE_SCALING_FACTOR = 0.000555155
MEX:REFLECTANCE_OFFSET = 0.127045
/* IMAGE OBJECT DEFINITIONS */
OBJECT = IMAGE
  INTERCHANGE_FORMAT = BINARY
  LINES = 32096
  LINE_SAMPLES = 4403
  SAMPLE_TYPE = UNSIGNED_INTEGER
  SAMPLE_BITS = 8
  BANDS = 1
  BAND_STORAGE_TYPE = BAND_SEQUENTIAL
  MAXIMUM = 255
  MEAN = 95.4725
  MINIMUM = 1
  STANDARD_DEVIATION = 62.7512
END_OBJECT = IMAGE
/* MAP OBJECT DEFINITIONS */
OBJECT = IMAGE_MAP_PROJECTION
  ^DATA_SET_MAP_PROJECTION_CATALOG= "DSMAP.CAT"
  A_AXIS_RADIUS = 3396.0
  B_AXIS_RADIUS = 3396.0
  C_AXIS_RADIUS = 3396.0
  CENTER_LATITUDE = 0.0
  CENTER_LONGITUDE = 115.0
  COORDINATE_SYSTEM_NAME = PLANETOGRAPHIC
  COORDINATE_SYSTEM_TYPE = "BODY-FIXED ROTATING"
  EASTERNMOST_LONGITUDE = 115.811
  FIRST_STANDARD_PARALLEL = "N/A"
  LINE_FIRST_PIXEL = 1
  LINE_LAST_PIXEL = 32096
  LINE_PROJECTION_OFFSET = 127870.25
  MAP_PROJECTION_ROTATION = 0.0
  MAP_PROJECTION_TYPE = SINUSOIDAL
  MAP_RESOLUTION = 2370.85521546667
  MAP_SCALE = 0.025
  MAXIMUM_LATITUDE = 53.9007
  MINIMUM_LATITUDE = 40.4164
  POSITIVE_LONGITUDE_DIRECTION = EAST
  REFERENCE_LATITUDE = "N/A"
  REFERENCE_LONGITUDE = "N/A"
  SAMPLE_FIRST_PIXEL = 1
  SAMPLE_LAST_PIXEL = 4403
  SAMPLE_PROJECTION_OFFSET = 2933.75
  SECOND_STANDARD_PARALLEL = "N/A"
  WESTERNMOST_LONGITUDE = 112.948
END_OBJECT = IMAGE_MAP_PROJECTION
END
