PDS_VERSION_ID = PDS3
/* FILE DATA ELEMENTS */
RECORD_TYPE = UNDEFINED
/* POINTERS TO DATA OBJECTS */
^IMAGE = ("H5300_0000_BL4.TIF")
/* IDENTIFICATION DATA ELEMENTS */
DATA_SET_ID = "MEX-M-HRSC-4-REFDR-MAPPROJECT-EXT2-V4.0"
DATA_SET_NAME = "MARS EXPRESS HRSC MAP PROJECTED REFDR EXTENSION2 V4.0"
DETECTOR_ID = MEX_HRSC_BLUE
EVENT_TYPE = "MARS-REGIONAL-MAPPING-Fl-Gl-Pf"
INSTRUMENT_HOST_ID = MEX
INSTRUMENT_HOST_NAME = "MARS EXPRESS"
INSTRUMENT_ID = HRSC
INSTRUMENT_NAME = "HIGH RESOLUTION STEREO CAMERA"
MISSION_NAME = "MARS EXPRESS"
MISSION_PHASE_NAME = ME_Phase_11
PROCESSING_LEVEL_ID = 4
PRODUCT_CREATION_TIME = 2023-02-01T12:09:47.000Z
PRODUCT_ID = "H5300_0000_BL4.TIF"
RELEASE_ID = 0001
REVISION_ID = 0000
/* QUALITY DATA ELEMENTS */
DATA_QUALITY_ID = 1
DATA_QUALITY_DESC = "Data calculated based on original SPICE kernels"
/* TIME DATA ELEMENTS */
SPACECRAFT_CLOCK_START_COUNT = "1/0151291565.07291"
SPACECRAFT_CLOCK_STOP_COUNT = "1/0151291865.04986"
START_TIME = 2008-02-17T01:26:44.723Z
STOP_TIME = 2008-02-17T01:30:30.483Z
/* ORBITAL DATA ELEMENTS */
ASCENDING_NODE_LONGITUDE = 117.91
MAXIMUM_RESOLUTION = 0.0561
FOOTPRINT_POINT_LATITUDE = (26.4902,26.4888,26.4858,26.4818, 26.4817,26.4902,26.1087,25.8545,25.6014 ,25.3466,25.0931,24.8395,24.5862,24.333 ,24.08,23.5744,23.0696,22.5656,22.0623, 21.5599,21.0583,20.6282,20.3296,20.0314 ,19.7337,19.4363,19.139,18.8422,18.5457 ,18.2496,17.9538,17.6584,17.3633, 16.9708,16.6765,16.3826,16.0892,15.7962 ,15.5036,15.2116,14.7675,14.4685, 14.1699,13.8718,13.4151,13.1103,12.806, 12.4968,12.3411,12.2556,12.2535,12.2506 ,12.2468,12.2466,12.2476,12.5592, 13.0195,13.3246,13.63,13.9329,14.2316, 14.5307,14.8301,15.1269,15.4194,15.7122 ,16.0055,16.2992,16.5933,16.8878, 17.2807,17.576,17.8717,18.1686,18.6125, 18.9095,19.2068,19.5044,19.8023,20.1006 ,20.3992,20.6981,20.9923,21.4944, 21.9973,22.5011,23.0056,23.5109,24.017, 24.2702,24.5237,24.7773,25.0311,25.2851 ,25.5392,25.7935,26.0478,26.3024, 26.4298,26.4902)
FOOTPRINT_POINT_LONGITUDE = (316.222,315.811,315.34,314.907,314.895 ,314.878,314.881,314.882,314.882, 314.885,314.886,314.887,314.888,314.888 ,314.889,314.889,314.89,314.889,314.888 ,314.887,314.885,314.883,314.882,314.88 ,314.878,314.875,314.873,314.871, 314.868,314.865,314.862,314.859,314.856 ,314.852,314.848,314.845,314.841, 314.837,314.833,314.828,314.821,314.816 ,314.811,314.806,314.798,314.792, 314.787,314.781,314.778,314.776,315.253 ,315.776,316.315,316.329,316.334, 316.332,316.329,316.327,316.325,316.322 ,316.321,316.319,316.316,316.315, 316.313,316.311,316.309,316.307,316.305 ,316.304,316.301,316.3,316.298,316.297, 316.293,316.291,316.289,316.288,316.286 ,316.284,316.282,316.28,316.278,316.275 ,316.272,316.269,316.265,316.262, 316.259,316.257,316.255,316.254,316.252 ,316.25,316.249,316.247,316.245,316.243 ,316.242,316.222)
ORBIT_NUMBER = 5300
ORBITAL_ECCENTRICITY = 0.572
ORBITAL_INCLINATION = 86.74
ORBITAL_SEMIMAJOR_AXIS = 8696.16
PERIAPSIS_ALTITUDE = 335.69
PERIAPSIS_ARGUMENT_ANGLE = 145.93
PERIAPSIS_TIME = 2008-02-17T01:24:43.000Z
SPACECRAFT_ORIENTATION = (0.0,-1.0,0.0)
^MEX_ORIENTATION_DESC = "MEX_ORIENTATION_DESC.TXT"
SPACECRAFT_POINTING_MODE = ACROSSTRACK
^MEX_POINTING_DESC = "MEX_POINTING_DESC.TXT"
RIGHT_ASCENSION = -1e+32
DECLINATION = -1e+32
OFFSET_ANGLE = 0.1
SPACECRAFT_SOLAR_DISTANCE = 2.43873e+08
TARGET_NAME = MARS
/* CAMERA DATA ELEMENTS */
DETECTOR_TEMPERATURE = 17.9627
FOCAL_PLANE_TEMPERATURE = 7.9716
INST_CMPRS_NAME = "DISCRETE COSINE TRANSFORMATION (DCT)"
INST_CMPRS_RATIO = 11.4604
INST_CMPRS_QUALITY = 0
INST_CMPRS_QUANTZ_TBL_ID = 0
INSTRUMENT_TEMPERATURE = 11.234
LENS_TEMPERATURE = 8.7872
MACROPIXEL_SIZE = 4
MISSING_FRAMES = 31
PIXEL_SUBSAMPLING_FLAG = N
SIGNAL_CHAIN_ID = 2
/* RADIOMETRIC DATA ELEMENTS */
BANDWIDTH = 76.0
CENTER_FILTER_WAVELENGTH = 444.0
RADIANCE_OFFSET = 0.623244
RADIANCE_SCALING_FACTOR = 0.00167065
REFLECTANCE_SCALING_FACTOR = 0.000102086
MEX:REFLECTANCE_OFFSET = 0.0380838
/* IMAGE OBJECT DEFINITIONS */
OBJECT = IMAGE
  INTERCHANGE_FORMAT = BINARY
  LINES = 16887
  LINE_SAMPLES = 1799
  SAMPLE_TYPE = UNSIGNED_INTEGER
  SAMPLE_BITS = 8
  BANDS = 1
  BAND_STORAGE_TYPE = BAND_SEQUENTIAL
  MAXIMUM = 255
  MEAN = 140.563
  MINIMUM = 1
  STANDARD_DEVIATION = 26.3112
END_OBJECT = IMAGE
/* MAP OBJECT DEFINITIONS */
OBJECT = IMAGE_MAP_PROJECTION
  ^DATA_SET_MAP_PROJECTION_CATALOG= "DSMAP.CAT"
  A_AXIS_RADIUS = 3396.0
  B_AXIS_RADIUS = 3396.0
  C_AXIS_RADIUS = 3396.0
  CENTER_LATITUDE = 0.0
  CENTER_LONGITUDE = 316.0
  COORDINATE_SYSTEM_NAME = PLANETOGRAPHIC
  COORDINATE_SYSTEM_TYPE = "BODY-FIXED ROTATING"
  EASTERNMOST_LONGITUDE = 316.334
  FIRST_STANDARD_PARALLEL = "N/A"
  LINE_FIRST_PIXEL = 1
  LINE_LAST_PIXEL = 16887
  LINE_PROJECTION_OFFSET = 31412.625
  MAP_PROJECTION_ROTATION = 0.0
  MAP_PROJECTION_TYPE = SINUSOIDAL
  MAP_RESOLUTION = 1185.42760773333
  MAP_SCALE = 0.05
  MAXIMUM_LATITUDE = 26.4902
  MINIMUM_LATITUDE = 12.2466
  POSITIVE_LONGITUDE_DIRECTION = EAST
  REFERENCE_LATITUDE = "N/A"
  REFERENCE_LONGITUDE = "N/A"
  SAMPLE_FIRST_PIXEL = 1
  SAMPLE_LAST_PIXEL = 1799
  SAMPLE_PROJECTION_OFFSET = 1418.875
  SECOND_STANDARD_PARALLEL = "N/A"
  WESTERNMOST_LONGITUDE = 314.776
END_OBJECT = IMAGE_MAP_PROJECTION
END
