PDS_VERSION_ID = PDS3
/* FILE DATA ELEMENTS */
RECORD_TYPE = UNDEFINED
/* POINTERS TO DATA OBJECTS */
^IMAGE = ("H5299_0000_RE4.TIF")
/* IDENTIFICATION DATA ELEMENTS */
DATA_SET_ID = "MEX-M-HRSC-4-REFDR-MAPPROJECT-EXT2-V4.0"
DATA_SET_NAME = "MARS EXPRESS HRSC MAP PROJECTED REFDR EXTENSION2 V4.0"
DETECTOR_ID = MEX_HRSC_RED
EVENT_TYPE = "MARS-REGIONAL-MAPPING-Te-Gl-Mw"
INSTRUMENT_HOST_ID = MEX
INSTRUMENT_HOST_NAME = "MARS EXPRESS"
INSTRUMENT_ID = HRSC
INSTRUMENT_NAME = "HIGH RESOLUTION STEREO CAMERA"
MISSION_NAME = "MARS EXPRESS"
MISSION_PHASE_NAME = ME_Phase_11
PROCESSING_LEVEL_ID = 4
PRODUCT_CREATION_TIME = 2023-02-01T12:09:47.000Z
PRODUCT_ID = "H5299_0000_RE4.TIF"
RELEASE_ID = 0001
REVISION_ID = 0000
/* QUALITY DATA ELEMENTS */
DATA_QUALITY_ID = 1
DATA_QUALITY_DESC = "Data calculated based on original SPICE kernels"
/* TIME DATA ELEMENTS */
SPACECRAFT_CLOCK_START_COUNT = "1/0151266516.08252"
SPACECRAFT_CLOCK_STOP_COUNT = "1/0151266876.00689"
START_TIME = 2008-02-16T18:29:51.634Z
STOP_TIME = 2008-02-16T18:34:32.691Z
/* ORBITAL DATA ELEMENTS */
ASCENDING_NODE_LONGITUDE = 117.93
MAXIMUM_RESOLUTION = 0.0561
FOOTPRINT_POINT_LATITUDE = (52.5887,52.5689,52.5471,52.5128,52.512 ,52.5904,51.8206,51.4054,50.9894, 50.5748,49.9509,49.3263,48.9096,48.4918 ,48.0746,47.6745,47.3263,46.9762, 46.4524,46.1012,45.7506,45.4009,45.0513 ,44.6988,44.1725,43.8213,43.3,42.9474, 42.6001,42.2497,41.9002,41.3732,40.8448 ,40.313,39.9673,39.6156,39.2665,38.9211 ,38.4137,38.0752,37.7382,37.2359, 36.7275,36.3863,35.8829,35.5475,35.2115 ,34.3752,34.2074,34.1324,34.1421, 34.1599,34.1601,34.161,34.8325,35.1693, 35.5099,36.0166,36.3605,36.6971,37.3658 ,37.7049,38.0426,38.5479,38.8891,39.239 ,39.5891,39.938,40.2885,40.6337,40.9854 ,41.339,41.6889,42.0368,42.3923,42.7428 ,43.0931,43.4447,43.7948,44.147,44.6742 ,45.0255,45.3759,45.902,46.4295,46.7811 ,47.1321,47.4838,48.0441,48.4624, 48.8811,49.5088,50.1355,50.5533,50.9706 ,51.3877,51.8049,52.3702,52.5785, 52.5887)
FOOTPRINT_POINT_LONGITUDE = (55.9687,55.2972,54.6505,53.7584, 53.7377,53.6913,53.7878,53.8375,53.8859 ,53.932,53.9992,54.0634,54.1044,54.1447 ,54.1833,54.2196,54.2494,54.2791, 54.3215,54.3497,54.3768,54.4027,54.4279 ,54.4536,54.4898,54.5132,54.545,54.5673 ,54.587,54.6073,54.6267,54.6558,54.6841 ,54.7123,54.7275,54.7443,54.7596, 54.7743,54.7954,54.8091,54.8218,54.8393 ,54.8578,54.8705,54.8862,54.8962, 54.9061,54.9283,54.9327,54.9346,55.369, 56.3393,56.3527,56.3571,56.3505,56.3474 ,56.3464,56.342,56.3424,56.3384,56.3271 ,56.324,56.3198,56.3125,56.31,56.3091, 56.3046,56.2992,56.2947,56.2867,56.2824 ,56.2792,56.2735,56.2665,56.2639, 56.2581,56.2519,56.2464,56.2398,56.2343 ,56.2252,56.2188,56.2116,56.2009, 56.1908,56.1837,56.1762,56.169,56.1561, 56.1459,56.1358,56.1201,56.1031,56.0915 ,56.0794,56.0668,56.0542,56.0364, 56.0296,55.9687)
ORBIT_NUMBER = 5299
ORBITAL_ECCENTRICITY = 0.572
ORBITAL_INCLINATION = 86.74
ORBITAL_SEMIMAJOR_AXIS = 8704.08
PERIAPSIS_ALTITUDE = 335.16
PERIAPSIS_ARGUMENT_ANGLE = 146.11
PERIAPSIS_TIME = 2008-02-16T18:34:12.000Z
SPACECRAFT_ORIENTATION = (0.0,-1.0,0.0)
^MEX_ORIENTATION_DESC = "MEX_ORIENTATION_DESC.TXT"
SPACECRAFT_POINTING_MODE = ACROSSTRACK
^MEX_POINTING_DESC = "MEX_POINTING_DESC.TXT"
RIGHT_ASCENSION = -1e+32
DECLINATION = -1e+32
OFFSET_ANGLE = 0.2
SPACECRAFT_SOLAR_DISTANCE = 2.43838e+08
TARGET_NAME = MARS
/* CAMERA DATA ELEMENTS */
DETECTOR_TEMPERATURE = 18.5744
FOCAL_PLANE_TEMPERATURE = 8.5833
INST_CMPRS_NAME = "DISCRETE COSINE TRANSFORMATION (DCT)"
INST_CMPRS_RATIO = 10.3926
INST_CMPRS_QUALITY = 0
INST_CMPRS_QUANTZ_TBL_ID = 0
INSTRUMENT_TEMPERATURE = 11.234
LENS_TEMPERATURE = 8.9911
MACROPIXEL_SIZE = 4
PIXEL_SUBSAMPLING_FLAG = N
SIGNAL_CHAIN_ID = 2
/* RADIOMETRIC DATA ELEMENTS */
BANDWIDTH = 48.0
CENTER_FILTER_WAVELENGTH = 748.0
RADIANCE_OFFSET = 0.932496
RADIANCE_SCALING_FACTOR = 0.00682314
REFLECTANCE_SCALING_FACTOR = 0.000925794
MEX:REFLECTANCE_OFFSET = 0.126525
/* IMAGE OBJECT DEFINITIONS */
OBJECT = IMAGE
  INTERCHANGE_FORMAT = BINARY
  LINES = 21947
  LINE_SAMPLES = 2302
  SAMPLE_TYPE = UNSIGNED_INTEGER
  SAMPLE_BITS = 8
  BANDS = 1
  BAND_STORAGE_TYPE = BAND_SEQUENTIAL
  MAXIMUM = 255
  MEAN = 155.381
  MINIMUM = 1
  STANDARD_DEVIATION = 26.9292
END_OBJECT = IMAGE
/* MAP OBJECT DEFINITIONS */
OBJECT = IMAGE_MAP_PROJECTION
  ^DATA_SET_MAP_PROJECTION_CATALOG= "DSMAP.CAT"
  A_AXIS_RADIUS = 3396.0
  B_AXIS_RADIUS = 3396.0
  C_AXIS_RADIUS = 3396.0
  CENTER_LATITUDE = 0.0
  CENTER_LONGITUDE = 55.0
  COORDINATE_SYSTEM_NAME = PLANETOGRAPHIC
  COORDINATE_SYSTEM_TYPE = "BODY-FIXED ROTATING"
  EASTERNMOST_LONGITUDE = 56.3571
  FIRST_STANDARD_PARALLEL = "N/A"
  LINE_FIRST_PIXEL = 1
  LINE_LAST_PIXEL = 21947
  LINE_PROJECTION_OFFSET = 62415.375
  MAP_PROJECTION_ROTATION = 0.0
  MAP_PROJECTION_TYPE = SINUSOIDAL
  MAP_RESOLUTION = 1185.42760773333
  MAP_SCALE = 0.05
  MAXIMUM_LATITUDE = 52.5904
  MINIMUM_LATITUDE = 34.1324
  POSITIVE_LONGITUDE_DIRECTION = EAST
  REFERENCE_LATITUDE = "N/A"
  REFERENCE_LONGITUDE = "N/A"
  SAMPLE_FIRST_PIXEL = 1
  SAMPLE_LAST_PIXEL = 2302
  SAMPLE_PROJECTION_OFFSET = 974.125
  SECOND_STANDARD_PARALLEL = "N/A"
  WESTERNMOST_LONGITUDE = 53.6913
END_OBJECT = IMAGE_MAP_PROJECTION
END
