PDS_VERSION_ID = PDS3
/* FILE DATA ELEMENTS */
RECORD_TYPE = UNDEFINED
/* POINTERS TO DATA OBJECTS */
^IMAGE = ("H5297_0001_S14.TIF")
/* IDENTIFICATION DATA ELEMENTS */
DATA_SET_ID = "MEX-M-HRSC-4-REFDR-MAPPROJECT-EXT2-V4.0"
DATA_SET_NAME = "MARS EXPRESS HRSC MAP PROJECTED REFDR EXTENSION2 V4.0"
DETECTOR_ID = MEX_HRSC_S1
EVENT_TYPE = "MARS-LOCAL-STEREO-Vo-Te"
INSTRUMENT_HOST_ID = MEX
INSTRUMENT_HOST_NAME = "MARS EXPRESS"
INSTRUMENT_ID = HRSC
INSTRUMENT_NAME = "HIGH RESOLUTION STEREO CAMERA"
MISSION_NAME = "MARS EXPRESS"
MISSION_PHASE_NAME = ME_Phase_11
PROCESSING_LEVEL_ID = 4
PRODUCT_CREATION_TIME = 2023-02-01T12:09:47.000Z
PRODUCT_ID = "H5297_0001_S14.TIF"
RELEASE_ID = 0001
REVISION_ID = 0000
/* QUALITY DATA ELEMENTS */
DATA_QUALITY_ID = 1
DATA_QUALITY_DESC = "Data calculated based on original SPICE kernels"
/* TIME DATA ELEMENTS */
SPACECRAFT_CLOCK_START_COUNT = "1/0151217880.08252"
SPACECRAFT_CLOCK_STOP_COUNT = "1/0151218050.00935"
START_TIME = 2008-02-16T04:58:03.931Z
STOP_TIME = 2008-02-16T04:59:19.028Z
/* ORBITAL DATA ELEMENTS */
ASCENDING_NODE_LONGITUDE = 117.98
MAXIMUM_RESOLUTION = 0.0164
FOOTPRINT_POINT_LATITUDE = (12.2291,12.2285,12.228,12.2274,12.2267 ,12.2253,12.2242,12.2231,12.2218, 12.2203,12.2188,12.2171,12.2169,12.3198 ,12.1389,11.9588,11.7757,11.635,11.4405 ,11.2967,11.1526,10.9605,10.7677, 10.6221,10.4281,10.3252,10.2246,10.1242 ,9.92422,9.77281,9.67286,9.57256, 9.42118,9.27036,9.17024,9.06917,8.96752 ,8.86343,8.7624,8.659,8.55778,8.3573, 8.20558,8.05325,7.89854,7.79553,7.69314 ,7.539,7.43633,7.38443,7.37137,7.3726, 7.37327,7.37371,7.37325,7.37207,7.37175 ,7.36988,7.36914,7.3664,7.36425,7.36421 ,7.36448,7.51895,7.62173,7.72448, 7.82702,7.92931,8.03161,8.1832,8.384, 8.48614,8.63995,8.74137,8.89371,9.05605 ,9.15966,9.31317,9.51271,9.61327, 9.71487,9.81987,9.92019,10.0214,10.123, 10.2761,10.3762,10.6225,10.8159,10.9606 ,11.1529,11.2965,11.4397,11.6343, 11.7757,11.9595,12.1421,12.278,12.3247, 12.2291)
FOOTPRINT_POINT_LONGITUDE = (256.15,255.937,255.822,255.708,255.594 ,255.407,255.293,255.178,255.063, 254.948,254.832,254.717,254.702,254.737 ,254.737,254.736,254.734,254.732, 254.729,254.726,254.723,254.719,254.715 ,254.711,254.707,254.703,254.7,254.697, 254.691,254.686,254.683,254.68,254.675, 254.67,254.668,254.665,254.663,254.659, 254.656,254.653,254.65,254.645,254.641, 254.637,254.633,254.631,254.628,254.624 ,254.622,254.62,254.62,254.758,254.927, 255.095,255.248,255.447,255.569,255.706 ,255.813,256.027,256.15,256.165,256.172 ,256.171,256.17,256.17,256.169,256.168, 256.168,256.167,256.165,256.164,256.162 ,256.161,256.16,256.156,256.155,256.153 ,256.151,256.15,256.148,256.146,256.145 ,256.144,256.142,256.14,256.139,256.136 ,256.135,256.134,256.132,256.131,256.13 ,256.129,256.129,256.128,256.128, 256.128,256.127,256.15)
ORBIT_NUMBER = 5297
ORBITAL_ECCENTRICITY = 0.572
ORBITAL_INCLINATION = 86.73
ORBITAL_SEMIMAJOR_AXIS = 8709.86
PERIAPSIS_ALTITUDE = 334.75
PERIAPSIS_ARGUMENT_ANGLE = 146.42
PERIAPSIS_TIME = 2008-02-16T04:53:09.000Z
SPACECRAFT_ORIENTATION = (0.0,-1.0,0.0)
^MEX_ORIENTATION_DESC = "MEX_ORIENTATION_DESC.TXT"
SPACECRAFT_POINTING_MODE = ACROSSTRACK
^MEX_POINTING_DESC = "MEX_POINTING_DESC.TXT"
RIGHT_ASCENSION = -1e+32
DECLINATION = -1e+32
OFFSET_ANGLE = -0.21
SPACECRAFT_SOLAR_DISTANCE = 2.43769e+08
TARGET_NAME = MARS
/* CAMERA DATA ELEMENTS */
DETECTOR_TEMPERATURE = 18.9822
FOCAL_PLANE_TEMPERATURE = 8.5833
INST_CMPRS_NAME = "DISCRETE COSINE TRANSFORMATION (DCT)"
INST_CMPRS_RATIO = 7.3845
INST_CMPRS_QUALITY = 0
INST_CMPRS_QUANTZ_TBL_ID = 0
INSTRUMENT_TEMPERATURE = 12.8652
LENS_TEMPERATURE = 8.9911
MACROPIXEL_SIZE = 1
MISSING_FRAMES = 2
PIXEL_SUBSAMPLING_FLAG = N
SIGNAL_CHAIN_ID = 2
/* RADIOMETRIC DATA ELEMENTS */
BANDWIDTH = 180.0
CENTER_FILTER_WAVELENGTH = 677.0
RADIANCE_OFFSET = 4.89718
RADIANCE_SCALING_FACTOR = 0.0221387
REFLECTANCE_SCALING_FACTOR = 0.000686361
MEX:REFLECTANCE_OFFSET = 0.151826
/* IMAGE OBJECT DEFINITIONS */
OBJECT = IMAGE
  INTERCHANGE_FORMAT = BINARY
  LINES = 23281
  LINE_SAMPLES = 7718
  SAMPLE_TYPE = UNSIGNED_INTEGER
  SAMPLE_BITS = 8
  BANDS = 1
  BAND_STORAGE_TYPE = BAND_SEQUENTIAL
  MAXIMUM = 255
  MEAN = 145.691
  MINIMUM = 1
  STANDARD_DEVIATION = 23.3273
END_OBJECT = IMAGE
/* MAP OBJECT DEFINITIONS */
OBJECT = IMAGE_MAP_PROJECTION
  ^DATA_SET_MAP_PROJECTION_CATALOG= "DSMAP.CAT"
  A_AXIS_RADIUS = 3396.0
  B_AXIS_RADIUS = 3396.0
  C_AXIS_RADIUS = 3396.0
  CENTER_LATITUDE = 0.0
  CENTER_LONGITUDE = 255.0
  COORDINATE_SYSTEM_NAME = PLANETOGRAPHIC
  COORDINATE_SYSTEM_TYPE = "BODY-FIXED ROTATING"
  EASTERNMOST_LONGITUDE = 256.172
  FIRST_STANDARD_PARALLEL = "N/A"
  LINE_FIRST_PIXEL = 1
  LINE_LAST_PIXEL = 23281
  LINE_PROJECTION_OFFSET = 57936.0
  MAP_PROJECTION_ROTATION = 0.0
  MAP_PROJECTION_TYPE = SINUSOIDAL
  MAP_RESOLUTION = 4741.71043093333
  MAP_SCALE = 0.0125
  MAXIMUM_LATITUDE = 12.3247
  MINIMUM_LATITUDE = 7.36421
  POSITIVE_LONGITUDE_DIRECTION = EAST
  REFERENCE_LATITUDE = "N/A"
  REFERENCE_LONGITUDE = "N/A"
  SAMPLE_FIRST_PIXEL = 1
  SAMPLE_LAST_PIXEL = 7718
  SAMPLE_PROJECTION_OFFSET = 2000.0
  SECOND_STANDARD_PARALLEL = "N/A"
  WESTERNMOST_LONGITUDE = 254.62
END_OBJECT = IMAGE_MAP_PROJECTION
END
