PDS_VERSION_ID = PDS3
/* FILE DATA ELEMENTS */
RECORD_TYPE = UNDEFINED
/* POINTERS TO DATA OBJECTS */
^IMAGE = ("H5297_0001_P24.TIF")
/* IDENTIFICATION DATA ELEMENTS */
DATA_SET_ID = "MEX-M-HRSC-4-REFDR-MAPPROJECT-EXT2-V4.0"
DATA_SET_NAME = "MARS EXPRESS HRSC MAP PROJECTED REFDR EXTENSION2 V4.0"
DETECTOR_ID = MEX_HRSC_P2
EVENT_TYPE = "MARS-LOCAL-STEREO-Vo-Te"
INSTRUMENT_HOST_ID = MEX
INSTRUMENT_HOST_NAME = "MARS EXPRESS"
INSTRUMENT_ID = HRSC
INSTRUMENT_NAME = "HIGH RESOLUTION STEREO CAMERA"
MISSION_NAME = "MARS EXPRESS"
MISSION_PHASE_NAME = ME_Phase_11
PROCESSING_LEVEL_ID = 4
PRODUCT_CREATION_TIME = 2023-02-01T12:09:47.000Z
PRODUCT_ID = "H5297_0001_P24.TIF"
RELEASE_ID = 0001
REVISION_ID = 0000
/* QUALITY DATA ELEMENTS */
DATA_QUALITY_ID = 1
DATA_QUALITY_DESC = "Data calculated based on original SPICE kernels"
/* TIME DATA ELEMENTS */
SPACECRAFT_CLOCK_START_COUNT = "1/0151217880.08252"
SPACECRAFT_CLOCK_STOP_COUNT = "1/0151218050.00935"
START_TIME = 2008-02-16T04:59:09.338Z
STOP_TIME = 2008-02-16T05:00:33.432Z
/* ORBITAL DATA ELEMENTS */
ASCENDING_NODE_LONGITUDE = 117.98
MAXIMUM_RESOLUTION = 0.0348
FOOTPRINT_POINT_LATITUDE = (12.1961,12.198,12.1993,12.2018,12.2034 ,12.2049,12.2066,12.2082,12.2099, 12.2115,12.2132,12.2149,12.2166,12.2168 ,12.1413,12.0452,11.8537,11.6653, 11.3827,11.1462,11.0033,10.8137,10.5774 ,10.3899,10.2467,10.1513,10.0088,9.8188 ,9.67563,9.48485,9.33872,9.24136, 9.14461,9.04764,8.90153,8.80363,8.70714 ,8.60728,8.50663,8.40703,8.25723, 8.15736,8.05797,7.95826,7.8065,7.65407, 7.50208,7.35036,7.29985,7.29874,7.29689 ,7.29379,7.29135,7.28928,7.28785,7.2865 ,7.28454,7.28316,7.28202,7.28185,7.2808 ,7.28056,7.28103,7.38262,7.48384, 7.58544,7.68736,7.78946,7.89172,7.99231 ,8.09247,8.19264,8.2931,8.39343,8.4921, 8.59048,8.69003,8.78792,8.93453,9.07687 ,9.22232,9.31833,9.46391,9.56043, 9.84298,10.0793,10.2219,10.4595,10.6469 ,10.7896,10.9794,11.0748,11.1706, 11.2665,11.4544,11.6902,11.8795,12.0697 ,12.1183,12.1961)
FOOTPRINT_POINT_LONGITUDE = (256.213,256.061,255.954,255.756, 255.634,255.511,255.389,255.266,255.143 ,255.02,254.897,254.774,254.65,254.635, 254.673,254.672,254.67,254.666,254.661, 254.655,254.652,254.647,254.64,254.634, 254.628,254.625,254.62,254.613,254.608, 254.6,254.595,254.592,254.588,254.585, 254.58,254.577,254.573,254.57,254.568, 254.564,254.56,254.557,254.554,254.551, 254.546,254.541,254.536,254.532,254.53, 254.53,254.647,254.848,255.016,255.166, 255.299,255.45,255.65,255.817,255.951, 256.051,256.235,256.252,256.258,256.257 ,256.255,256.254,256.253,256.251,256.25 ,256.249,256.248,256.247,256.246, 256.244,256.243,256.241,256.239,256.238 ,256.236,256.232,256.229,256.227, 256.224,256.223,256.217,256.212,256.209 ,256.205,256.202,256.2,256.197,256.196, 256.195,256.194,256.192,256.19,256.189, 256.187,256.187,256.213)
ORBIT_NUMBER = 5297
ORBITAL_ECCENTRICITY = 0.572
ORBITAL_INCLINATION = 86.73
ORBITAL_SEMIMAJOR_AXIS = 8709.86
PERIAPSIS_ALTITUDE = 334.75
PERIAPSIS_ARGUMENT_ANGLE = 146.42
PERIAPSIS_TIME = 2008-02-16T04:53:09.000Z
SPACECRAFT_ORIENTATION = (0.0,-1.0,0.0)
^MEX_ORIENTATION_DESC = "MEX_ORIENTATION_DESC.TXT"
SPACECRAFT_POINTING_MODE = ACROSSTRACK
^MEX_POINTING_DESC = "MEX_POINTING_DESC.TXT"
RIGHT_ASCENSION = -1e+32
DECLINATION = -1e+32
OFFSET_ANGLE = -0.21
SPACECRAFT_SOLAR_DISTANCE = 2.43769e+08
TARGET_NAME = MARS
/* CAMERA DATA ELEMENTS */
DETECTOR_TEMPERATURE = 20.2056
FOCAL_PLANE_TEMPERATURE = 8.5833
INST_CMPRS_NAME = "DISCRETE COSINE TRANSFORMATION (DCT)"
INST_CMPRS_RATIO = 5.71369
INST_CMPRS_QUALITY = 0
INST_CMPRS_QUANTZ_TBL_ID = 0
INSTRUMENT_TEMPERATURE = 12.8652
LENS_TEMPERATURE = 8.9911
MACROPIXEL_SIZE = 2
MISSING_FRAMES = 0
PIXEL_SUBSAMPLING_FLAG = N
SIGNAL_CHAIN_ID = 3
/* RADIOMETRIC DATA ELEMENTS */
BANDWIDTH = 177.0
CENTER_FILTER_WAVELENGTH = 676.5
RADIANCE_OFFSET = 4.32622
RADIANCE_SCALING_FACTOR = 0.023216
REFLECTANCE_SCALING_FACTOR = 0.000731483
MEX:REFLECTANCE_OFFSET = 0.136309
/* IMAGE OBJECT DEFINITIONS */
OBJECT = IMAGE
  INTERCHANGE_FORMAT = BINARY
  LINES = 11641
  LINE_SAMPLES = 3859
  SAMPLE_TYPE = UNSIGNED_INTEGER
  SAMPLE_BITS = 8
  BANDS = 1
  BAND_STORAGE_TYPE = BAND_SEQUENTIAL
  MAXIMUM = 255
  MEAN = 140.142
  MINIMUM = 1
  STANDARD_DEVIATION = 23.5784
END_OBJECT = IMAGE
/* MAP OBJECT DEFINITIONS */
OBJECT = IMAGE_MAP_PROJECTION
  ^DATA_SET_MAP_PROJECTION_CATALOG= "DSMAP.CAT"
  A_AXIS_RADIUS = 3396.0
  B_AXIS_RADIUS = 3396.0
  C_AXIS_RADIUS = 3396.0
  CENTER_LATITUDE = 0.0
  CENTER_LONGITUDE = 255.0
  COORDINATE_SYSTEM_NAME = PLANETOGRAPHIC
  COORDINATE_SYSTEM_TYPE = "BODY-FIXED ROTATING"
  EASTERNMOST_LONGITUDE = 256.258
  FIRST_STANDARD_PARALLEL = "N/A"
  LINE_FIRST_PIXEL = 1
  LINE_LAST_PIXEL = 11641
  LINE_PROJECTION_OFFSET = 28967.75
  MAP_PROJECTION_ROTATION = 0.0
  MAP_PROJECTION_TYPE = SINUSOIDAL
  MAP_RESOLUTION = 2370.85521546667
  MAP_SCALE = 0.025
  MAXIMUM_LATITUDE = 12.2168
  MINIMUM_LATITUDE = 7.28056
  POSITIVE_LONGITUDE_DIRECTION = EAST
  REFERENCE_LATITUDE = "N/A"
  REFERENCE_LONGITUDE = "N/A"
  SAMPLE_FIRST_PIXEL = 1
  SAMPLE_LAST_PIXEL = 3859
  SAMPLE_PROJECTION_OFFSET = 999.75
  SECOND_STANDARD_PARALLEL = "N/A"
  WESTERNMOST_LONGITUDE = 254.53
END_OBJECT = IMAGE_MAP_PROJECTION
END
