PDS_VERSION_ID = PDS3
/* FILE DATA ELEMENTS */
RECORD_TYPE = UNDEFINED
/* POINTERS TO DATA OBJECTS */
^IMAGE = ("H5297_0000_S24.TIF")
/* IDENTIFICATION DATA ELEMENTS */
DATA_SET_ID = "MEX-M-HRSC-4-REFDR-MAPPROJECT-EXT2-V4.0"
DATA_SET_NAME = "MARS EXPRESS HRSC MAP PROJECTED REFDR EXTENSION2 V4.0"
DETECTOR_ID = MEX_HRSC_S2
EVENT_TYPE = "MARS-REGIONAL-MAPPING-Vo-Te"
INSTRUMENT_HOST_ID = MEX
INSTRUMENT_HOST_NAME = "MARS EXPRESS"
INSTRUMENT_ID = HRSC
INSTRUMENT_NAME = "HIGH RESOLUTION STEREO CAMERA"
MISSION_NAME = "MARS EXPRESS"
MISSION_PHASE_NAME = ME_Phase_11
PROCESSING_LEVEL_ID = 4
PRODUCT_CREATION_TIME = 2023-02-01T12:09:47.000Z
PRODUCT_ID = "H5297_0000_S24.TIF"
RELEASE_ID = 0001
REVISION_ID = 0000
/* QUALITY DATA ELEMENTS */
DATA_QUALITY_ID = 1
DATA_QUALITY_DESC = "Data calculated based on original SPICE kernels"
/* TIME DATA ELEMENTS */
SPACECRAFT_CLOCK_START_COUNT = "1/0151217421.07296"
SPACECRAFT_CLOCK_STOP_COUNT = "1/0151217664.06493"
START_TIME = 2008-02-16T04:51:28.774Z
STOP_TIME = 2008-02-16T04:54:25.910Z
/* ORBITAL DATA ELEMENTS */
ASCENDING_NODE_LONGITUDE = 117.98
MAXIMUM_RESOLUTION = 0.0282
FOOTPRINT_POINT_LATITUDE = (42.0718,42.0672,42.0613,42.0528, 42.0526,42.0741,41.835,41.5958,41.3567, 41.1178,40.7594,40.4004,40.1615,39.9228 ,39.5649,39.3263,38.9757,38.7453, 38.5153,38.2856,38.0551,37.7097,37.4793 ,37.2504,37.0205,36.7912,36.5609, 36.3315,36.1028,35.8746,35.6474,35.4186 ,35.191,34.9632,34.6218,34.2815,34.0547 ,33.7133,33.3735,33.1459,32.9182, 32.6906,32.2371,31.8966,31.4433,30.9919 ,30.6534,30.5406,30.5183,30.5182, 30.5175,30.516,30.5159,30.5164,30.8555, 31.1951,31.535,31.7617,31.989,32.2165, 32.5581,32.7859,33.1277,33.3558,33.5837 ,33.812,34.0402,34.2673,34.4955,34.8368 ,35.1776,35.5202,35.7488,35.9781, 36.2048,36.4338,36.6639,36.8928,37.1228 ,37.3542,37.5827,37.8127,38.0425, 38.2732,38.5052,38.735,38.9639,39.1944, 39.4334,39.7923,40.1522,40.3922,40.7539 ,40.9944,41.2337,41.4736,41.7119, 41.9541,42.0709,42.0718)
FOOTPRINT_POINT_LONGITUDE = (255.793,255.299,254.803,254.21,254.194 ,254.175,254.191,254.207,254.222, 254.236,254.258,254.279,254.293,254.306 ,254.326,254.339,254.357,254.369,254.38 ,254.391,254.402,254.418,254.428, 254.438,254.448,254.457,254.467,254.477 ,254.485,254.494,254.501,254.51,254.517 ,254.525,254.536,254.546,254.553, 254.563,254.573,254.579,254.586,254.592 ,254.604,254.613,254.624,254.634, 254.641,254.644,254.644,255.086,255.579 ,256.003,256.016,256.021,256.016, 256.011,256.006,256.003,255.999,255.996 ,255.991,255.987,255.982,255.979, 255.975,255.971,255.967,255.963,255.959 ,255.953,255.946,255.94,255.936,255.932 ,255.927,255.922,255.918,255.913, 255.909,255.905,255.9,255.895,255.89, 255.885,255.881,255.876,255.87,255.865, 255.86,255.852,255.844,255.839,255.831, 255.826,255.82,255.814,255.808,255.802, 255.798,255.793)
ORBIT_NUMBER = 5297
ORBITAL_ECCENTRICITY = 0.572
ORBITAL_INCLINATION = 86.73
ORBITAL_SEMIMAJOR_AXIS = 8709.86
PERIAPSIS_ALTITUDE = 334.75
PERIAPSIS_ARGUMENT_ANGLE = 146.42
PERIAPSIS_TIME = 2008-02-16T04:53:09.000Z
SPACECRAFT_ORIENTATION = (0.0,-1.0,0.0)
^MEX_ORIENTATION_DESC = "MEX_ORIENTATION_DESC.TXT"
SPACECRAFT_POINTING_MODE = ACROSSTRACK
^MEX_POINTING_DESC = "MEX_POINTING_DESC.TXT"
RIGHT_ASCENSION = -1e+32
DECLINATION = -1e+32
OFFSET_ANGLE = -0.21
SPACECRAFT_SOLAR_DISTANCE = 2.43769e+08
TARGET_NAME = MARS
/* CAMERA DATA ELEMENTS */
DETECTOR_TEMPERATURE = 18.5744
FOCAL_PLANE_TEMPERATURE = 8.3794
INST_CMPRS_NAME = "DISCRETE COSINE TRANSFORMATION (DCT)"
INST_CMPRS_RATIO = 8.05192
INST_CMPRS_QUALITY = 0
INST_CMPRS_QUANTZ_TBL_ID = 0
INSTRUMENT_TEMPERATURE = 11.4379
LENS_TEMPERATURE = 8.7872
MACROPIXEL_SIZE = 2
MISSING_FRAMES = 0
PIXEL_SUBSAMPLING_FLAG = N
SIGNAL_CHAIN_ID = 1
/* RADIOMETRIC DATA ELEMENTS */
BANDWIDTH = 178.0
CENTER_FILTER_WAVELENGTH = 679.0
RADIANCE_OFFSET = 3.57433
RADIANCE_SCALING_FACTOR = 0.0307296
REFLECTANCE_SCALING_FACTOR = 0.000967038
MEX:REFLECTANCE_OFFSET = 0.112482
/* IMAGE OBJECT DEFINITIONS */
OBJECT = IMAGE
  INTERCHANGE_FORMAT = BINARY
  LINES = 27531
  LINE_SAMPLES = 3530
  SAMPLE_TYPE = UNSIGNED_INTEGER
  SAMPLE_BITS = 8
  BANDS = 1
  BAND_STORAGE_TYPE = BAND_SEQUENTIAL
  MAXIMUM = 255
  MEAN = 150.741
  MINIMUM = 1
  STANDARD_DEVIATION = 13.5541
END_OBJECT = IMAGE
/* MAP OBJECT DEFINITIONS */
OBJECT = IMAGE_MAP_PROJECTION
  ^DATA_SET_MAP_PROJECTION_CATALOG= "DSMAP.CAT"
  A_AXIS_RADIUS = 3396.0
  B_AXIS_RADIUS = 3396.0
  C_AXIS_RADIUS = 3396.0
  CENTER_LATITUDE = 0.0
  CENTER_LONGITUDE = 255.0
  COORDINATE_SYSTEM_NAME = PLANETOGRAPHIC
  COORDINATE_SYSTEM_TYPE = "BODY-FIXED ROTATING"
  EASTERNMOST_LONGITUDE = 256.021
  FIRST_STANDARD_PARALLEL = "N/A"
  LINE_FIRST_PIXEL = 1
  LINE_LAST_PIXEL = 27531
  LINE_PROJECTION_OFFSET = 99911.75
  MAP_PROJECTION_ROTATION = 0.0
  MAP_PROJECTION_TYPE = SINUSOIDAL
  MAP_RESOLUTION = 2370.85521546667
  MAP_SCALE = 0.025
  MAXIMUM_LATITUDE = 42.0741
  MINIMUM_LATITUDE = 30.5159
  POSITIVE_LONGITUDE_DIRECTION = EAST
  REFERENCE_LATITUDE = "N/A"
  REFERENCE_LONGITUDE = "N/A"
  SAMPLE_FIRST_PIXEL = 1
  SAMPLE_LAST_PIXEL = 3530
  SAMPLE_PROJECTION_OFFSET = 1469.25
  SECOND_STANDARD_PARALLEL = "N/A"
  WESTERNMOST_LONGITUDE = 254.175
END_OBJECT = IMAGE_MAP_PROJECTION
END
