PDS_VERSION_ID = PDS3
/* FILE DATA ELEMENTS */
RECORD_TYPE = UNDEFINED
/* POINTERS TO DATA OBJECTS */
^IMAGE = ("H5296_0000_S24.TIF")
/* IDENTIFICATION DATA ELEMENTS */
DATA_SET_ID = "MEX-M-HRSC-4-REFDR-MAPPROJECT-EXT2-V4.0"
DATA_SET_NAME = "MARS EXPRESS HRSC MAP PROJECTED REFDR EXTENSION2 V4.0"
DETECTOR_ID = MEX_HRSC_S2
EVENT_TYPE = "MARS-REGIONAL-MAPPING-Im-La"
INSTRUMENT_HOST_ID = MEX
INSTRUMENT_HOST_NAME = "MARS EXPRESS"
INSTRUMENT_ID = HRSC
INSTRUMENT_NAME = "HIGH RESOLUTION STEREO CAMERA"
MISSION_NAME = "MARS EXPRESS"
MISSION_PHASE_NAME = ME_Phase_11
PROCESSING_LEVEL_ID = 4
PRODUCT_CREATION_TIME = 2023-02-01T12:09:47.000Z
PRODUCT_ID = "H5296_0000_S24.TIF"
RELEASE_ID = 0001
REVISION_ID = 0000
/* QUALITY DATA ELEMENTS */
DATA_QUALITY_ID = 1
DATA_QUALITY_DESC = "Data calculated based on original SPICE kernels"
/* TIME DATA ELEMENTS */
SPACECRAFT_CLOCK_START_COUNT = "1/0151192902.09055"
SPACECRAFT_CLOCK_STOP_COUNT = "1/0151193302.33168"
START_TIME = 2008-02-15T22:02:46.181Z
STOP_TIME = 2008-02-15T22:08:24.331Z
/* ORBITAL DATA ELEMENTS */
ASCENDING_NODE_LONGITUDE = 118.0
MAXIMUM_RESOLUTION = 0.0289
FOOTPRINT_POINT_LATITUDE = (34.5445,34.5385,34.5269,34.5267, 34.5849,34.1867,33.7879,33.1923,32.7962 ,32.4021,31.8093,31.4135,30.8216, 30.4282,30.024,29.621,28.8281,28.4247, 27.8016,27.2023,26.8031,26.2038,25.8062 ,25.409,24.8135,24.4175,24.0236,23.6294 ,23.236,22.8423,22.0599,21.3714,20.9079 ,20.4458,19.9843,19.5255,19.067,18.6092 ,18.16,17.706,17.2647,16.8155,16.1334, 15.6644,15.2079,14.7434,14.278,13.8058, 13.5691,13.5522,13.546,13.5422,13.5421, 13.5426,14.25,14.7169,15.1845,15.6437, 16.3294,16.7785,17.4563,17.9094,18.3635 ,18.8282,19.2799,19.7377,20.1985, 20.6599,21.123,21.5871,22.047,22.8302, 23.2233,23.6174,24.0126,24.4085,25.0025 ,25.3993,25.8003,26.3967,26.9971, 27.3976,27.7992,28.2009,28.6039,29.008, 29.4153,29.8201,30.426,30.8199,31.2199, 31.8067,32.2015,32.6013,32.9973,33.3964 ,33.794,34.3885,34.5886,34.5445)
FOOTPRINT_POINT_LONGITUDE = (356.298,355.767,354.908,354.895, 354.867,354.88,354.892,354.908,354.918, 354.927,354.94,354.949,354.962,354.969, 354.976,354.982,354.989,354.994,355.008 ,355.013,355.017,355.021,355.024, 355.026,355.028,355.03,355.03,355.031, 355.031,355.032,355.03,355.028,355.026, 355.024,355.021,355.018,355.014,355.01, 355.004,354.999,354.991,354.985,354.977 ,354.973,354.966,354.957,354.949, 354.941,354.936,354.936,355.659,356.506 ,356.522,356.527,356.519,356.515, 356.511,356.507,356.499,356.495,356.489 ,356.485,356.48,356.479,356.473,356.468 ,356.464,356.46,356.456,356.452,356.447 ,356.44,356.437,356.433,356.43,356.427, 356.421,356.417,356.414,356.408,356.402 ,356.398,356.394,356.389,356.385, 356.381,356.378,356.374,356.367,356.363 ,356.36,356.352,356.347,356.343,356.338 ,356.334,356.329,356.321,356.319, 356.298)
ORBIT_NUMBER = 5296
ORBITAL_ECCENTRICITY = 0.572
ORBITAL_INCLINATION = 86.73
ORBITAL_SEMIMAJOR_AXIS = 8698.45
PERIAPSIS_ALTITUDE = 335.33
PERIAPSIS_ARGUMENT_ANGLE = 146.6
PERIAPSIS_TIME = 2008-02-15T22:02:34.000Z
SPACECRAFT_ORIENTATION = (0.0,-1.0,0.0)
^MEX_ORIENTATION_DESC = "MEX_ORIENTATION_DESC.TXT"
SPACECRAFT_POINTING_MODE = NADIR
^MEX_POINTING_DESC = "MEX_POINTING_DESC.TXT"
RIGHT_ASCENSION = -1e+32
DECLINATION = -1e+32
OFFSET_ANGLE = -1e+32
SPACECRAFT_SOLAR_DISTANCE = 2.43734e+08
TARGET_NAME = MARS
/* CAMERA DATA ELEMENTS */
DETECTOR_TEMPERATURE = 17.1471
FOCAL_PLANE_TEMPERATURE = 8.3794
INST_CMPRS_NAME = "DISCRETE COSINE TRANSFORMATION (DCT)"
INST_CMPRS_RATIO = 11.3492
INST_CMPRS_QUALITY = 0
INST_CMPRS_QUANTZ_TBL_ID = 0
INSTRUMENT_TEMPERATURE = 11.4379
LENS_TEMPERATURE = 8.7872
MACROPIXEL_SIZE = 2
MISSING_FRAMES = 0
PIXEL_SUBSAMPLING_FLAG = N
SIGNAL_CHAIN_ID = 1
/* RADIOMETRIC DATA ELEMENTS */
BANDWIDTH = 178.0
CENTER_FILTER_WAVELENGTH = 679.0
RADIANCE_OFFSET = 3.29939
RADIANCE_SCALING_FACTOR = 0.028034
REFLECTANCE_SCALING_FACTOR = 0.000881957
MEX:REFLECTANCE_OFFSET = 0.1038
/* IMAGE OBJECT DEFINITIONS */
OBJECT = IMAGE
  INTERCHANGE_FORMAT = BINARY
  LINES = 49906
  LINE_SAMPLES = 3449
  SAMPLE_TYPE = UNSIGNED_INTEGER
  SAMPLE_BITS = 8
  BANDS = 1
  BAND_STORAGE_TYPE = BAND_SEQUENTIAL
  MAXIMUM = 255
  MEAN = 137.284
  MINIMUM = 1
  STANDARD_DEVIATION = 27.5422
END_OBJECT = IMAGE
/* MAP OBJECT DEFINITIONS */
OBJECT = IMAGE_MAP_PROJECTION
  ^DATA_SET_MAP_PROJECTION_CATALOG= "DSMAP.CAT"
  A_AXIS_RADIUS = 3396.0
  B_AXIS_RADIUS = 3396.0
  C_AXIS_RADIUS = 3396.0
  CENTER_LATITUDE = 0.0
  CENTER_LONGITUDE = 356.0
  COORDINATE_SYSTEM_NAME = PLANETOGRAPHIC
  COORDINATE_SYSTEM_TYPE = "BODY-FIXED ROTATING"
  EASTERNMOST_LONGITUDE = 356.527
  FIRST_STANDARD_PARALLEL = "N/A"
  LINE_FIRST_PIXEL = 1
  LINE_LAST_PIXEL = 49906
  LINE_PROJECTION_OFFSET = 82009.75
  MAP_PROJECTION_ROTATION = 0.0
  MAP_PROJECTION_TYPE = SINUSOIDAL
  MAP_RESOLUTION = 2370.85521546667
  MAP_SCALE = 0.025
  MAXIMUM_LATITUDE = 34.5886
  MINIMUM_LATITUDE = 13.5421
  POSITIVE_LONGITUDE_DIRECTION = EAST
  REFERENCE_LATITUDE = "N/A"
  REFERENCE_LONGITUDE = "N/A"
  SAMPLE_FIRST_PIXEL = 1
  SAMPLE_LAST_PIXEL = 3449
  SAMPLE_PROJECTION_OFFSET = 2340.25
  SECOND_STANDARD_PARALLEL = "N/A"
  WESTERNMOST_LONGITUDE = 354.867
END_OBJECT = IMAGE_MAP_PROJECTION
END
