PDS_VERSION_ID = PDS3
/* FILE DATA ELEMENTS */
RECORD_TYPE = UNDEFINED
/* POINTERS TO DATA OBJECTS */
^IMAGE = ("H5296_0000_RE4.TIF")
/* IDENTIFICATION DATA ELEMENTS */
DATA_SET_ID = "MEX-M-HRSC-4-REFDR-MAPPROJECT-EXT2-V4.0"
DATA_SET_NAME = "MARS EXPRESS HRSC MAP PROJECTED REFDR EXTENSION2 V4.0"
DETECTOR_ID = MEX_HRSC_RED
EVENT_TYPE = "MARS-REGIONAL-MAPPING-Im-La"
INSTRUMENT_HOST_ID = MEX
INSTRUMENT_HOST_NAME = "MARS EXPRESS"
INSTRUMENT_ID = HRSC
INSTRUMENT_NAME = "HIGH RESOLUTION STEREO CAMERA"
MISSION_NAME = "MARS EXPRESS"
MISSION_PHASE_NAME = ME_Phase_11
PROCESSING_LEVEL_ID = 4
PRODUCT_CREATION_TIME = 2023-02-01T12:09:47.000Z
PRODUCT_ID = "H5296_0000_RE4.TIF"
RELEASE_ID = 0001
REVISION_ID = 0000
/* QUALITY DATA ELEMENTS */
DATA_QUALITY_ID = 1
DATA_QUALITY_DESC = "Data calculated based on original SPICE kernels"
/* TIME DATA ELEMENTS */
SPACECRAFT_CLOCK_START_COUNT = "1/0151192902.09055"
SPACECRAFT_CLOCK_STOP_COUNT = "1/0151193302.33168"
START_TIME = 2008-02-15T22:02:41.108Z
STOP_TIME = 2008-02-15T22:08:16.808Z
/* ORBITAL DATA ELEMENTS */
ASCENDING_NODE_LONGITUDE = 118.0
MAXIMUM_RESOLUTION = 0.0566
FOOTPRINT_POINT_LATITUDE = (34.5438,34.5338,34.5257,34.5255, 34.5732,34.1757,33.7774,33.1825,32.7864 ,32.3923,31.9976,31.6018,31.0089, 30.4184,30.0245,29.2285,28.8248,28.4208 ,28.0102,27.3997,26.998,26.5973,26.1976 ,25.7982,25.3993,25.0007,24.6028, 24.2066,23.6124,23.217,22.8217,22.0357, 21.4108,20.9443,20.4791,19.7831,19.3212 ,18.6295,18.1765,17.7185,17.271,16.8169 ,16.1309,15.6692,15.208,14.7487,14.2787 ,13.8091,13.5733,13.5511,13.5471, 13.5432,13.5449,13.5448,13.5458,14.0121 ,14.483,15.1808,15.6437,16.3262,16.7791 ,17.234,17.6917,18.1486,18.608,19.301, 19.7625,20.2264,20.6911,21.1572,21.8233 ,22.6096,23.004,23.3993,23.7959,24.3918 ,24.9883,25.3867,25.7872,26.19,26.5878, 26.9894,27.5919,27.9948,28.398,28.8022, 29.2083,29.8171,30.4132,30.8072,31.2065 ,31.7943,32.1893,32.5883,32.9847, 33.3831,33.7798,34.3741,34.5738, 34.5438)
FOOTPRINT_POINT_LONGITUDE = (356.295,355.459,354.911,354.898, 354.872,354.884,354.897,354.913,354.923 ,354.932,354.941,354.95,354.963,354.975 ,354.982,354.989,354.995,355.0,355.008, 355.018,355.022,355.025,355.028,355.031 ,355.033,355.035,355.037,355.038, 355.039,355.039,355.04,355.039,355.037, 355.035,355.033,355.029,355.026,355.021 ,355.014,355.01,355.002,354.996,354.989 ,354.985,354.978,354.97,354.962,354.954 ,354.949,354.949,355.547,355.955, 356.497,356.511,356.516,356.51,356.506, 356.5,356.496,356.489,356.485,356.481, 356.477,356.473,356.469,356.464,356.459 ,356.456,356.452,356.448,356.442, 356.435,356.432,356.428,356.425,356.42, 356.415,356.411,356.408,356.405,356.4, 356.396,356.39,356.386,356.382,356.378, 356.374,356.368,356.362,356.358,356.356 ,356.347,356.343,356.339,356.335, 356.331,356.326,356.317,356.315, 356.295)
ORBIT_NUMBER = 5296
ORBITAL_ECCENTRICITY = 0.572
ORBITAL_INCLINATION = 86.73
ORBITAL_SEMIMAJOR_AXIS = 8698.45
PERIAPSIS_ALTITUDE = 335.33
PERIAPSIS_ARGUMENT_ANGLE = 146.6
PERIAPSIS_TIME = 2008-02-15T22:02:34.000Z
SPACECRAFT_ORIENTATION = (0.0,-1.0,0.0)
^MEX_ORIENTATION_DESC = "MEX_ORIENTATION_DESC.TXT"
SPACECRAFT_POINTING_MODE = NADIR
^MEX_POINTING_DESC = "MEX_POINTING_DESC.TXT"
RIGHT_ASCENSION = -1e+32
DECLINATION = -1e+32
OFFSET_ANGLE = -1e+32
SPACECRAFT_SOLAR_DISTANCE = 2.43734e+08
TARGET_NAME = MARS
/* CAMERA DATA ELEMENTS */
DETECTOR_TEMPERATURE = 17.1471
FOCAL_PLANE_TEMPERATURE = 8.3794
INST_CMPRS_NAME = "DISCRETE COSINE TRANSFORMATION (DCT)"
INST_CMPRS_RATIO = 14.5118
INST_CMPRS_QUALITY = 0
INST_CMPRS_QUANTZ_TBL_ID = 0
INSTRUMENT_TEMPERATURE = 11.4379
LENS_TEMPERATURE = 8.7872
MACROPIXEL_SIZE = 4
MISSING_FRAMES = 0
PIXEL_SUBSAMPLING_FLAG = N
SIGNAL_CHAIN_ID = 2
/* RADIOMETRIC DATA ELEMENTS */
BANDWIDTH = 48.0
CENTER_FILTER_WAVELENGTH = 748.0
RADIANCE_OFFSET = 0.851374
RADIANCE_SCALING_FACTOR = 0.00804328
REFLECTANCE_SCALING_FACTOR = 0.00109042
MEX:REFLECTANCE_OFFSET = 0.11542
/* IMAGE OBJECT DEFINITIONS */
OBJECT = IMAGE
  INTERCHANGE_FORMAT = BINARY
  LINES = 24953
  LINE_SAMPLES = 1725
  SAMPLE_TYPE = UNSIGNED_INTEGER
  SAMPLE_BITS = 8
  BANDS = 1
  BAND_STORAGE_TYPE = BAND_SEQUENTIAL
  MAXIMUM = 255
  MEAN = 141.225
  MINIMUM = 1
  STANDARD_DEVIATION = 27.4967
END_OBJECT = IMAGE
/* MAP OBJECT DEFINITIONS */
OBJECT = IMAGE_MAP_PROJECTION
  ^DATA_SET_MAP_PROJECTION_CATALOG= "DSMAP.CAT"
  A_AXIS_RADIUS = 3396.0
  B_AXIS_RADIUS = 3396.0
  C_AXIS_RADIUS = 3396.0
  CENTER_LATITUDE = 0.0
  CENTER_LONGITUDE = 356.0
  COORDINATE_SYSTEM_NAME = PLANETOGRAPHIC
  COORDINATE_SYSTEM_TYPE = "BODY-FIXED ROTATING"
  EASTERNMOST_LONGITUDE = 356.516
  FIRST_STANDARD_PARALLEL = "N/A"
  LINE_FIRST_PIXEL = 1
  LINE_LAST_PIXEL = 24953
  LINE_PROJECTION_OFFSET = 41004.625
  MAP_PROJECTION_ROTATION = 0.0
  MAP_PROJECTION_TYPE = SINUSOIDAL
  MAP_RESOLUTION = 1185.42760773333
  MAP_SCALE = 0.05
  MAXIMUM_LATITUDE = 34.5738
  MINIMUM_LATITUDE = 13.5432
  POSITIVE_LONGITUDE_DIRECTION = EAST
  REFERENCE_LATITUDE = "N/A"
  REFERENCE_LONGITUDE = "N/A"
  SAMPLE_FIRST_PIXEL = 1
  SAMPLE_LAST_PIXEL = 1725
  SAMPLE_PROJECTION_OFFSET = 1169.875
  SECOND_STANDARD_PARALLEL = "N/A"
  WESTERNMOST_LONGITUDE = 354.872
END_OBJECT = IMAGE_MAP_PROJECTION
END
