PDS_VERSION_ID = PDS3
/* FILE DATA ELEMENTS */
RECORD_TYPE = UNDEFINED
/* POINTERS TO DATA OBJECTS */
^IMAGE = ("H5295_0000_RE4.TIF")
/* IDENTIFICATION DATA ELEMENTS */
DATA_SET_ID = "MEX-M-HRSC-4-REFDR-MAPPROJECT-EXT2-V4.0"
DATA_SET_NAME = "MARS EXPRESS HRSC MAP PROJECTED REFDR EXTENSION2 V4.0"
DETECTOR_ID = MEX_HRSC_RED
EVENT_TYPE = "MARS-REGIONAL-MAPPING-Vo-Im-Eo"
INSTRUMENT_HOST_ID = MEX
INSTRUMENT_HOST_NAME = "MARS EXPRESS"
INSTRUMENT_ID = HRSC
INSTRUMENT_NAME = "HIGH RESOLUTION STEREO CAMERA"
MISSION_NAME = "MARS EXPRESS"
MISSION_PHASE_NAME = ME_Phase_11
PROCESSING_LEVEL_ID = 4
PRODUCT_CREATION_TIME = 2023-02-01T12:09:47.000Z
PRODUCT_ID = "H5295_0000_RE4.TIF"
RELEASE_ID = 0001
REVISION_ID = 0000
/* QUALITY DATA ELEMENTS */
DATA_QUALITY_ID = 1
DATA_QUALITY_DESC = "Data calculated based on original SPICE kernels"
/* TIME DATA ELEMENTS */
SPACECRAFT_CLOCK_START_COUNT = "1/0151168014.09096"
SPACECRAFT_CLOCK_STOP_COUNT = "1/0151168236.09946"
START_TIME = 2008-02-15T15:08:06.804Z
STOP_TIME = 2008-02-15T15:10:32.716Z
/* ORBITAL DATA ELEMENTS */
ASCENDING_NODE_LONGITUDE = 118.01
MAXIMUM_RESOLUTION = 0.0582
FOOTPRINT_POINT_LATITUDE = (50.3885,50.3727,50.3606,50.3498, 50.3385,50.3172,50.3165,50.3951,50.109, 49.7275,49.5364,49.155,48.8685,48.3909, 48.1042,47.722,47.4351,47.148,46.9566, 46.7652,46.5735,46.3821,46.1909,45.9996 ,45.7122,45.5206,45.3291,45.1373, 44.9457,44.7539,44.5623,44.3703,44.1786 ,43.891,43.6993,43.5075,43.2199,43.0279 ,42.8361,42.5487,42.2619,42.0705, 41.8787,41.6871,41.4947,41.2073,40.9198 ,40.8239,40.7979,40.8087,40.8218, 40.8295,40.8451,40.8455,40.8465,41.0387 ,41.2308,41.4227,41.6147,41.8067, 41.9982,42.2865,42.575,42.7675,42.9596, 43.2478,43.5361,43.7284,44.0168,44.3049 ,44.593,44.7852,44.9773,45.1695,45.4578 ,45.6501,45.8421,46.0336,46.226,46.4181 ,46.6102,46.8983,47.0904,47.2824, 47.4744,47.6665,47.8584,48.0501,48.2418 ,48.5294,48.7214,48.913,49.1048,49.4878 ,49.6794,49.9668,50.1583,50.3498, 50.4457,50.3885)
FOOTPRINT_POINT_LONGITUDE = (96.4806,95.9531,95.584,95.2746,94.9666 ,94.4293,94.4102,94.3746,94.4047, 94.4437,94.463,94.5002,94.5275,94.5717, 94.5975,94.6309,94.6553,94.6793,94.6949 ,94.7103,94.7256,94.7405,94.7552, 94.7697,94.791,94.805,94.8187,94.8324, 94.8457,94.8589,94.8718,94.8847,94.8972 ,94.9157,94.9277,94.9396,94.9571, 94.9686,94.9798,94.9963,95.0122,95.0226 ,95.033,95.0432,95.0534,95.0681,95.0824 ,95.0871,95.0884,95.4158,95.8357, 96.0925,96.6857,96.701,96.7061,96.704, 96.7018,96.6995,96.6971,96.6948,96.692, 96.6884,96.6849,96.6826,96.6801,96.6761 ,96.6722,96.6696,96.6656,96.6612, 96.6568,96.6539,96.6508,96.6478,96.6432 ,96.6402,96.637,96.6333,96.6302,96.627, 96.6236,96.6185,96.6151,96.6115,96.608, 96.6044,96.6007,96.5968,96.5929,96.587, 96.5831,96.579,96.575,96.5664,96.5621, 96.5557,96.5513,96.5469,96.5447, 96.4806)
ORBIT_NUMBER = 5295
ORBITAL_ECCENTRICITY = 0.572
ORBITAL_INCLINATION = 86.73
ORBITAL_SEMIMAJOR_AXIS = 8706.46
PERIAPSIS_ALTITUDE = 334.28
PERIAPSIS_ARGUMENT_ANGLE = 146.78
PERIAPSIS_TIME = 2008-02-15T15:12:04.000Z
SPACECRAFT_ORIENTATION = (0.0,-1.0,0.0)
^MEX_ORIENTATION_DESC = "MEX_ORIENTATION_DESC.TXT"
SPACECRAFT_POINTING_MODE = ACROSSTRACK
^MEX_POINTING_DESC = "MEX_POINTING_DESC.TXT"
RIGHT_ASCENSION = -1e+32
DECLINATION = -1e+32
OFFSET_ANGLE = 0.3
SPACECRAFT_SOLAR_DISTANCE = 2.437e+08
TARGET_NAME = MARS
/* CAMERA DATA ELEMENTS */
DETECTOR_TEMPERATURE = 18.5744
FOCAL_PLANE_TEMPERATURE = 8.3794
INST_CMPRS_NAME = "DISCRETE COSINE TRANSFORMATION (DCT)"
INST_CMPRS_RATIO = 24.3541
INST_CMPRS_QUALITY = 0
INST_CMPRS_QUANTZ_TBL_ID = 0
INSTRUMENT_TEMPERATURE = 11.234
LENS_TEMPERATURE = 8.7872
MACROPIXEL_SIZE = 4
MISSING_FRAMES = 0
PIXEL_SUBSAMPLING_FLAG = N
SIGNAL_CHAIN_ID = 2
/* RADIOMETRIC DATA ELEMENTS */
BANDWIDTH = 48.0
CENTER_FILTER_WAVELENGTH = 748.0
RADIANCE_OFFSET = 0.928771
RADIANCE_SCALING_FACTOR = 0.0049322
REFLECTANCE_SCALING_FACTOR = 0.00066846
MEX:REFLECTANCE_OFFSET = 0.125876
/* IMAGE OBJECT DEFINITIONS */
OBJECT = IMAGE
  INTERCHANGE_FORMAT = BINARY
  LINES = 11445
  LINE_SAMPLES = 1897
  SAMPLE_TYPE = UNSIGNED_INTEGER
  SAMPLE_BITS = 8
  BANDS = 1
  BAND_STORAGE_TYPE = BAND_SEQUENTIAL
  MAXIMUM = 255
  MEAN = 85.7399
  MINIMUM = 1
  STANDARD_DEVIATION = 60.2368
END_OBJECT = IMAGE
/* MAP OBJECT DEFINITIONS */
OBJECT = IMAGE_MAP_PROJECTION
  ^DATA_SET_MAP_PROJECTION_CATALOG= "DSMAP.CAT"
  A_AXIS_RADIUS = 3396.0
  B_AXIS_RADIUS = 3396.0
  C_AXIS_RADIUS = 3396.0
  CENTER_LATITUDE = 0.0
  CENTER_LONGITUDE = 96.0
  COORDINATE_SYSTEM_NAME = PLANETOGRAPHIC
  COORDINATE_SYSTEM_TYPE = "BODY-FIXED ROTATING"
  EASTERNMOST_LONGITUDE = 96.70610000000001
  FIRST_STANDARD_PARALLEL = "N/A"
  LINE_FIRST_PIXEL = 1
  LINE_LAST_PIXEL = 11445
  LINE_PROJECTION_OFFSET = 59793.375
  MAP_PROJECTION_ROTATION = 0.0
  MAP_PROJECTION_TYPE = SINUSOIDAL
  MAP_RESOLUTION = 1185.42760773333
  MAP_SCALE = 0.05
  MAXIMUM_LATITUDE = 50.4457
  MINIMUM_LATITUDE = 40.7979
  POSITIVE_LONGITUDE_DIRECTION = EAST
  REFERENCE_LATITUDE = "N/A"
  REFERENCE_LONGITUDE = "N/A"
  SAMPLE_FIRST_PIXEL = 1
  SAMPLE_LAST_PIXEL = 1897
  SAMPLE_PROJECTION_OFFSET = 1257.875
  SECOND_STANDARD_PARALLEL = "N/A"
  WESTERNMOST_LONGITUDE = 94.3746
END_OBJECT = IMAGE_MAP_PROJECTION
END
