PDS_VERSION_ID = PDS3
/* FILE DATA ELEMENTS */
RECORD_TYPE = UNDEFINED
/* POINTERS TO DATA OBJECTS */
^IMAGE = ("H5287_0000_RE4.TIF")
/* IDENTIFICATION DATA ELEMENTS */
DATA_SET_ID = "MEX-M-HRSC-4-REFDR-MAPPROJECT-EXT2-V4.0"
DATA_SET_NAME = "MARS EXPRESS HRSC MAP PROJECTED REFDR EXTENSION2 V4.0"
DETECTOR_ID = MEX_HRSC_RED
EVENT_TYPE = "MARS-REGIONAL-MAPPING-Te-Pf-Ts"
INSTRUMENT_HOST_ID = MEX
INSTRUMENT_HOST_NAME = "MARS EXPRESS"
INSTRUMENT_ID = HRSC
INSTRUMENT_NAME = "HIGH RESOLUTION STEREO CAMERA"
MISSION_NAME = "MARS EXPRESS"
MISSION_PHASE_NAME = ME_Phase_11
PROCESSING_LEVEL_ID = 4
PRODUCT_CREATION_TIME = 2023-02-01T12:09:47.000Z
PRODUCT_ID = "H5287_0000_RE4.TIF"
RELEASE_ID = 0001
REVISION_ID = 0000
/* QUALITY DATA ELEMENTS */
DATA_QUALITY_ID = 1
DATA_QUALITY_DESC = "Data calculated based on original SPICE kernels"
/* TIME DATA ELEMENTS */
SPACECRAFT_CLOCK_START_COUNT = "1/0150971174.09033"
SPACECRAFT_CLOCK_STOP_COUNT = "1/0150971457.00051"
START_TIME = 2008-02-13T08:27:13.703Z
STOP_TIME = 2008-02-13T08:30:52.931Z
/* ORBITAL DATA ELEMENTS */
ASCENDING_NODE_LONGITUDE = 118.17
MAXIMUM_RESOLUTION = 0.0568
FOOTPRINT_POINT_LATITUDE = (35.5968,35.5926,35.5859,35.577,35.5768 ,35.6338,35.3519,35.0703,34.648,34.3665 ,34.0854,33.8044,33.383,32.9619,32.6814 ,32.4009,32.1207,31.7007,31.4212, 31.1417,30.7227,30.4434,30.1646,29.8861 ,29.4685,29.19,28.9122,28.6347,28.0801, 27.7982,27.5123,27.2267,26.9417,26.514, 26.2277,25.9456,25.6619,25.233,24.81, 24.5264,24.245,23.9652,23.6835,23.4022, 23.1211,22.699,22.4204,22.1412,21.7226, 21.5834,21.5254,21.5259,21.526,21.526, 21.5268,21.806,22.0857,22.3641,22.6431, 22.9247,23.2057,23.4859,23.7703,24.1918 ,24.4764,24.901,25.184,25.4682,25.8944, 26.1788,26.4635,26.7481,27.0341,27.4626 ,27.7484,28.0331,28.3107,28.5883, 28.8664,29.1446,29.5621,29.9802,30.3986 ,30.8184,31.0977,31.3777,31.6582, 32.0787,32.359,32.7803,33.2018,33.4831, 33.7647,34.0461,34.3279,34.7507,35.0327 ,35.456,35.597,35.5968)
FOOTPRINT_POINT_LONGITUDE = (176.884,176.526,176.036,175.479, 175.466,175.435,175.445,175.455,175.469 ,175.478,175.487,175.495,175.507, 175.519,175.527,175.534,175.541,175.551 ,175.557,175.563,175.572,175.578, 175.583,175.588,175.596,175.6,175.605, 175.609,175.617,175.621,175.624,175.627 ,175.63,175.635,175.638,175.64,175.642, 175.646,175.648,175.65,175.651,175.651, 175.652,175.653,175.654,175.655,175.654 ,175.654,175.654,175.654,175.654, 176.193,177.015,177.028,177.032,177.03, 177.028,177.025,177.023,177.021,177.019 ,177.017,177.016,177.012,177.011, 177.007,177.005,177.003,177.0,176.998, 176.995,176.993,176.991,176.987,176.985 ,176.983,176.981,176.978,176.976, 176.974,176.97,176.966,176.962,176.959, 176.956,176.954,176.951,176.947,176.944 ,176.94,176.936,176.933,176.93,176.927, 176.924,176.919,176.916,176.911,176.909 ,176.884)
ORBIT_NUMBER = 5287
ORBITAL_ECCENTRICITY = 0.572
ORBITAL_INCLINATION = 86.74
ORBITAL_SEMIMAJOR_AXIS = 8697.88
PERIAPSIS_ALTITUDE = 334.6
PERIAPSIS_ARGUMENT_ANGLE = 148.21
PERIAPSIS_TIME = 2008-02-13T08:27:48.000Z
SPACECRAFT_ORIENTATION = (0.0,-1.0,0.0)
^MEX_ORIENTATION_DESC = "MEX_ORIENTATION_DESC.TXT"
SPACECRAFT_POINTING_MODE = NADIR
^MEX_POINTING_DESC = "MEX_POINTING_DESC.TXT"
RIGHT_ASCENSION = -1e+32
DECLINATION = -1e+32
OFFSET_ANGLE = -1e+32
SPACECRAFT_SOLAR_DISTANCE = 2.43417e+08
TARGET_NAME = MARS
/* CAMERA DATA ELEMENTS */
DETECTOR_TEMPERATURE = 18.3705
FOCAL_PLANE_TEMPERATURE = 8.5833
INST_CMPRS_NAME = "DISCRETE COSINE TRANSFORMATION (DCT)"
INST_CMPRS_RATIO = 14.7496
INST_CMPRS_QUALITY = 0
INST_CMPRS_QUANTZ_TBL_ID = 0
INSTRUMENT_TEMPERATURE = 11.4379
LENS_TEMPERATURE = 8.5833
MACROPIXEL_SIZE = 4
MISSING_FRAMES = 0
PIXEL_SUBSAMPLING_FLAG = N
SIGNAL_CHAIN_ID = 2
/* RADIOMETRIC DATA ELEMENTS */
BANDWIDTH = 48.0
CENTER_FILTER_WAVELENGTH = 748.0
RADIANCE_OFFSET = 1.50925
RADIANCE_SCALING_FACTOR = 0.00599452
REFLECTANCE_SCALING_FACTOR = 0.000810559
MEX:REFLECTANCE_OFFSET = 0.204076
/* IMAGE OBJECT DEFINITIONS */
OBJECT = IMAGE
  INTERCHANGE_FORMAT = BINARY
  LINES = 16747
  LINE_SAMPLES = 1667
  SAMPLE_TYPE = UNSIGNED_INTEGER
  SAMPLE_BITS = 8
  BANDS = 1
  BAND_STORAGE_TYPE = BAND_SEQUENTIAL
  MAXIMUM = 255
  MEAN = 108.317
  MINIMUM = 1
  STANDARD_DEVIATION = 30.541
END_OBJECT = IMAGE
/* MAP OBJECT DEFINITIONS */
OBJECT = IMAGE_MAP_PROJECTION
  ^DATA_SET_MAP_PROJECTION_CATALOG= "DSMAP.CAT"
  A_AXIS_RADIUS = 3396.0
  B_AXIS_RADIUS = 3396.0
  C_AXIS_RADIUS = 3396.0
  CENTER_LATITUDE = 0.0
  CENTER_LONGITUDE = 176.0
  COORDINATE_SYSTEM_NAME = PLANETOGRAPHIC
  COORDINATE_SYSTEM_TYPE = "BODY-FIXED ROTATING"
  EASTERNMOST_LONGITUDE = 177.032
  FIRST_STANDARD_PARALLEL = "N/A"
  LINE_FIRST_PIXEL = 1
  LINE_LAST_PIXEL = 16747
  LINE_PROJECTION_OFFSET = 42244.375
  MAP_PROJECTION_ROTATION = 0.0
  MAP_PROJECTION_TYPE = SINUSOIDAL
  MAP_RESOLUTION = 1185.42760773333
  MAP_SCALE = 0.05
  MAXIMUM_LATITUDE = 35.6338
  MINIMUM_LATITUDE = 21.5254
  POSITIVE_LONGITUDE_DIRECTION = EAST
  REFERENCE_LATITUDE = "N/A"
  REFERENCE_LONGITUDE = "N/A"
  SAMPLE_FIRST_PIXEL = 1
  SAMPLE_LAST_PIXEL = 1667
  SAMPLE_PROJECTION_OFFSET = 546.875
  SECOND_STANDARD_PARALLEL = "N/A"
  WESTERNMOST_LONGITUDE = 175.435
END_OBJECT = IMAGE_MAP_PROJECTION
END
