PDS_VERSION_ID = PDS3
/* FILE DATA ELEMENTS */
RECORD_TYPE = UNDEFINED
/* POINTERS TO DATA OBJECTS */
^IMAGE = ("H5286_0001_ND4.TIF")
/* IDENTIFICATION DATA ELEMENTS */
DATA_SET_ID = "MEX-M-HRSC-4-REFDR-MAPPROJECT-EXT2-V4.0"
DATA_SET_NAME = "MARS EXPRESS HRSC MAP PROJECTED REFDR EXTENSION2 V4.0"
DETECTOR_ID = MEX_HRSC_NADIR
EVENT_TYPE = "MARS-REGIONAL-MAPPING-Vo"
INSTRUMENT_HOST_ID = MEX
INSTRUMENT_HOST_NAME = "MARS EXPRESS"
INSTRUMENT_ID = HRSC
INSTRUMENT_NAME = "HIGH RESOLUTION STEREO CAMERA"
MISSION_NAME = "MARS EXPRESS"
MISSION_PHASE_NAME = ME_Phase_11
PROCESSING_LEVEL_ID = 4
PRODUCT_CREATION_TIME = 2023-02-01T12:09:47.000Z
PRODUCT_ID = "H5286_0001_ND4.TIF"
RELEASE_ID = 0001
REVISION_ID = 0000
/* QUALITY DATA ELEMENTS */
DATA_QUALITY_ID = 1
DATA_QUALITY_DESC = "Data calculated based on original SPICE kernels"
/* TIME DATA ELEMENTS */
SPACECRAFT_CLOCK_START_COUNT = "1/0150946856.08256"
SPACECRAFT_CLOCK_STOP_COUNT = "1/0150947147.44522"
START_TIME = 2008-02-13T01:41:33.924Z
STOP_TIME = 2008-02-13T01:44:54.897Z
/* ORBITAL DATA ELEMENTS */
ASCENDING_NODE_LONGITUDE = 118.2
MAXIMUM_RESOLUTION = 0.0155
FOOTPRINT_POINT_LATITUDE = (15.0266,15.0287,15.03,15.0303,15.0303, 15.0301,14.566,14.1027,13.6402,13.1786, 12.7178,12.258,11.7991,11.5639,11.3288, 11.094,10.8595,10.6252,10.3852,10.0254, 9.78595,9.54674,9.30258,9.05783,8.81337 ,8.56923,8.32181,8.07221,7.82293, 7.57399,7.32135,7.06704,6.81308,6.55948 ,6.30052,5.91235,5.65405,5.3905,5.12699 ,4.86391,4.59704,4.32884,4.06109, 3.79016,3.51737,3.24505,2.83069,2.69213 ,2.67486,2.6714,2.6671,2.66346,2.65934, 2.65575,2.65554,2.65574,2.93335,3.20976 ,3.48243,3.75557,4.0272,4.29531,4.56385 ,4.83144,5.09486,5.35869,5.62293, 5.88155,6.14057,6.39996,6.78378,7.03805 ,7.29267,7.54599,7.79523,8.0448,8.29471 ,8.5428,8.78723,9.03197,9.27701,9.52184 ,9.76133,10.0011,10.2412,10.4815, 10.7192,10.9538,11.1888,11.424,11.6594, 11.8923,12.352,12.8126,13.274,13.7364, 14.1995,14.8959,15.0121,15.0266)
FOOTPRINT_POINT_LONGITUDE = (277.1,276.646,276.179,275.724,275.711, 275.703,275.697,275.691,275.685,275.678 ,275.671,275.664,275.656,275.652, 275.648,275.643,275.639,275.635,275.63, 275.623,275.618,275.613,275.608,275.602 ,275.597,275.591,275.586,275.58,275.574 ,275.568,275.562,275.556,275.549, 275.543,275.536,275.525,275.518,275.511 ,275.504,275.496,275.489,275.481, 275.473,275.465,275.457,275.448,275.435 ,275.431,275.431,275.761,276.16,276.49, 276.855,277.168,277.186,277.194,277.191 ,277.189,277.186,277.184,277.181, 277.179,277.177,277.174,277.172,277.17, 277.168,277.165,277.163,277.161,277.158 ,277.156,277.154,277.152,277.15,277.148 ,277.146,277.144,277.142,277.141, 277.139,277.137,277.135,277.134,277.132 ,277.13,277.129,277.127,277.126,277.124 ,277.123,277.121,277.118,277.115, 277.112,277.109,277.106,277.102,277.101 ,277.1)
ORBIT_NUMBER = 5286
ORBITAL_ECCENTRICITY = 0.572
ORBITAL_INCLINATION = 86.72
ORBITAL_SEMIMAJOR_AXIS = 8709.82
PERIAPSIS_ALTITUDE = 333.91
PERIAPSIS_ARGUMENT_ANGLE = 148.39
PERIAPSIS_TIME = 2008-02-13T01:37:18.000Z
SPACECRAFT_ORIENTATION = (0.0,-1.0,0.0)
^MEX_ORIENTATION_DESC = "MEX_ORIENTATION_DESC.TXT"
SPACECRAFT_POINTING_MODE = NADIR
^MEX_POINTING_DESC = "MEX_POINTING_DESC.TXT"
RIGHT_ASCENSION = -1e+32
DECLINATION = -1e+32
OFFSET_ANGLE = -1e+32
SPACECRAFT_SOLAR_DISTANCE = 2.43382e+08
TARGET_NAME = MARS
/* CAMERA DATA ELEMENTS */
DETECTOR_TEMPERATURE = 19.5939
FOCAL_PLANE_TEMPERATURE = 8.3794
INST_CMPRS_NAME = "DISCRETE COSINE TRANSFORMATION (DCT)"
INST_CMPRS_RATIO = 6.21487
INST_CMPRS_QUALITY = 0
INST_CMPRS_QUANTZ_TBL_ID = 0
INSTRUMENT_TEMPERATURE = 13.4769
LENS_TEMPERATURE = 7.9716
MACROPIXEL_SIZE = 1
MISSING_FRAMES = 0
PIXEL_SUBSAMPLING_FLAG = N
SIGNAL_CHAIN_ID = 0
/* RADIOMETRIC DATA ELEMENTS */
BANDWIDTH = 177.0
CENTER_FILTER_WAVELENGTH = 677.5
RADIANCE_OFFSET = 4.84537
RADIANCE_SCALING_FACTOR = 0.0206781
REFLECTANCE_SCALING_FACTOR = 0.000650686
MEX:REFLECTANCE_OFFSET = 0.152472
/* IMAGE OBJECT DEFINITIONS */
OBJECT = IMAGE
  INTERCHANGE_FORMAT = BINARY
  LINES = 58678
  LINE_SAMPLES = 8354
  SAMPLE_TYPE = UNSIGNED_INTEGER
  SAMPLE_BITS = 8
  BANDS = 1
  BAND_STORAGE_TYPE = BAND_SEQUENTIAL
  MAXIMUM = 255
  MEAN = 144.573
  MINIMUM = 1
  STANDARD_DEVIATION = 13.5461
END_OBJECT = IMAGE
/* MAP OBJECT DEFINITIONS */
OBJECT = IMAGE_MAP_PROJECTION
  ^DATA_SET_MAP_PROJECTION_CATALOG= "DSMAP.CAT"
  A_AXIS_RADIUS = 3396.0
  B_AXIS_RADIUS = 3396.0
  C_AXIS_RADIUS = 3396.0
  CENTER_LATITUDE = 0.0
  CENTER_LONGITUDE = 276.0
  COORDINATE_SYSTEM_NAME = PLANETOGRAPHIC
  COORDINATE_SYSTEM_TYPE = "BODY-FIXED ROTATING"
  EASTERNMOST_LONGITUDE = 277.194
  FIRST_STANDARD_PARALLEL = "N/A"
  LINE_FIRST_PIXEL = 1
  LINE_LAST_PIXEL = 58678
  LINE_PROJECTION_OFFSET = 71269.0
  MAP_PROJECTION_ROTATION = 0.0
  MAP_PROJECTION_TYPE = SINUSOIDAL
  MAP_RESOLUTION = 4741.71043093333
  MAP_SCALE = 0.0125
  MAXIMUM_LATITUDE = 15.0303
  MINIMUM_LATITUDE = 2.65554
  POSITIVE_LONGITUDE_DIRECTION = EAST
  REFERENCE_LATITUDE = "N/A"
  REFERENCE_LONGITUDE = "N/A"
  SAMPLE_FIRST_PIXEL = 1
  SAMPLE_LAST_PIXEL = 8354
  SAMPLE_PROJECTION_OFFSET = 2697.0
  SECOND_STANDARD_PARALLEL = "N/A"
  WESTERNMOST_LONGITUDE = 275.431
END_OBJECT = IMAGE_MAP_PROJECTION
END
