PDS_VERSION_ID = PDS3
/* FILE DATA ELEMENTS */
RECORD_TYPE = UNDEFINED
/* POINTERS TO DATA OBJECTS */
^IMAGE = ("H5286_0001_BL4.TIF")
/* IDENTIFICATION DATA ELEMENTS */
DATA_SET_ID = "MEX-M-HRSC-4-REFDR-MAPPROJECT-EXT2-V4.0"
DATA_SET_NAME = "MARS EXPRESS HRSC MAP PROJECTED REFDR EXTENSION2 V4.0"
DETECTOR_ID = MEX_HRSC_BLUE
EVENT_TYPE = "MARS-REGIONAL-MAPPING-Vo"
INSTRUMENT_HOST_ID = MEX
INSTRUMENT_HOST_NAME = "MARS EXPRESS"
INSTRUMENT_ID = HRSC
INSTRUMENT_NAME = "HIGH RESOLUTION STEREO CAMERA"
MISSION_NAME = "MARS EXPRESS"
MISSION_PHASE_NAME = ME_Phase_11
PROCESSING_LEVEL_ID = 4
PRODUCT_CREATION_TIME = 2023-02-01T12:09:47.000Z
PRODUCT_ID = "H5286_0001_BL4.TIF"
RELEASE_ID = 0001
REVISION_ID = 0000
/* QUALITY DATA ELEMENTS */
DATA_QUALITY_ID = 1
DATA_QUALITY_DESC = "Data calculated based on original SPICE kernels"
/* TIME DATA ELEMENTS */
SPACECRAFT_CLOCK_START_COUNT = "1/0150946856.08256"
SPACECRAFT_CLOCK_STOP_COUNT = "1/0150947147.44522"
START_TIME = 2008-02-13T01:41:40.138Z
STOP_TIME = 2008-02-13T01:45:03.659Z
/* ORBITAL DATA ELEMENTS */
ASCENDING_NODE_LONGITUDE = 118.2
MAXIMUM_RESOLUTION = 0.0623
FOOTPRINT_POINT_LATITUDE = (15.016,15.0181,15.0197,15.0205,15.0205 ,15.0202,14.5609,14.1027,13.6452, 13.1887,12.7333,12.2789,12.048,11.8153, 11.5829,11.3506,11.1187,10.8833,10.6459 ,10.4088,10.172,9.93546,9.69324,9.4513, 9.20976,8.96849,8.72318,8.47655,8.23031 ,7.98442,7.6085,7.35759,7.10702,6.72558 ,6.47001,6.21486,5.82678,5.56678, 5.30723,5.04325,4.77876,4.51472,4.24689 ,3.97796,3.70939,3.43708,3.16378, 2.89106,2.75208,2.65866,2.65294,2.64791 ,2.64408,2.63886,2.63867,2.63981, 2.91719,3.19047,3.46427,3.73611,4.00501 ,4.27446,4.67393,4.93877,5.33471, 5.59465,5.85501,6.1152,6.37054,6.75427, 7.01006,7.26081,7.51189,7.76344,8.01307 ,8.25937,8.506,8.75298,8.99762,9.23923, 9.48121,9.72352,9.9651,10.202,10.4392, 10.7954,11.0331,11.2652,11.4976,11.7302 ,11.963,12.1962,12.6509,13.1067,13.5635 ,14.0213,14.4799,14.8245,14.9395, 15.016)
FOOTPRINT_POINT_LONGITUDE = (277.105,276.688,276.219,275.724, 275.711,275.707,275.701,275.695,275.689 ,275.682,275.675,275.667,275.663, 275.659,275.655,275.651,275.647,275.642 ,275.638,275.633,275.628,275.623, 275.618,275.613,275.608,275.603,275.597 ,275.591,275.586,275.58,275.571,275.564 ,275.558,275.548,275.542,275.535, 275.524,275.517,275.51,275.502,275.495, 275.487,275.479,275.471,275.463,275.455 ,275.446,275.437,275.433,275.43,275.925 ,276.372,276.72,277.184,277.2,277.206, 277.203,277.2,277.198,277.195,277.192, 277.19,277.186,277.184,277.18,277.178, 277.175,277.173,277.171,277.167,277.165 ,277.163,277.161,277.159,277.157, 277.155,277.153,277.151,277.149,277.147 ,277.145,277.143,277.141,277.14,277.138 ,277.135,277.134,277.132,277.131, 277.129,277.127,277.126,277.122,277.119 ,277.116,277.113,277.11,277.108,277.107 ,277.105)
ORBIT_NUMBER = 5286
ORBITAL_ECCENTRICITY = 0.572
ORBITAL_INCLINATION = 86.72
ORBITAL_SEMIMAJOR_AXIS = 8709.82
PERIAPSIS_ALTITUDE = 333.91
PERIAPSIS_ARGUMENT_ANGLE = 148.39
PERIAPSIS_TIME = 2008-02-13T01:37:18.000Z
SPACECRAFT_ORIENTATION = (0.0,-1.0,0.0)
^MEX_ORIENTATION_DESC = "MEX_ORIENTATION_DESC.TXT"
SPACECRAFT_POINTING_MODE = NADIR
^MEX_POINTING_DESC = "MEX_POINTING_DESC.TXT"
RIGHT_ASCENSION = -1e+32
DECLINATION = -1e+32
OFFSET_ANGLE = -1e+32
SPACECRAFT_SOLAR_DISTANCE = 2.43382e+08
TARGET_NAME = MARS
/* CAMERA DATA ELEMENTS */
DETECTOR_TEMPERATURE = 19.5939
FOCAL_PLANE_TEMPERATURE = 8.3794
INST_CMPRS_NAME = "DISCRETE COSINE TRANSFORMATION (DCT)"
INST_CMPRS_RATIO = 18.647
INST_CMPRS_QUALITY = 0
INST_CMPRS_QUANTZ_TBL_ID = 0
INSTRUMENT_TEMPERATURE = 13.4769
LENS_TEMPERATURE = 7.9716
MACROPIXEL_SIZE = 4
MISSING_FRAMES = 0
PIXEL_SUBSAMPLING_FLAG = N
SIGNAL_CHAIN_ID = 2
/* RADIOMETRIC DATA ELEMENTS */
BANDWIDTH = 76.0
CENTER_FILTER_WAVELENGTH = 444.0
RADIANCE_OFFSET = 0.622713
RADIANCE_SCALING_FACTOR = 0.00192401
REFLECTANCE_SCALING_FACTOR = 0.000117096
MEX:REFLECTANCE_OFFSET = 0.0378985
/* IMAGE OBJECT DEFINITIONS */
OBJECT = IMAGE
  INTERCHANGE_FORMAT = BINARY
  LINES = 14670
  LINE_SAMPLES = 2089
  SAMPLE_TYPE = UNSIGNED_INTEGER
  SAMPLE_BITS = 8
  BANDS = 1
  BAND_STORAGE_TYPE = BAND_SEQUENTIAL
  MAXIMUM = 255
  MEAN = 137.617
  MINIMUM = 1
  STANDARD_DEVIATION = 14.2096
END_OBJECT = IMAGE
/* MAP OBJECT DEFINITIONS */
OBJECT = IMAGE_MAP_PROJECTION
  ^DATA_SET_MAP_PROJECTION_CATALOG= "DSMAP.CAT"
  A_AXIS_RADIUS = 3396.0
  B_AXIS_RADIUS = 3396.0
  C_AXIS_RADIUS = 3396.0
  CENTER_LATITUDE = 0.0
  CENTER_LONGITUDE = 276.0
  COORDINATE_SYSTEM_NAME = PLANETOGRAPHIC
  COORDINATE_SYSTEM_TYPE = "BODY-FIXED ROTATING"
  EASTERNMOST_LONGITUDE = 277.206
  FIRST_STANDARD_PARALLEL = "N/A"
  LINE_FIRST_PIXEL = 1
  LINE_LAST_PIXEL = 14670
  LINE_PROJECTION_OFFSET = 17816.875
  MAP_PROJECTION_ROTATION = 0.0
  MAP_PROJECTION_TYPE = SINUSOIDAL
  MAP_RESOLUTION = 1185.42760773333
  MAP_SCALE = 0.05
  MAXIMUM_LATITUDE = 15.0205
  MINIMUM_LATITUDE = 2.63867
  POSITIVE_LONGITUDE_DIRECTION = EAST
  REFERENCE_LATITUDE = "N/A"
  REFERENCE_LONGITUDE = "N/A"
  SAMPLE_FIRST_PIXEL = 1
  SAMPLE_LAST_PIXEL = 2089
  SAMPLE_PROJECTION_OFFSET = 673.875
  SECOND_STANDARD_PARALLEL = "N/A"
  WESTERNMOST_LONGITUDE = 275.43
END_OBJECT = IMAGE_MAP_PROJECTION
END
