PDS_VERSION_ID = PDS3
/* FILE DATA ELEMENTS */
RECORD_TYPE = UNDEFINED
/* POINTERS TO DATA OBJECTS */
^IMAGE = ("H5282_0000_IR4.TIF")
/* IDENTIFICATION DATA ELEMENTS */
DATA_SET_ID = "MEX-M-HRSC-4-REFDR-MAPPROJECT-EXT2-V4.0"
DATA_SET_NAME = "MARS EXPRESS HRSC MAP PROJECTED REFDR EXTENSION2 V4.0"
DETECTOR_ID = MEX_HRSC_IR
EVENT_TYPE = "MARS-REGIONAL-MAPPING-Fl-Lc-Pf"
INSTRUMENT_HOST_ID = MEX
INSTRUMENT_HOST_NAME = "MARS EXPRESS"
INSTRUMENT_ID = HRSC
INSTRUMENT_NAME = "HIGH RESOLUTION STEREO CAMERA"
MISSION_NAME = "MARS EXPRESS"
MISSION_PHASE_NAME = ME_Phase_11
PROCESSING_LEVEL_ID = 4
PRODUCT_CREATION_TIME = 2023-02-01T12:09:47.000Z
PRODUCT_ID = "H5282_0000_IR4.TIF"
RELEASE_ID = 0001
REVISION_ID = 0000
/* QUALITY DATA ELEMENTS */
DATA_QUALITY_ID = 1
DATA_QUALITY_DESC = "Data calculated based on original SPICE kernels"
/* TIME DATA ELEMENTS */
SPACECRAFT_CLOCK_START_COUNT = "1/0150848156.08238"
SPACECRAFT_CLOCK_STOP_COUNT = "1/0150848432.48724"
START_TIME = 2008-02-11T22:16:04.874Z
STOP_TIME = 2008-02-11T22:19:25.053Z
/* ORBITAL DATA ELEMENTS */
ASCENDING_NODE_LONGITUDE = 118.28
MAXIMUM_RESOLUTION = 0.0568
FOOTPRINT_POINT_LATITUDE = (25.256,25.2548,25.2516,25.2474,25.2472 ,25.2061,24.5935,24.2256,23.8578,23.366 ,23.1125,22.8588,22.6051,22.3514, 22.0977,21.8439,21.5901,21.2093,20.9555 ,20.7016,20.4478,20.1939,19.8132, 19.5593,19.1785,18.9247,18.671,18.4129, 18.1574,17.9085,17.5295,17.2759,17.0225 ,16.7692,16.389,16.1361,15.8826,15.6289 ,15.376,15.1054,14.8032,14.3506,14.0484 ,13.5958,13.294,12.9927,12.691,12.2391, 12.0889,12.0747,12.0748,12.0735,12.072, 12.0686,12.0685,12.0695,12.3707,12.8228 ,13.124,13.4256,13.879,14.182,14.4837, 14.7859,15.0886,15.3619,15.6153,15.8689 ,16.1226,16.3759,16.6284,16.8824, 17.1366,17.5177,17.7714,18.1526,18.5339 ,18.7882,19.0424,19.2964,19.5502, 19.8042,20.0584,20.44,20.8211,21.0753, 21.3294,21.5834,21.8375,22.0915,22.3456 ,22.7266,23.1076,23.3615,23.6086, 24.0997,24.5907,25.0815,25.2042,25.256)
FOOTPRINT_POINT_LONGITUDE = (317.335,316.868,316.426,316.067, 316.055,316.036,316.042,316.045,316.047 ,316.05,316.052,316.053,316.054,316.055 ,316.056,316.057,316.057,316.058, 316.058,316.058,316.058,316.058,316.058 ,316.057,316.057,316.056,316.055, 316.052,316.051,316.051,316.05,316.049, 316.047,316.046,316.043,316.041,316.039 ,316.037,316.035,316.032,316.029, 316.025,316.021,316.016,316.012,316.008 ,316.004,315.998,315.995,315.995, 316.388,316.649,316.977,317.383,317.396 ,317.401,317.399,317.398,317.397, 317.396,317.394,317.392,317.391,317.39, 317.389,317.388,317.387,317.386,317.385 ,317.384,317.384,317.383,317.382, 317.381,317.38,317.378,317.377,317.376, 317.375,317.374,317.373,317.372,317.371 ,317.37,317.368,317.368,317.367,317.366 ,317.365,317.364,317.363,317.361,317.36 ,317.359,317.358,317.356,317.354, 317.352,317.351,317.335)
ORBIT_NUMBER = 5282
ORBITAL_ECCENTRICITY = 0.572
ORBITAL_INCLINATION = 86.74
ORBITAL_SEMIMAJOR_AXIS = 8700.88
PERIAPSIS_ALTITUDE = 334.01
PERIAPSIS_ARGUMENT_ANGLE = 149.1
PERIAPSIS_TIME = 2008-02-11T22:15:03.000Z
SPACECRAFT_ORIENTATION = (0.0,-1.0,0.0)
^MEX_ORIENTATION_DESC = "MEX_ORIENTATION_DESC.TXT"
SPACECRAFT_POINTING_MODE = NADIR
^MEX_POINTING_DESC = "MEX_POINTING_DESC.TXT"
RIGHT_ASCENSION = -1e+32
DECLINATION = -1e+32
OFFSET_ANGLE = -1e+32
SPACECRAFT_SOLAR_DISTANCE = 2.43238e+08
TARGET_NAME = MARS
/* CAMERA DATA ELEMENTS */
DETECTOR_TEMPERATURE = 17.351
FOCAL_PLANE_TEMPERATURE = 8.3794
INST_CMPRS_NAME = "DISCRETE COSINE TRANSFORMATION (DCT)"
INST_CMPRS_RATIO = 14.8936
INST_CMPRS_QUALITY = 0
INST_CMPRS_QUANTZ_TBL_ID = 0
INSTRUMENT_TEMPERATURE = 11.234
LENS_TEMPERATURE = 8.5833
MACROPIXEL_SIZE = 4
MISSING_FRAMES = 0
PIXEL_SUBSAMPLING_FLAG = N
SIGNAL_CHAIN_ID = 2
/* RADIOMETRIC DATA ELEMENTS */
BANDWIDTH = 81.0
CENTER_FILTER_WAVELENGTH = 955.5
RADIANCE_OFFSET = 0.940003
RADIANCE_SCALING_FACTOR = 0.00507734
REFLECTANCE_SCALING_FACTOR = 0.000648077
MEX:REFLECTANCE_OFFSET = 0.119983
/* IMAGE OBJECT DEFINITIONS */
OBJECT = IMAGE
  INTERCHANGE_FORMAT = BINARY
  LINES = 15580
  LINE_SAMPLES = 1688
  SAMPLE_TYPE = UNSIGNED_INTEGER
  SAMPLE_BITS = 8
  BANDS = 1
  BAND_STORAGE_TYPE = BAND_SEQUENTIAL
  MAXIMUM = 255
  MEAN = 139.761
  MINIMUM = 1
  STANDARD_DEVIATION = 31.8619
END_OBJECT = IMAGE
/* MAP OBJECT DEFINITIONS */
OBJECT = IMAGE_MAP_PROJECTION
  ^DATA_SET_MAP_PROJECTION_CATALOG= "DSMAP.CAT"
  A_AXIS_RADIUS = 3396.0
  B_AXIS_RADIUS = 3396.0
  C_AXIS_RADIUS = 3396.0
  CENTER_LATITUDE = 0.0
  CENTER_LONGITUDE = 317.0
  COORDINATE_SYSTEM_NAME = PLANETOGRAPHIC
  COORDINATE_SYSTEM_TYPE = "BODY-FIXED ROTATING"
  EASTERNMOST_LONGITUDE = 317.401
  FIRST_STANDARD_PARALLEL = "N/A"
  LINE_FIRST_PIXEL = 1
  LINE_LAST_PIXEL = 15580
  LINE_PROJECTION_OFFSET = 29920.375
  MAP_PROJECTION_ROTATION = 0.0
  MAP_PROJECTION_TYPE = SINUSOIDAL
  MAP_RESOLUTION = 1185.42760773333
  MAP_SCALE = 0.05
  MAXIMUM_LATITUDE = 25.256
  MINIMUM_LATITUDE = 12.0685
  POSITIVE_LONGITUDE_DIRECTION = EAST
  REFERENCE_LATITUDE = "N/A"
  REFERENCE_LONGITUDE = "N/A"
  SAMPLE_FIRST_PIXEL = 1
  SAMPLE_LAST_PIXEL = 1688
  SAMPLE_PROJECTION_OFFSET = 1195.875
  SECOND_STANDARD_PARALLEL = "N/A"
  WESTERNMOST_LONGITUDE = 315.995
END_OBJECT = IMAGE_MAP_PROJECTION
END
