PDS_VERSION_ID = PDS3
/* FILE DATA ELEMENTS */
RECORD_TYPE = UNDEFINED
/* POINTERS TO DATA OBJECTS */
^IMAGE = ("H5281_0000_P14.TIF")
/* IDENTIFICATION DATA ELEMENTS */
DATA_SET_ID = "MEX-M-HRSC-4-REFDR-MAPPROJECT-EXT2-V4.0"
DATA_SET_NAME = "MARS EXPRESS HRSC MAP PROJECTED REFDR EXTENSION2 V4.0"
DETECTOR_ID = MEX_HRSC_P1
EVENT_TYPE = "MARS-REGIONAL-MAPPING-Te-Gl-Mw"
INSTRUMENT_HOST_ID = MEX
INSTRUMENT_HOST_NAME = "MARS EXPRESS"
INSTRUMENT_ID = HRSC
INSTRUMENT_NAME = "HIGH RESOLUTION STEREO CAMERA"
MISSION_NAME = "MARS EXPRESS"
MISSION_PHASE_NAME = ME_Phase_11
PROCESSING_LEVEL_ID = 4
PRODUCT_CREATION_TIME = 2023-02-01T12:09:47.000Z
PRODUCT_ID = "H5281_0000_P14.TIF"
RELEASE_ID = 0001
REVISION_ID = 0000
/* QUALITY DATA ELEMENTS */
DATA_QUALITY_ID = 1
DATA_QUALITY_DESC = "Data calculated based on original SPICE kernels"
/* TIME DATA ELEMENTS */
SPACECRAFT_CLOCK_START_COUNT = "1/0150823137.07294"
SPACECRAFT_CLOCK_STOP_COUNT = "1/0150823473.48009"
START_TIME = 2008-02-11T15:19:15.411Z
STOP_TIME = 2008-02-11T15:23:46.135Z
/* ORBITAL DATA ELEMENTS */
ASCENDING_NODE_LONGITUDE = 118.3
MAXIMUM_RESOLUTION = 0.0276
FOOTPRINT_POINT_LATITUDE = (49.4763,49.4629,49.4237,49.423,49.3646 ,48.9885,48.4247,48.0555,47.6856, 47.1357,46.7741,46.4108,45.8649,45.4993 ,45.1303,44.7624,44.3954,44.028,43.6559 ,43.2849,42.9146,42.5404,42.1721, 41.6141,41.2996,40.9881,40.6693,40.1997 ,39.885,39.4118,38.7872,38.4682,38.1528 ,37.8355,37.5164,37.0366,36.7139, 36.3945,36.0766,35.7632,35.4424,34.963, 34.6423,34.1598,33.6802,33.3683,33.0524 ,32.5893,32.433,32.4056,32.4096,32.4116 ,32.4116,32.4119,32.7244,33.0372, 33.3497,33.6619,34.1412,34.4624,34.9448 ,35.4281,35.9016,36.3805,36.7005, 37.0201,37.4989,37.8182,38.1365,38.6113 ,38.9285,39.2448,39.5625,39.8777,40.196 ,40.6662,40.9806,41.4521,41.7893, 42.1628,42.537,42.9133,43.2834,43.6546, 44.2136,44.5827,45.1358,45.506,45.8725, 46.2385,46.6032,46.9672,47.3308,47.7007 ,48.0722,48.4428,48.8195,49.1983, 49.3871,49.4763)
FOOTPRINT_POINT_LONGITUDE = (57.4227,56.6176,55.2145,55.193,55.1614 ,55.2031,55.2632,55.3011,55.3381, 55.3913,55.4253,55.4581,55.506,55.5366, 55.5672,55.596,55.6246,55.6526,55.6802, 55.7059,55.7314,55.7568,55.7822,55.8169 ,55.8351,55.8542,55.8703,55.8972, 55.9141,55.9386,55.9727,55.9869,56.0021 ,56.0165,56.0299,56.0492,56.0607, 56.0732,56.086,56.1001,56.1114,56.1285, 56.1393,56.1545,56.1689,56.1779,56.1853 ,56.1997,56.2038,56.2045,56.7406, 57.5793,57.5929,57.5978,57.597,57.5958, 57.5946,57.5933,57.5912,57.5905,57.5884 ,57.585,57.5887,57.5875,57.5857,57.584, 57.5813,57.5789,57.5771,57.5759,57.5741 ,57.5726,57.5697,57.5684,57.5642, 57.5631,57.5611,57.5574,57.5548,57.5521 ,57.548,57.5449,57.5431,57.5397,57.5347 ,57.5313,57.5253,57.5226,57.5189, 57.5148,57.5112,57.5074,57.5031,57.499, 57.4947,57.4902,57.4851,57.4799,57.4776 ,57.4227)
ORBIT_NUMBER = 5281
ORBITAL_ECCENTRICITY = 0.572
ORBITAL_INCLINATION = 86.74
ORBITAL_SEMIMAJOR_AXIS = 8709.14
PERIAPSIS_ALTITUDE = 333.45
PERIAPSIS_ARGUMENT_ANGLE = 149.28
PERIAPSIS_TIME = 2008-02-11T15:24:32.000Z
SPACECRAFT_ORIENTATION = (0.0,-1.0,0.0)
^MEX_ORIENTATION_DESC = "MEX_ORIENTATION_DESC.TXT"
SPACECRAFT_POINTING_MODE = ACROSSTRACK
^MEX_POINTING_DESC = "MEX_POINTING_DESC.TXT"
RIGHT_ASCENSION = -1e+32
DECLINATION = -1e+32
OFFSET_ANGLE = 0.188
SPACECRAFT_SOLAR_DISTANCE = 2.43202e+08
TARGET_NAME = MARS
/* CAMERA DATA ELEMENTS */
DETECTOR_TEMPERATURE = 17.351
FOCAL_PLANE_TEMPERATURE = 7.3599
INST_CMPRS_NAME = "DISCRETE COSINE TRANSFORMATION (DCT)"
INST_CMPRS_RATIO = 7.48873
INST_CMPRS_QUALITY = 0
INST_CMPRS_QUANTZ_TBL_ID = 0
INSTRUMENT_TEMPERATURE = 11.0301
LENS_TEMPERATURE = 8.1755
MACROPIXEL_SIZE = 2
PIXEL_SUBSAMPLING_FLAG = N
SIGNAL_CHAIN_ID = 3
/* RADIOMETRIC DATA ELEMENTS */
BANDWIDTH = 174.0
CENTER_FILTER_WAVELENGTH = 675.0
RADIANCE_OFFSET = 2.83794
RADIANCE_SCALING_FACTOR = 0.0250741
REFLECTANCE_SCALING_FACTOR = 0.000797706
MEX:REFLECTANCE_OFFSET = 0.0902857
/* IMAGE OBJECT DEFINITIONS */
OBJECT = IMAGE
  INTERCHANGE_FORMAT = BINARY
  LINES = 40348
  LINE_SAMPLES = 3974
  SAMPLE_TYPE = UNSIGNED_INTEGER
  SAMPLE_BITS = 8
  BANDS = 1
  BAND_STORAGE_TYPE = BAND_SEQUENTIAL
  MAXIMUM = 255
  MEAN = 132.915
  MINIMUM = 1
  STANDARD_DEVIATION = 33.6187
END_OBJECT = IMAGE
/* MAP OBJECT DEFINITIONS */
OBJECT = IMAGE_MAP_PROJECTION
  ^DATA_SET_MAP_PROJECTION_CATALOG= "DSMAP.CAT"
  A_AXIS_RADIUS = 3396.0
  B_AXIS_RADIUS = 3396.0
  C_AXIS_RADIUS = 3396.0
  CENTER_LATITUDE = 0.0
  CENTER_LONGITUDE = 57.0
  COORDINATE_SYSTEM_NAME = PLANETOGRAPHIC
  COORDINATE_SYSTEM_TYPE = "BODY-FIXED ROTATING"
  EASTERNMOST_LONGITUDE = 57.5978
  FIRST_STANDARD_PARALLEL = "N/A"
  LINE_FIRST_PIXEL = 1
  LINE_LAST_PIXEL = 40348
  LINE_PROJECTION_OFFSET = 117200.75
  MAP_PROJECTION_ROTATION = 0.0
  MAP_PROJECTION_TYPE = SINUSOIDAL
  MAP_RESOLUTION = 2370.85521546667
  MAP_SCALE = 0.025
  MAXIMUM_LATITUDE = 49.4763
  MINIMUM_LATITUDE = 32.4056
  POSITIVE_LONGITUDE_DIRECTION = EAST
  REFERENCE_LATITUDE = "N/A"
  REFERENCE_LONGITUDE = "N/A"
  SAMPLE_FIRST_PIXEL = 1
  SAMPLE_LAST_PIXEL = 3974
  SAMPLE_PROJECTION_OFFSET = 2787.25
  SECOND_STANDARD_PARALLEL = "N/A"
  WESTERNMOST_LONGITUDE = 55.1614
END_OBJECT = IMAGE_MAP_PROJECTION
END
