PDS_VERSION_ID = PDS3
/* FILE DATA ELEMENTS */
RECORD_TYPE = UNDEFINED
/* POINTERS TO DATA OBJECTS */
^IMAGE = ("H5276_0000_RE4.TIF")
/* IDENTIFICATION DATA ELEMENTS */
DATA_SET_ID = "MEX-M-HRSC-4-REFDR-MAPPROJECT-EXT2-V4.0"
DATA_SET_NAME = "MARS EXPRESS HRSC MAP PROJECTED REFDR EXTENSION2 V4.0"
DETECTOR_ID = MEX_HRSC_RED
EVENT_TYPE = "MARS-REGIONAL-MAPPING-Vo-Eo-La"
INSTRUMENT_HOST_ID = MEX
INSTRUMENT_HOST_NAME = "MARS EXPRESS"
INSTRUMENT_ID = HRSC
INSTRUMENT_NAME = "HIGH RESOLUTION STEREO CAMERA"
MISSION_NAME = "MARS EXPRESS"
MISSION_PHASE_NAME = ME_Phase_11
PROCESSING_LEVEL_ID = 4
PRODUCT_CREATION_TIME = 2023-02-01T12:09:47.000Z
PRODUCT_ID = "H5276_0000_RE4.TIF"
RELEASE_ID = 0001
REVISION_ID = 0000
/* QUALITY DATA ELEMENTS */
DATA_QUALITY_ID = 1
DATA_QUALITY_DESC = "Data calculated based on original SPICE kernels"
/* TIME DATA ELEMENTS */
SPACECRAFT_CLOCK_START_COUNT = "1/0150700404.08252"
SPACECRAFT_CLOCK_STOP_COUNT = "1/0150700622.14937"
START_TIME = 2008-02-10T05:14:24.790Z
STOP_TIME = 2008-02-10T05:16:57.135Z
/* ORBITAL DATA ELEMENTS */
ASCENDING_NODE_LONGITUDE = 118.4
MAXIMUM_RESOLUTION = 0.1196
FOOTPRINT_POINT_LATITUDE = (21.3738,21.3702,21.3676,21.3656, 21.3637,21.3607,21.3605,21.3957,21.2251 ,20.9691,20.799,20.6289,20.4589,20.2889 ,19.9496,19.5262,19.188,18.8503,18.4294 ,18.0933,17.7577,17.4625,17.2629, 17.0635,16.8644,16.6654,16.4667,16.2682 ,16.0699,15.8718,15.6738,15.4762, 15.2788,15.0818,14.8848,14.6882,14.4917 ,14.2961,14.0018,13.7087,13.5136, 13.3187,13.1241,12.9297,12.7357,12.5419 ,12.3482,12.1549,12.0583,11.9997, 12.0003,12.001,12.0017,12.0024,12.0034, 12.0035,12.0054,12.1987,12.3924,12.5862 ,12.7803,12.9747,13.169,13.3643,13.5595 ,13.7549,13.9505,14.1464,14.3426,14.539 ,14.7356,14.9325,15.1296,15.3269, 15.5245,15.7223,15.9203,16.1187,16.3172 ,16.5159,16.715,16.9143,17.1138,17.3134 ,17.5133,17.8024,18.1383,18.475,18.8966 ,19.3193,19.8271,20.1663,20.3363, 20.5074,20.6777,20.8472,21.018,21.2741, 21.3596,21.3738)
FOOTPRINT_POINT_LONGITUDE = (198.003,197.633,197.374,197.178, 196.995,196.714,196.701,196.686,196.685 ,196.685,196.684,196.684,196.683, 196.683,196.681,196.679,196.677,196.675 ,196.672,196.67,196.667,196.664,196.662 ,196.661,196.659,196.657,196.654, 196.652,196.65,196.648,196.645,196.643, 196.64,196.638,196.635,196.633,196.63, 196.627,196.623,196.618,196.615,196.612 ,196.609,196.606,196.602,196.599, 196.596,196.592,196.59,196.589,196.92, 197.309,197.532,197.741,198.049,198.063 ,198.073,198.071,198.07,198.069,198.067 ,198.066,198.065,198.064,198.062, 198.061,198.06,198.059,198.058,198.056, 198.055,198.054,198.053,198.052,198.051 ,198.05,198.049,198.048,198.046,198.045 ,198.044,198.043,198.042,198.041,198.04 ,198.039,198.037,198.036,198.034, 198.032,198.029,198.028,198.027,198.027 ,198.026,198.025,198.024,198.023, 198.023,198.003)
ORBIT_NUMBER = 5276
ORBITAL_ECCENTRICITY = 0.572
ORBITAL_INCLINATION = 86.74
ORBITAL_SEMIMAJOR_AXIS = 8701.83
PERIAPSIS_ALTITUDE = 333.26
PERIAPSIS_ARGUMENT_ANGLE = 150.14
PERIAPSIS_TIME = 2008-02-10T05:11:48.000Z
SPACECRAFT_ORIENTATION = (0.0,-1.0,0.0)
^MEX_ORIENTATION_DESC = "MEX_ORIENTATION_DESC.TXT"
SPACECRAFT_POINTING_MODE = ACROSSTRACK
^MEX_POINTING_DESC = "MEX_POINTING_DESC.TXT"
RIGHT_ASCENSION = -1e+32
DECLINATION = -1e+32
OFFSET_ANGLE = 0.2
SPACECRAFT_SOLAR_DISTANCE = 2.43019e+08
TARGET_NAME = MARS
/* CAMERA DATA ELEMENTS */
DETECTOR_TEMPERATURE = 18.5744
FOCAL_PLANE_TEMPERATURE = 8.7872
INST_CMPRS_NAME = "DISCRETE COSINE TRANSFORMATION (DCT)"
INST_CMPRS_RATIO = 21.0395
INST_CMPRS_QUALITY = 0
INST_CMPRS_QUANTZ_TBL_ID = 0
INSTRUMENT_TEMPERATURE = 11.234
LENS_TEMPERATURE = 8.7872
MACROPIXEL_SIZE = 8
MISSING_FRAMES = 0
PIXEL_SUBSAMPLING_FLAG = N
SIGNAL_CHAIN_ID = 2
/* RADIOMETRIC DATA ELEMENTS */
BANDWIDTH = 48.0
CENTER_FILTER_WAVELENGTH = 748.0
RADIANCE_OFFSET = 1.46584
RADIANCE_SCALING_FACTOR = 0.00555678
REFLECTANCE_SCALING_FACTOR = 0.000748913
MEX:REFLECTANCE_OFFSET = 0.197558
/* IMAGE OBJECT DEFINITIONS */
OBJECT = IMAGE
  INTERCHANGE_FORMAT = BINARY
  LINES = 5578
  LINE_SAMPLES = 831
  SAMPLE_TYPE = UNSIGNED_INTEGER
  SAMPLE_BITS = 8
  BANDS = 1
  BAND_STORAGE_TYPE = BAND_SEQUENTIAL
  MAXIMUM = 255
  MEAN = 125.957
  MINIMUM = 1
  STANDARD_DEVIATION = 9.67418
END_OBJECT = IMAGE
/* MAP OBJECT DEFINITIONS */
OBJECT = IMAGE_MAP_PROJECTION
  ^DATA_SET_MAP_PROJECTION_CATALOG= "DSMAP.CAT"
  A_AXIS_RADIUS = 3396.0
  B_AXIS_RADIUS = 3396.0
  C_AXIS_RADIUS = 3396.0
  CENTER_LATITUDE = 0.0
  CENTER_LONGITUDE = 197.0
  COORDINATE_SYSTEM_NAME = PLANETOGRAPHIC
  COORDINATE_SYSTEM_TYPE = "BODY-FIXED ROTATING"
  EASTERNMOST_LONGITUDE = 198.073
  FIRST_STANDARD_PARALLEL = "N/A"
  LINE_FIRST_PIXEL = 1
  LINE_LAST_PIXEL = 5578
  LINE_PROJECTION_OFFSET = 12672.1875
  MAP_PROJECTION_ROTATION = 0.0
  MAP_PROJECTION_TYPE = SINUSOIDAL
  MAP_RESOLUTION = 592.713803866667
  MAP_SCALE = 0.1
  MAXIMUM_LATITUDE = 21.3957
  MINIMUM_LATITUDE = 11.9997
  POSITIVE_LONGITUDE_DIRECTION = EAST
  REFERENCE_LATITUDE = "N/A"
  REFERENCE_LONGITUDE = "N/A"
  SAMPLE_FIRST_PIXEL = 1
  SAMPLE_LAST_PIXEL = 831
  SAMPLE_PROJECTION_OFFSET = 227.1875
  SECOND_STANDARD_PARALLEL = "N/A"
  WESTERNMOST_LONGITUDE = 196.589
END_OBJECT = IMAGE_MAP_PROJECTION
END
