PDS_VERSION_ID = PDS3
/* FILE DATA ELEMENTS */
RECORD_TYPE = UNDEFINED
/* POINTERS TO DATA OBJECTS */
^IMAGE = ("H5276_0000_P14.TIF")
/* IDENTIFICATION DATA ELEMENTS */
DATA_SET_ID = "MEX-M-HRSC-4-REFDR-MAPPROJECT-EXT2-V4.0"
DATA_SET_NAME = "MARS EXPRESS HRSC MAP PROJECTED REFDR EXTENSION2 V4.0"
DETECTOR_ID = MEX_HRSC_P1
EVENT_TYPE = "MARS-REGIONAL-MAPPING-Vo-Eo-La"
INSTRUMENT_HOST_ID = MEX
INSTRUMENT_HOST_NAME = "MARS EXPRESS"
INSTRUMENT_ID = HRSC
INSTRUMENT_NAME = "HIGH RESOLUTION STEREO CAMERA"
MISSION_NAME = "MARS EXPRESS"
MISSION_PHASE_NAME = ME_Phase_11
PROCESSING_LEVEL_ID = 4
PRODUCT_CREATION_TIME = 2023-02-01T12:09:47.000Z
PRODUCT_ID = "H5276_0000_P14.TIF"
RELEASE_ID = 0001
REVISION_ID = 0000
/* QUALITY DATA ELEMENTS */
DATA_QUALITY_ID = 1
DATA_QUALITY_DESC = "Data calculated based on original SPICE kernels"
/* TIME DATA ELEMENTS */
SPACECRAFT_CLOCK_START_COUNT = "1/0150700404.08252"
SPACECRAFT_CLOCK_STOP_COUNT = "1/0150700622.14937"
START_TIME = 2008-02-10T05:13:38.236Z
STOP_TIME = 2008-02-10T05:16:02.092Z
/* ORBITAL DATA ELEMENTS */
ASCENDING_NODE_LONGITUDE = 118.4
MAXIMUM_RESOLUTION = 0.0569
FOOTPRINT_POINT_LATITUDE = (21.3858,21.3886,21.3915,21.3927, 21.3933,21.3933,21.3644,21.094,20.9137, 20.7332,20.5529,20.3724,20.1923,20.0119 ,19.7413,19.561,19.3807,19.2005,18.9303 ,18.7499,18.5696,18.2993,18.0289, 17.8487,17.6686,17.3985,17.2183,17.0383 ,16.8583,16.6783,16.4983,16.2284, 16.0486,15.6892,15.3296,14.9704,14.5216 ,14.2051,13.8843,13.6703,13.4564, 13.2425,13.0288,12.7082,12.4946,12.1744 ,12.0677,11.9631,11.96,11.9579,11.9536, 11.9506,11.9465,11.9463,11.9472,12.1608 ,12.3745,12.5882,12.8021,13.016,13.3369 ,13.6581,13.8723,14.0866,14.3009, 14.6893,14.9589,15.3186,15.4985,15.6785 ,15.8585,16.0385,16.3085,16.4886, 16.6687,16.8488,17.1191,17.2994,17.5697 ,17.75,17.9303,18.1107,18.291,18.5616, 18.742,18.9225,19.1029,19.3735,19.554, 19.7347,19.9152,20.0957,20.2764,20.4564 ,20.6366,20.8172,20.9985,21.1787,21.269 ,21.3858)
FOOTPRINT_POINT_LONGITUDE = (197.983,197.72,197.328,197.056,196.726 ,196.714,196.702,196.703,196.703, 196.703,196.702,196.702,196.702,196.702 ,196.701,196.701,196.7,196.7,196.699, 196.698,196.697,196.696,196.695,196.694 ,196.693,196.691,196.69,196.688,196.687 ,196.686,196.684,196.682,196.681, 196.678,196.674,196.671,196.666,196.662 ,196.658,196.656,196.653,196.65,196.648 ,196.643,196.64,196.636,196.634,196.632 ,196.993,197.2,197.537,197.746,198.007, 198.02,198.024,198.023,198.023,198.022, 198.021,198.021,198.02,198.019,198.018, 198.018,198.017,198.016,198.015,198.014 ,198.014,198.013,198.013,198.012, 198.012,198.011,198.011,198.011,198.01, 198.01,198.009,198.009,198.008,198.008, 198.007,198.007,198.007,198.006,198.006 ,198.005,198.005,198.005,198.004, 198.004,198.003,198.003,198.003,198.003 ,198.002,198.002,198.002,197.983)
ORBIT_NUMBER = 5276
ORBITAL_ECCENTRICITY = 0.572
ORBITAL_INCLINATION = 86.74
ORBITAL_SEMIMAJOR_AXIS = 8701.83
PERIAPSIS_ALTITUDE = 333.26
PERIAPSIS_ARGUMENT_ANGLE = 150.14
PERIAPSIS_TIME = 2008-02-10T05:11:48.000Z
SPACECRAFT_ORIENTATION = (0.0,-1.0,0.0)
^MEX_ORIENTATION_DESC = "MEX_ORIENTATION_DESC.TXT"
SPACECRAFT_POINTING_MODE = ACROSSTRACK
^MEX_POINTING_DESC = "MEX_POINTING_DESC.TXT"
RIGHT_ASCENSION = -1e+32
DECLINATION = -1e+32
OFFSET_ANGLE = 0.2
SPACECRAFT_SOLAR_DISTANCE = 2.43019e+08
TARGET_NAME = MARS
/* CAMERA DATA ELEMENTS */
DETECTOR_TEMPERATURE = 17.351
FOCAL_PLANE_TEMPERATURE = 8.7872
INST_CMPRS_NAME = "DISCRETE COSINE TRANSFORMATION (DCT)"
INST_CMPRS_RATIO = 12.8726
INST_CMPRS_QUALITY = 0
INST_CMPRS_QUANTZ_TBL_ID = 0
INSTRUMENT_TEMPERATURE = 11.234
LENS_TEMPERATURE = 8.7872
MACROPIXEL_SIZE = 4
MISSING_FRAMES = 0
PIXEL_SUBSAMPLING_FLAG = N
SIGNAL_CHAIN_ID = 3
/* RADIOMETRIC DATA ELEMENTS */
BANDWIDTH = 174.0
CENTER_FILTER_WAVELENGTH = 675.0
RADIANCE_OFFSET = 4.98699
RADIANCE_SCALING_FACTOR = 0.0189816
REFLECTANCE_SCALING_FACTOR = 0.000602976
MEX:REFLECTANCE_OFFSET = 0.158418
/* IMAGE OBJECT DEFINITIONS */
OBJECT = IMAGE
  INTERCHANGE_FORMAT = BINARY
  LINES = 11155
  LINE_SAMPLES = 1662
  SAMPLE_TYPE = UNSIGNED_INTEGER
  SAMPLE_BITS = 8
  BANDS = 1
  BAND_STORAGE_TYPE = BAND_SEQUENTIAL
  MAXIMUM = 255
  MEAN = 138.215
  MINIMUM = 1
  STANDARD_DEVIATION = 8.14987
END_OBJECT = IMAGE
/* MAP OBJECT DEFINITIONS */
OBJECT = IMAGE_MAP_PROJECTION
  ^DATA_SET_MAP_PROJECTION_CATALOG= "DSMAP.CAT"
  A_AXIS_RADIUS = 3396.0
  B_AXIS_RADIUS = 3396.0
  C_AXIS_RADIUS = 3396.0
  CENTER_LATITUDE = 0.0
  CENTER_LONGITUDE = 197.0
  COORDINATE_SYSTEM_NAME = PLANETOGRAPHIC
  COORDINATE_SYSTEM_TYPE = "BODY-FIXED ROTATING"
  EASTERNMOST_LONGITUDE = 198.024
  FIRST_STANDARD_PARALLEL = "N/A"
  LINE_FIRST_PIXEL = 1
  LINE_LAST_PIXEL = 11155
  LINE_PROJECTION_OFFSET = 25344.875
  MAP_PROJECTION_ROTATION = 0.0
  MAP_PROJECTION_TYPE = SINUSOIDAL
  MAP_RESOLUTION = 1185.42760773333
  MAP_SCALE = 0.05
  MAXIMUM_LATITUDE = 21.3933
  MINIMUM_LATITUDE = 11.9463
  POSITIVE_LONGITUDE_DIRECTION = EAST
  REFERENCE_LATITUDE = "N/A"
  REFERENCE_LONGITUDE = "N/A"
  SAMPLE_FIRST_PIXEL = 1
  SAMPLE_LAST_PIXEL = 1662
  SAMPLE_PROJECTION_OFFSET = 454.875
  SECOND_STANDARD_PARALLEL = "N/A"
  WESTERNMOST_LONGITUDE = 196.632
END_OBJECT = IMAGE_MAP_PROJECTION
END
