PDS_VERSION_ID = PDS3
/* FILE DATA ELEMENTS */
RECORD_TYPE = UNDEFINED
/* POINTERS TO DATA OBJECTS */
^IMAGE = ("H5275_0000_GR4.TIF")
/* IDENTIFICATION DATA ELEMENTS */
DATA_SET_ID = "MEX-M-HRSC-4-REFDR-MAPPROJECT-EXT2-V4.0"
DATA_SET_NAME = "MARS EXPRESS HRSC MAP PROJECTED REFDR EXTENSION2 V4.0"
DETECTOR_ID = MEX_HRSC_GREEN
EVENT_TYPE = "MARS-REGIONAL-MAPPING-Vo-Te"
INSTRUMENT_HOST_ID = MEX
INSTRUMENT_HOST_NAME = "MARS EXPRESS"
INSTRUMENT_ID = HRSC
INSTRUMENT_NAME = "HIGH RESOLUTION STEREO CAMERA"
MISSION_NAME = "MARS EXPRESS"
MISSION_PHASE_NAME = ME_Phase_11
PROCESSING_LEVEL_ID = 4
PRODUCT_CREATION_TIME = 2023-02-01T12:09:47.000Z
PRODUCT_ID = "H5275_0000_GR4.TIF"
RELEASE_ID = 0001
REVISION_ID = 0000
/* QUALITY DATA ELEMENTS */
DATA_QUALITY_ID = 1
DATA_QUALITY_DESC = "Data calculated based on original SPICE kernels"
/* TIME DATA ELEMENTS */
SPACECRAFT_CLOCK_START_COUNT = "1/0150675241.07290"
SPACECRAFT_CLOCK_STOP_COUNT = "1/0150675551.63147"
START_TIME = 2008-02-09T22:14:46.226Z
STOP_TIME = 2008-02-09T22:18:36.291Z
/* ORBITAL DATA ELEMENTS */
ASCENDING_NODE_LONGITUDE = 118.42
MAXIMUM_RESOLUTION = 0.1155
FOOTPRINT_POINT_LATITUDE = (54.3307,54.3168,54.2994,54.2765, 54.2757,54.2569,53.9414,53.6252,53.3147 ,53.0057,52.6953,52.389,51.9331,51.6293 ,51.3305,51.0311,50.5841,50.2911, 49.9975,49.5581,49.2705,48.9829,48.6933 ,48.4069,48.1251,47.7036,47.2814, 46.7294,46.4526,46.1759,45.8986,45.6211 ,45.3431,44.9256,44.647,44.3681,44.0887 ,43.6688,43.3889,43.1086,42.828,42.5471 ,42.266,41.9845,41.7028,41.1623,40.6891 ,40.0961,39.9773,39.9366,39.9425, 39.9448,39.9456,39.9455,39.9472,40.6603 ,41.1347,41.6681,41.9504,42.2325, 42.5141,42.7958,43.0771,43.3581,43.6388 ,43.9194,44.1996,44.4795,44.7592, 45.0385,45.3176,45.5964,45.8748,46.1528 ,46.4305,46.708,47.2619,47.5431,47.8266 ,48.1094,48.5337,48.8228,49.1118,49.4, 49.8368,50.1317,50.4264,50.8711,51.1718 ,51.472,51.7723,52.0789,52.3852,52.6909 ,53.0029,53.3145,53.7847,54.1023, 54.2609,54.3307)
FOOTPRINT_POINT_LONGITUDE = (298.691,297.611,296.784,295.968, 295.942,295.929,295.972,296.013,296.052 ,296.091,296.129,296.165,296.217, 296.251,296.283,296.315,296.361,296.39, 296.419,296.46,296.487,296.513,296.538, 296.563,296.587,296.621,296.654,296.695 ,296.716,296.735,296.755,296.774, 296.792,296.82,296.837,296.854,296.871, 296.896,296.911,296.927,296.942,296.957 ,296.971,296.985,296.999,297.025, 297.046,297.072,297.077,297.078,297.64, 298.044,298.708,298.724,298.735,298.738 ,298.742,298.745,298.747,298.748, 298.751,298.752,298.754,298.755,298.756 ,298.757,298.759,298.76,298.761,298.762 ,298.762,298.763,298.764,298.765, 298.766,298.767,298.769,298.77,298.771, 298.774,298.774,298.774,298.776,298.781 ,298.783,298.785,298.786,298.785, 298.787,298.789,298.79,298.792,298.792, 298.792,298.795,298.796,298.798,298.799 ,298.799,298.691)
ORBIT_NUMBER = 5275
ORBITAL_ECCENTRICITY = 0.572
ORBITAL_INCLINATION = 86.73
ORBITAL_SEMIMAJOR_AXIS = 8706.88
PERIAPSIS_ALTITUDE = 333.1
PERIAPSIS_ARGUMENT_ANGLE = 150.34
PERIAPSIS_TIME = 2008-02-09T22:21:20.000Z
SPACECRAFT_ORIENTATION = (0.0,-1.0,0.0)
^MEX_ORIENTATION_DESC = "MEX_ORIENTATION_DESC.TXT"
SPACECRAFT_POINTING_MODE = ACROSSTRACK
^MEX_POINTING_DESC = "MEX_POINTING_DESC.TXT"
RIGHT_ASCENSION = -1e+32
DECLINATION = -1e+32
OFFSET_ANGLE = 0.75
SPACECRAFT_SOLAR_DISTANCE = 2.42983e+08
TARGET_NAME = MARS
/* CAMERA DATA ELEMENTS */
DETECTOR_TEMPERATURE = 18.1666
FOCAL_PLANE_TEMPERATURE = 8.1755
INST_CMPRS_NAME = "DISCRETE COSINE TRANSFORMATION (DCT)"
INST_CMPRS_RATIO = 12.8176
INST_CMPRS_QUALITY = 0
INST_CMPRS_QUANTZ_TBL_ID = 0
INSTRUMENT_TEMPERATURE = 11.234
LENS_TEMPERATURE = 8.5833
MACROPIXEL_SIZE = 8
MISSING_FRAMES = 0
PIXEL_SUBSAMPLING_FLAG = N
SIGNAL_CHAIN_ID = 2
/* RADIOMETRIC DATA ELEMENTS */
BANDWIDTH = 88.0
CENTER_FILTER_WAVELENGTH = 538.0
RADIANCE_OFFSET = 1.19496
RADIANCE_SCALING_FACTOR = 0.00539613
REFLECTANCE_SCALING_FACTOR = 0.000274296
MEX:REFLECTANCE_OFFSET = 0.0607421
/* IMAGE OBJECT DEFINITIONS */
OBJECT = IMAGE
  INTERCHANGE_FORMAT = BINARY
  LINES = 8535
  LINE_SAMPLES = 1057
  SAMPLE_TYPE = UNSIGNED_INTEGER
  SAMPLE_BITS = 8
  BANDS = 1
  BAND_STORAGE_TYPE = BAND_SEQUENTIAL
  MAXIMUM = 255
  MEAN = 115.886
  MINIMUM = 1
  STANDARD_DEVIATION = 32.7888
END_OBJECT = IMAGE
/* MAP OBJECT DEFINITIONS */
OBJECT = IMAGE_MAP_PROJECTION
  ^DATA_SET_MAP_PROJECTION_CATALOG= "DSMAP.CAT"
  A_AXIS_RADIUS = 3396.0
  B_AXIS_RADIUS = 3396.0
  C_AXIS_RADIUS = 3396.0
  CENTER_LATITUDE = 0.0
  CENTER_LONGITUDE = 298.0
  COORDINATE_SYSTEM_NAME = PLANETOGRAPHIC
  COORDINATE_SYSTEM_TYPE = "BODY-FIXED ROTATING"
  EASTERNMOST_LONGITUDE = 298.799
  FIRST_STANDARD_PARALLEL = "N/A"
  LINE_FIRST_PIXEL = 1
  LINE_LAST_PIXEL = 8535
  LINE_PROJECTION_OFFSET = 32206.8125
  MAP_PROJECTION_ROTATION = 0.0
  MAP_PROJECTION_TYPE = SINUSOIDAL
  MAP_RESOLUTION = 592.713803866667
  MAP_SCALE = 0.1
  MAXIMUM_LATITUDE = 54.3307
  MINIMUM_LATITUDE = 39.9366
  POSITIVE_LONGITUDE_DIRECTION = EAST
  REFERENCE_LATITUDE = "N/A"
  REFERENCE_LONGITUDE = "N/A"
  SAMPLE_FIRST_PIXEL = 1
  SAMPLE_LAST_PIXEL = 1057
  SAMPLE_PROJECTION_OFFSET = 722.5625
  SECOND_STANDARD_PARALLEL = "N/A"
  WESTERNMOST_LONGITUDE = 295.929
END_OBJECT = IMAGE_MAP_PROJECTION
END
